BEGIN:VCALENDAR
VERSION:2.0
PRODID:-//Brighton Cultural Arts Connection - ECPv6.15.20//NONSGML v1.0//EN
CALSCALE:GREGORIAN
METHOD:PUBLISH
X-WR-CALNAME:Brighton Cultural Arts Connection
X-ORIGINAL-URL:https://brightonculturalarts.org
X-WR-CALDESC:Events for Brighton Cultural Arts Connection
REFRESH-INTERVAL;VALUE=DURATION:PT1H
X-Robots-Tag:noindex
X-PUBLISHED-TTL:PT1H
BEGIN:VTIMEZONE
TZID:America/Denver
BEGIN:DAYLIGHT
TZOFFSETFROM:-0700
TZOFFSETTO:-0600
TZNAME:MDT
DTSTART:20240310T090000
END:DAYLIGHT
BEGIN:STANDARD
TZOFFSETFROM:-0600
TZOFFSETTO:-0700
TZNAME:MST
DTSTART:20241103T080000
END:STANDARD
BEGIN:DAYLIGHT
TZOFFSETFROM:-0700
TZOFFSETTO:-0600
TZNAME:MDT
DTSTART:20250309T090000
END:DAYLIGHT
BEGIN:STANDARD
TZOFFSETFROM:-0600
TZOFFSETTO:-0700
TZNAME:MST
DTSTART:20251102T080000
END:STANDARD
BEGIN:DAYLIGHT
TZOFFSETFROM:-0700
TZOFFSETTO:-0600
TZNAME:MDT
DTSTART:20260308T090000
END:DAYLIGHT
BEGIN:STANDARD
TZOFFSETFROM:-0600
TZOFFSETTO:-0700
TZNAME:MST
DTSTART:20261101T080000
END:STANDARD
END:VTIMEZONE
BEGIN:VEVENT
DTSTART;TZID=America/Denver:20250403T110000
DTEND;TZID=America/Denver:20250403T150000
DTSTAMP:20260419T195132
CREATED:20250221T233148Z
LAST-MODIFIED:20250221T233148Z
UID:10000357-1743678000-1743692400@brightonculturalarts.org
SUMMARY:Drop-in Painting at Main Street Gallery
DESCRIPTION:
URL:https://brightonculturalarts.org/event/drop-in-painting-at-main-street-gallery-9/
LOCATION:Main Street Gallery\, 36 S. Main Street\, Brighton\, CO\, 80601\, United States
CATEGORIES:Art Events
END:VEVENT
BEGIN:VEVENT
DTSTART;TZID=America/Denver:20250409T130000
DTEND;TZID=America/Denver:20250409T150000
DTSTAMP:20260419T195132
CREATED:20250221T180358Z
LAST-MODIFIED:20250221T180358Z
UID:10000275-1744203600-1744210800@brightonculturalarts.org
SUMMARY:Acrylic Painting with Gina De Gorna
DESCRIPTION:
URL:https://brightonculturalarts.org/event/acrylic-painting-with-gina-de-gorna-8/
LOCATION:Main Street Gallery\, 36 S. Main Street\, Brighton\, CO\, 80601\, United States
CATEGORIES:Art Events
END:VEVENT
BEGIN:VEVENT
DTSTART;TZID=America/Denver:20250410T110000
DTEND;TZID=America/Denver:20250410T150000
DTSTAMP:20260419T195132
CREATED:20250221T233252Z
LAST-MODIFIED:20250221T233252Z
UID:10000358-1744282800-1744297200@brightonculturalarts.org
SUMMARY:Drop-in Painting at Main Street Gallery
DESCRIPTION:
URL:https://brightonculturalarts.org/event/drop-in-painting-at-main-street-gallery-10/
LOCATION:Main Street Gallery\, 36 S. Main Street\, Brighton\, CO\, 80601\, United States
CATEGORIES:Art Events
END:VEVENT
BEGIN:VEVENT
DTSTART;TZID=America/Denver:20250411T180000
DTEND;TZID=America/Denver:20250411T200000
DTSTAMP:20260419T195132
CREATED:20250319T165049Z
LAST-MODIFIED:20250319T165049Z
UID:10000402-1744394400-1744401600@brightonculturalarts.org
SUMMARY:Pottery Date Night with Anastasia Bliss Pottery
DESCRIPTION:(Beginner) One-time class of 2 hours. You and a friend/partner will make 2-3 small pieces on the wheel. $55/person \nFor details contact Anastasia at:\nEmail: anastasiabliss@yahoo.com\nText: 970-391-6816
URL:https://brightonculturalarts.org/event/pottery-date-night-with-anastasia-bliss-pottery/
LOCATION:Main Street Gallery\, 36 S. Main Street\, Brighton\, CO\, 80601\, United States
CATEGORIES:Art Events
END:VEVENT
BEGIN:VEVENT
DTSTART;TZID=America/Denver:20250412T130000
DTEND;TZID=America/Denver:20250412T150000
DTSTAMP:20260419T195132
CREATED:20250327T191448Z
LAST-MODIFIED:20250327T191448Z
UID:10000409-1744462800-1744470000@brightonculturalarts.org
SUMMARY:Poetry & Posole
DESCRIPTION:In honor of National Poetry Month CHAC Gallery Presents: Poetry & Posole\, and Open mic with Poet Elena Guerrero-Townsend
URL:https://brightonculturalarts.org/event/poetry-posole/
LOCATION:CHAC Gallery at 40West\, 7060 W 16th Avenue\, Lakewood\, CO\, United States
CATEGORIES:Art Events
END:VEVENT
BEGIN:VEVENT
DTSTART;TZID=America/Denver:20250416T130000
DTEND;TZID=America/Denver:20250416T150000
DTSTAMP:20260419T195132
CREATED:20250221T180434Z
LAST-MODIFIED:20250221T180434Z
UID:10000276-1744808400-1744815600@brightonculturalarts.org
SUMMARY:Acrylic Painting with Gina De Gorna
DESCRIPTION:
URL:https://brightonculturalarts.org/event/acrylic-painting-with-gina-de-gorna-9/
LOCATION:Main Street Gallery\, 36 S. Main Street\, Brighton\, CO\, 80601\, United States
CATEGORIES:Art Events
END:VEVENT
BEGIN:VEVENT
DTSTART;TZID=America/Denver:20250417T110000
DTEND;TZID=America/Denver:20250417T150000
DTSTAMP:20260419T195132
CREATED:20250221T233347Z
LAST-MODIFIED:20250221T233347Z
UID:10000359-1744887600-1744902000@brightonculturalarts.org
SUMMARY:Drop-in Painting at Main Street Gallery
DESCRIPTION:
URL:https://brightonculturalarts.org/event/drop-in-painting-at-main-street-gallery-11/
LOCATION:Main Street Gallery\, 36 S. Main Street\, Brighton\, CO\, 80601\, United States
CATEGORIES:Art Events
END:VEVENT
BEGIN:VEVENT
DTSTART;TZID=America/Denver:20250418T160000
DTEND;TZID=America/Denver:20250418T200000
DTSTAMP:20260419T195132
CREATED:20250319T164410Z
LAST-MODIFIED:20250320T194542Z
UID:10000400-1744992000-1745006400@brightonculturalarts.org
SUMMARY:27J District Art Show
DESCRIPTION:
URL:https://brightonculturalarts.org/event/27j-district-art-show-2/
LOCATION:Adams County Fairgrounds\, 9755 Henderson Rd Bldg. 1\, Brighton\, CO\, 80601\, United States
CATEGORIES:Art Events
END:VEVENT
BEGIN:VEVENT
DTSTART;TZID=America/Denver:20250419T100000
DTEND;TZID=America/Denver:20250419T150000
DTSTAMP:20260419T195132
CREATED:20250319T164451Z
LAST-MODIFIED:20250320T194609Z
UID:10000401-1745056800-1745074800@brightonculturalarts.org
SUMMARY:27J District Art Show
DESCRIPTION:
URL:https://brightonculturalarts.org/event/27j-district-art-show-3/
LOCATION:Adams County Fairgrounds\, 9755 Henderson Rd Bldg. 1\, Brighton\, CO\, 80601\, United States
CATEGORIES:Art Events
END:VEVENT
BEGIN:VEVENT
DTSTART;TZID=America/Denver:20250423T130000
DTEND;TZID=America/Denver:20250423T150000
DTSTAMP:20260419T195132
CREATED:20250221T180509Z
LAST-MODIFIED:20250221T180509Z
UID:10000277-1745413200-1745420400@brightonculturalarts.org
SUMMARY:Acrylic Painting with Gina De Gorna
DESCRIPTION:
URL:https://brightonculturalarts.org/event/acrylic-painting-with-gina-de-gorna-10/
LOCATION:Main Street Gallery\, 36 S. Main Street\, Brighton\, CO\, 80601\, United States
CATEGORIES:Art Events
END:VEVENT
BEGIN:VEVENT
DTSTART;TZID=America/Denver:20250424T110000
DTEND;TZID=America/Denver:20250424T150000
DTSTAMP:20260419T195132
CREATED:20250221T233651Z
LAST-MODIFIED:20250221T233651Z
UID:10000360-1745492400-1745506800@brightonculturalarts.org
SUMMARY:Drop-in Painting at Main Street Gallery
DESCRIPTION:
URL:https://brightonculturalarts.org/event/drop-in-painting-at-main-street-gallery-12/
LOCATION:Main Street Gallery\, 36 S. Main Street\, Brighton\, CO\, 80601\, United States
CATEGORIES:Art Events
END:VEVENT
BEGIN:VEVENT
DTSTART;TZID=America/Denver:20250426T090000
DTEND;TZID=America/Denver:20250426T150000
DTSTAMP:20260419T195132
CREATED:20250219T185956Z
LAST-MODIFIED:20250219T185956Z
UID:10000143-1745658000-1745679600@brightonculturalarts.org
SUMMARY:Plein Air Workshop with Marilyn Fingerlin
DESCRIPTION:
URL:https://brightonculturalarts.org/event/plein-air-workshop-with-marilyn-fingerlin/
LOCATION:Main Street Gallery\, 36 S. Main Street\, Brighton\, CO\, 80601\, United States
CATEGORIES:Art Events
END:VEVENT
BEGIN:VEVENT
DTSTART;TZID=America/Denver:20250429T110000
DTEND;TZID=America/Denver:20250429T150000
DTSTAMP:20260419T195132
CREATED:20250428T171206Z
LAST-MODIFIED:20250428T171206Z
UID:10000421-1745924400-1745938800@brightonculturalarts.org
SUMMARY:Featured Guest Artist Brody Olson Exhibit
DESCRIPTION:
URL:https://brightonculturalarts.org/event/featured-guest-artist-brody-olson-exhibit/
LOCATION:Main Street Gallery\, 36 S. Main Street\, Brighton\, CO\, 80601\, United States
CATEGORIES:Art Events
END:VEVENT
BEGIN:VEVENT
DTSTART;TZID=America/Denver:20250430T110000
DTEND;TZID=America/Denver:20250430T150000
DTSTAMP:20260419T195132
CREATED:20250428T171355Z
LAST-MODIFIED:20250428T171355Z
UID:10000422-1746010800-1746025200@brightonculturalarts.org
SUMMARY:Featured Guest Artist Brody Olson Exhibit
DESCRIPTION:
URL:https://brightonculturalarts.org/event/featured-guest-artist-brody-olson-exhibit-2/
LOCATION:Main Street Gallery\, 36 S. Main Street\, Brighton\, CO\, 80601\, United States
CATEGORIES:Art Events
END:VEVENT
BEGIN:VEVENT
DTSTART;TZID=America/Denver:20250430T130000
DTEND;TZID=America/Denver:20250430T150000
DTSTAMP:20260419T195132
CREATED:20250221T180547Z
LAST-MODIFIED:20250221T180547Z
UID:10000278-1746018000-1746025200@brightonculturalarts.org
SUMMARY:Acrylic Painting with Gina De Gorna
DESCRIPTION:
URL:https://brightonculturalarts.org/event/acrylic-painting-with-gina-de-gorna-11/
LOCATION:Main Street Gallery\, 36 S. Main Street\, Brighton\, CO\, 80601\, United States
CATEGORIES:Art Events
END:VEVENT
BEGIN:VEVENT
DTSTART;TZID=America/Denver:20250501T110000
DTEND;TZID=America/Denver:20250501T150000
DTSTAMP:20260419T195132
CREATED:20250217T173012Z
LAST-MODIFIED:20250220T191249Z
UID:10000138-1746097200-1746111600@brightonculturalarts.org
SUMMARY:Main Street Gallery 6x6 Community Art Show & Sale
DESCRIPTION:
URL:https://brightonculturalarts.org/event/main-street-gallery-6x6-community-art-show-sale/
LOCATION:Main Street Gallery\, 36 S. Main Street\, Brighton\, CO\, 80601\, United States
CATEGORIES:Art Events
END:VEVENT
BEGIN:VEVENT
DTSTART;TZID=America/Denver:20250501T110000
DTEND;TZID=America/Denver:20250501T150000
DTSTAMP:20260419T195132
CREATED:20250221T233808Z
LAST-MODIFIED:20250221T233808Z
UID:10000361-1746097200-1746111600@brightonculturalarts.org
SUMMARY:Drop-in Painting at Main Street Gallery
DESCRIPTION:
URL:https://brightonculturalarts.org/event/drop-in-painting-at-main-street-gallery-13/
LOCATION:Main Street Gallery\, 36 S. Main Street\, Brighton\, CO\, 80601\, United States
CATEGORIES:Art Events
END:VEVENT
BEGIN:VEVENT
DTSTART;TZID=America/Denver:20250501T110000
DTEND;TZID=America/Denver:20250501T150000
DTSTAMP:20260419T195132
CREATED:20250428T171511Z
LAST-MODIFIED:20250428T171511Z
UID:10000423-1746097200-1746111600@brightonculturalarts.org
SUMMARY:Featured Guest Artist Brody Olson Exhibit
DESCRIPTION:
URL:https://brightonculturalarts.org/event/featured-guest-artist-brody-olson-exhibit-3/
LOCATION:Main Street Gallery\, 36 S. Main Street\, Brighton\, CO\, 80601\, United States
CATEGORIES:Art Events
END:VEVENT
BEGIN:VEVENT
DTSTART;TZID=America/Denver:20250502T110000
DTEND;TZID=America/Denver:20250502T150000
DTSTAMP:20260419T195132
CREATED:20250220T191401Z
LAST-MODIFIED:20250220T191401Z
UID:10000201-1746183600-1746198000@brightonculturalarts.org
SUMMARY:Main Street Gallery 6x6 Community Art Show & Sale
DESCRIPTION:
URL:https://brightonculturalarts.org/event/main-street-gallery-6x6-community-art-show-sale-2/
LOCATION:Main Street Gallery\, 36 S. Main Street\, Brighton\, CO\, 80601\, United States
CATEGORIES:Art Events
END:VEVENT
BEGIN:VEVENT
DTSTART;TZID=America/Denver:20250502T110000
DTEND;TZID=America/Denver:20250502T150000
DTSTAMP:20260419T195132
CREATED:20250428T172044Z
LAST-MODIFIED:20250428T172044Z
UID:10000424-1746183600-1746198000@brightonculturalarts.org
SUMMARY:Featured Guest Artist Brody Olson Exhibit
DESCRIPTION:
URL:https://brightonculturalarts.org/event/featured-guest-artist-brody-olson-exhibit-4/
LOCATION:Main Street Gallery\, 36 S. Main Street\, Brighton\, CO\, 80601\, United States
CATEGORIES:Art Events
END:VEVENT
BEGIN:VEVENT
DTSTART;TZID=America/Denver:20250503T110000
DTEND;TZID=America/Denver:20250503T150000
DTSTAMP:20260419T195132
CREATED:20250220T191835Z
LAST-MODIFIED:20250220T191835Z
UID:10000202-1746270000-1746284400@brightonculturalarts.org
SUMMARY:Main Street Gallery 6x6 Community Art Show & Sale
DESCRIPTION:
URL:https://brightonculturalarts.org/event/main-street-gallery-6x6-community-art-show-sale-3/
LOCATION:Main Street Gallery\, 36 S. Main Street\, Brighton\, CO\, 80601\, United States
CATEGORIES:Art Events
END:VEVENT
BEGIN:VEVENT
DTSTART;TZID=America/Denver:20250503T110000
DTEND;TZID=America/Denver:20250503T150000
DTSTAMP:20260419T195132
CREATED:20250428T172223Z
LAST-MODIFIED:20250428T172223Z
UID:10000425-1746270000-1746284400@brightonculturalarts.org
SUMMARY:Featured Guest Artist Brody Olson Exhibit
DESCRIPTION:
URL:https://brightonculturalarts.org/event/featured-guest-artist-brody-olson-exhibit-5/
LOCATION:Main Street Gallery\, 36 S. Main Street\, Brighton\, CO\, 80601\, United States
CATEGORIES:Art Events
END:VEVENT
BEGIN:VEVENT
DTSTART;TZID=America/Denver:20250505T100000
DTEND;TZID=America/Denver:20250505T120000
DTSTAMP:20260419T195132
CREATED:20250422T163912Z
LAST-MODIFIED:20250504T225947Z
UID:10000410-1746439200-1746446400@brightonculturalarts.org
SUMMARY:Kids N' Canvas
DESCRIPTION:Your kids love to paint and create\, but the thought of getting out the craft supplies and cleaning up after makes you twitch. . . Kids ‘n Canvas to the rescue! In just two hours\, a Gallery Guide will instruct a fun and fabulous piece of art while painters follow along creating their own MYsterpiece! It’s guaranteed to bring out creativity\, fun and laughter. But don’t worry\, no art-smarts are needed. Painters will follow simple step-by-step instructions. It’s not a painting class. . . it’s a painting pARTy! Artwork is pre-selected\, but creativity is encouraged! Class includes all supplies\, snacks and fun. This class is for kids 6 to 13 years of age. \n 
URL:https://brightonculturalarts.org/event/kids-n-canvas/
LOCATION:Brighton Recreation Center\, 555 N 11th Avenue\, Brighton\, CO\, 80601\, United States
CATEGORIES:Art Events
END:VEVENT
BEGIN:VEVENT
DTSTART;TZID=America/Denver:20250506T110000
DTEND;TZID=America/Denver:20250506T150000
DTSTAMP:20260419T195132
CREATED:20250220T192001Z
LAST-MODIFIED:20250220T192001Z
UID:10000203-1746529200-1746543600@brightonculturalarts.org
SUMMARY:Main Street Gallery 6x6 Community Art Show & Sale
DESCRIPTION:
URL:https://brightonculturalarts.org/event/main-street-gallery-6x6-community-art-show-sale-4/
LOCATION:Main Street Gallery\, 36 S. Main Street\, Brighton\, CO\, 80601\, United States
CATEGORIES:Art Events
END:VEVENT
BEGIN:VEVENT
DTSTART;TZID=America/Denver:20250506T110000
DTEND;TZID=America/Denver:20250506T150000
DTSTAMP:20260419T195132
CREATED:20250428T172339Z
LAST-MODIFIED:20250428T172339Z
UID:10000426-1746529200-1746543600@brightonculturalarts.org
SUMMARY:Featured Guest Artist Brody Olson Exhibit
DESCRIPTION:
URL:https://brightonculturalarts.org/event/featured-guest-artist-brody-olson-exhibit-6/
LOCATION:Main Street Gallery\, 36 S. Main Street\, Brighton\, CO\, 80601\, United States
CATEGORIES:Art Events
END:VEVENT
BEGIN:VEVENT
DTSTART;TZID=America/Denver:20250507T110000
DTEND;TZID=America/Denver:20250507T150000
DTSTAMP:20260419T195132
CREATED:20250220T192100Z
LAST-MODIFIED:20250220T192100Z
UID:10000204-1746615600-1746630000@brightonculturalarts.org
SUMMARY:Main Street Gallery 6x6 Community Art Show & Sale
DESCRIPTION:
URL:https://brightonculturalarts.org/event/main-street-gallery-6x6-community-art-show-sale-5/
LOCATION:Main Street Gallery\, 36 S. Main Street\, Brighton\, CO\, 80601\, United States
CATEGORIES:Art Events
END:VEVENT
BEGIN:VEVENT
DTSTART;TZID=America/Denver:20250507T110000
DTEND;TZID=America/Denver:20250507T150000
DTSTAMP:20260419T195132
CREATED:20250428T175617Z
LAST-MODIFIED:20250428T175617Z
UID:10000427-1746615600-1746630000@brightonculturalarts.org
SUMMARY:Featured Guest Artist Brody Olson Exhibit
DESCRIPTION:
URL:https://brightonculturalarts.org/event/featured-guest-artist-brody-olson-exhibit-7/
LOCATION:Main Street Gallery\, 36 S. Main Street\, Brighton\, CO\, 80601\, United States
CATEGORIES:Art Events
END:VEVENT
BEGIN:VEVENT
DTSTART;TZID=America/Denver:20250507T130000
DTEND;TZID=America/Denver:20250507T150000
DTSTAMP:20260419T195132
CREATED:20250221T180741Z
LAST-MODIFIED:20250221T180741Z
UID:10000279-1746622800-1746630000@brightonculturalarts.org
SUMMARY:Acrylic Painting with Gina De Gorna
DESCRIPTION:
URL:https://brightonculturalarts.org/event/acrylic-painting-with-gina-de-gorna-12/
LOCATION:Main Street Gallery\, 36 S. Main Street\, Brighton\, CO\, 80601\, United States
CATEGORIES:Art Events
END:VEVENT
BEGIN:VEVENT
DTSTART;TZID=America/Denver:20250508T110000
DTEND;TZID=America/Denver:20250508T150000
DTSTAMP:20260419T195132
CREATED:20250220T192145Z
LAST-MODIFIED:20250220T192145Z
UID:10000205-1746702000-1746716400@brightonculturalarts.org
SUMMARY:Main Street Gallery 6x6 Community Art Show & Sale
DESCRIPTION:
URL:https://brightonculturalarts.org/event/main-street-gallery-6x6-community-art-show-sale-6/
LOCATION:Main Street Gallery\, 36 S. Main Street\, Brighton\, CO\, 80601\, United States
CATEGORIES:Art Events
END:VEVENT
BEGIN:VEVENT
DTSTART;TZID=America/Denver:20250508T110000
DTEND;TZID=America/Denver:20250508T150000
DTSTAMP:20260419T195132
CREATED:20250221T233930Z
LAST-MODIFIED:20250221T233930Z
UID:10000362-1746702000-1746716400@brightonculturalarts.org
SUMMARY:Drop-in Painting at Main Street Gallery
DESCRIPTION:
URL:https://brightonculturalarts.org/event/drop-in-painting-at-main-street-gallery-14/
LOCATION:Main Street Gallery\, 36 S. Main Street\, Brighton\, CO\, 80601\, United States
CATEGORIES:Art Events
END:VEVENT
END:VCALENDAR