BEGIN:VCALENDAR
VERSION:2.0
PRODID:-//Brighton Cultural Arts Connection - ECPv6.15.20//NONSGML v1.0//EN
CALSCALE:GREGORIAN
METHOD:PUBLISH
X-WR-CALNAME:Brighton Cultural Arts Connection
X-ORIGINAL-URL:https://brightonculturalarts.org
X-WR-CALDESC:Events for Brighton Cultural Arts Connection
REFRESH-INTERVAL;VALUE=DURATION:PT1H
X-Robots-Tag:noindex
X-PUBLISHED-TTL:PT1H
BEGIN:VTIMEZONE
TZID:America/Denver
BEGIN:DAYLIGHT
TZOFFSETFROM:-0700
TZOFFSETTO:-0600
TZNAME:MDT
DTSTART:20240310T090000
END:DAYLIGHT
BEGIN:STANDARD
TZOFFSETFROM:-0600
TZOFFSETTO:-0700
TZNAME:MST
DTSTART:20241103T080000
END:STANDARD
BEGIN:DAYLIGHT
TZOFFSETFROM:-0700
TZOFFSETTO:-0600
TZNAME:MDT
DTSTART:20250309T090000
END:DAYLIGHT
BEGIN:STANDARD
TZOFFSETFROM:-0600
TZOFFSETTO:-0700
TZNAME:MST
DTSTART:20251102T080000
END:STANDARD
BEGIN:DAYLIGHT
TZOFFSETFROM:-0700
TZOFFSETTO:-0600
TZNAME:MDT
DTSTART:20260308T090000
END:DAYLIGHT
BEGIN:STANDARD
TZOFFSETFROM:-0600
TZOFFSETTO:-0700
TZNAME:MST
DTSTART:20261101T080000
END:STANDARD
BEGIN:DAYLIGHT
TZOFFSETFROM:-0700
TZOFFSETTO:-0600
TZNAME:MDT
DTSTART:20270314T090000
END:DAYLIGHT
BEGIN:STANDARD
TZOFFSETFROM:-0600
TZOFFSETTO:-0700
TZNAME:MST
DTSTART:20271107T080000
END:STANDARD
END:VTIMEZONE
BEGIN:VEVENT
DTSTART;TZID=America/Denver:20250807T173000
DTEND;TZID=America/Denver:20250807T210000
DTSTAMP:20260420T094553
CREATED:20250428T194342Z
LAST-MODIFIED:20250428T194342Z
UID:10000468-1754587800-1754600400@brightonculturalarts.org
SUMMARY:Flix & Kicks –Inside Out 2 & Drone Show
DESCRIPTION:Activities Start: 5:30 p.m.\nMovie Starts: 7 p.m. featuring Inside Out 2 (2024\,PG)\nDrone Show Starts: Time TBA
URL:https://brightonculturalarts.org/event/flix-kicks-inside-out-2-drone-show/
LOCATION:Carmichael Park\, 650 Southern Street\, Brighton\, CO\, 80601\, United States
CATEGORIES:Theatre Events
END:VEVENT
BEGIN:VEVENT
DTSTART;TZID=America/Denver:20250815T181500
DTEND;TZID=America/Denver:20250815T220000
DTSTAMP:20260420T094553
CREATED:20250221T025305Z
LAST-MODIFIED:20250221T025305Z
UID:10000270-1755281700-1755295200@brightonculturalarts.org
SUMMARY:Brighton on Broadway by Platte Valley Players
DESCRIPTION:JOIN US for a night of good food and live Broadway musical performances all in support of award-winning & youth theatre!\n​\nAttendees will enjoy buffet dinner\, a cash bar and a show with Platte Valley Theatre Arts’ best performers–live musicians\, a hilarious emcee and your favorite showtunes.\n​\nMore information to come!
URL:https://brightonculturalarts.org/event/brighton-on-broadway-by-platte-valley-players/
LOCATION:Armory Performing Arts Center\, 300 Strong Street\, Brighton\, CO\, 80601\, United States
CATEGORIES:Theatre Events
END:VEVENT
BEGIN:VEVENT
DTSTART;TZID=America/Denver:20251010T193000
DTEND;TZID=America/Denver:20251010T210000
DTSTAMP:20260420T094553
CREATED:20250221T025726Z
LAST-MODIFIED:20250221T025726Z
UID:10000271-1760124600-1760130000@brightonculturalarts.org
SUMMARY:Frankenstein by Platte Valley Players
DESCRIPTION:Nick Dear’s adaptation of Frankenstein delves into the dark complexities of creation\, ambition\, and humanity. Told through the eyes of the Creature\, the story explores what it means to be human in a world that often fears the unfamiliar. Through its gripping narrative\, the play examines themes of isolation\, the consequences of unchecked ambition\, and the longing for connection\, offering a haunting reflection on our own capacity for empathy and cruelty.\n​\nWhat sets this adaptation apart is its raw emotional depth\, visceral storytelling\, and bold staging. Audiences are drawn into the Creature’s journey in an intense\, thought-provoking way that challenges traditional notions of hero and monster.
URL:https://brightonculturalarts.org/event/frankenstein-by-platte-valley-players/
LOCATION:Armory Performing Arts Center\, 300 Strong Street\, Brighton\, CO\, 80601\, United States
CATEGORIES:Theatre Events
END:VEVENT
BEGIN:VEVENT
DTSTART;TZID=America/Denver:20251011T140000
DTEND;TZID=America/Denver:20251011T163000
DTSTAMP:20260420T094553
CREATED:20250221T030209Z
LAST-MODIFIED:20250221T030209Z
UID:10000272-1760191200-1760200200@brightonculturalarts.org
SUMMARY:Frankenstein by Platte Valley Players
DESCRIPTION:Nick Dear’s adaptation of Frankenstein delves into the dark complexities of creation\, ambition\, and humanity. Told through the eyes of the Creature\, the story explores what it means to be human in a world that often fears the unfamiliar. Through its gripping narrative\, the play examines themes of isolation\, the consequences of unchecked ambition\, and the longing for connection\, offering a haunting reflection on our own capacity for empathy and cruelty.\n​\nWhat sets this adaptation apart is its raw emotional depth\, visceral storytelling\, and bold staging. Audiences are drawn into the Creature’s journey in an intense\, thought-provoking way that challenges traditional notions of hero and monster.
URL:https://brightonculturalarts.org/event/frankenstein-by-platte-valley-players-2/
LOCATION:Armory Performing Arts Center\, 300 Strong Street\, Brighton\, CO\, 80601\, United States
CATEGORIES:Theatre Events
END:VEVENT
BEGIN:VEVENT
DTSTART;TZID=America/Denver:20251011T193000
DTEND;TZID=America/Denver:20251011T210000
DTSTAMP:20260420T094553
CREATED:20250221T030312Z
LAST-MODIFIED:20250221T030312Z
UID:10000273-1760211000-1760216400@brightonculturalarts.org
SUMMARY:Frankenstein by Platte Valley Players
DESCRIPTION:Nick Dear’s adaptation of Frankenstein delves into the dark complexities of creation\, ambition\, and humanity. Told through the eyes of the Creature\, the story explores what it means to be human in a world that often fears the unfamiliar. Through its gripping narrative\, the play examines themes of isolation\, the consequences of unchecked ambition\, and the longing for connection\, offering a haunting reflection on our own capacity for empathy and cruelty.\n​\nWhat sets this adaptation apart is its raw emotional depth\, visceral storytelling\, and bold staging. Audiences are drawn into the Creature’s journey in an intense\, thought-provoking way that challenges traditional notions of hero and monster.
URL:https://brightonculturalarts.org/event/frankenstein-by-platte-valley-players-3/
LOCATION:Armory Performing Arts Center\, 300 Strong Street\, Brighton\, CO\, 80601\, United States
CATEGORIES:Theatre Events
END:VEVENT
BEGIN:VEVENT
DTSTART;TZID=America/Denver:20251016T193000
DTEND;TZID=America/Denver:20251016T210000
DTSTAMP:20260420T094553
CREATED:20250221T230904Z
LAST-MODIFIED:20250221T230904Z
UID:10000350-1760643000-1760648400@brightonculturalarts.org
SUMMARY:Frankenstein by Platte Valley Players
DESCRIPTION:Nick Dear’s adaptation of Frankenstein delves into the dark complexities of creation\, ambition\, and humanity. Told through the eyes of the Creature\, the story explores what it means to be human in a world that often fears the unfamiliar. Through its gripping narrative\, the play examines themes of isolation\, the consequences of unchecked ambition\, and the longing for connection\, offering a haunting reflection on our own capacity for empathy and cruelty.\n​\nWhat sets this adaptation apart is its raw emotional depth\, visceral storytelling\, and bold staging. Audiences are drawn into the Creature’s journey in an intense\, thought-provoking way that challenges traditional notions of hero and monster.
URL:https://brightonculturalarts.org/event/frankenstein-by-platte-valley-players-4/
LOCATION:Armory Performing Arts Center\, 300 Strong Street\, Brighton\, CO\, 80601\, United States
CATEGORIES:Theatre Events
END:VEVENT
BEGIN:VEVENT
DTSTART;TZID=America/Denver:20251017T193000
DTEND;TZID=America/Denver:20251017T210000
DTSTAMP:20260420T094553
CREATED:20250221T231512Z
LAST-MODIFIED:20250221T231512Z
UID:10000351-1760729400-1760734800@brightonculturalarts.org
SUMMARY:Frankenstein by Platte Valley Players
DESCRIPTION:Nick Dear’s adaptation of Frankenstein delves into the dark complexities of creation\, ambition\, and humanity. Told through the eyes of the Creature\, the story explores what it means to be human in a world that often fears the unfamiliar. Through its gripping narrative\, the play examines themes of isolation\, the consequences of unchecked ambition\, and the longing for connection\, offering a haunting reflection on our own capacity for empathy and cruelty.\n​\nWhat sets this adaptation apart is its raw emotional depth\, visceral storytelling\, and bold staging. Audiences are drawn into the Creature’s journey in an intense\, thought-provoking way that challenges traditional notions of hero and monster.
URL:https://brightonculturalarts.org/event/frankenstein-by-platte-valley-players-5/
LOCATION:Armory Performing Arts Center\, 300 Strong Street\, Brighton\, CO\, 80601\, United States
CATEGORIES:Theatre Events
END:VEVENT
BEGIN:VEVENT
DTSTART;TZID=America/Denver:20251018T140000
DTEND;TZID=America/Denver:20251018T163000
DTSTAMP:20260420T094553
CREATED:20250221T231728Z
LAST-MODIFIED:20250221T231728Z
UID:10000352-1760796000-1760805000@brightonculturalarts.org
SUMMARY:Frankenstein by Platte Valley Players
DESCRIPTION:Nick Dear’s adaptation of Frankenstein delves into the dark complexities of creation\, ambition\, and humanity. Told through the eyes of the Creature\, the story explores what it means to be human in a world that often fears the unfamiliar. Through its gripping narrative\, the play examines themes of isolation\, the consequences of unchecked ambition\, and the longing for connection\, offering a haunting reflection on our own capacity for empathy and cruelty.\n​\nWhat sets this adaptation apart is its raw emotional depth\, visceral storytelling\, and bold staging. Audiences are drawn into the Creature’s journey in an intense\, thought-provoking way that challenges traditional notions of hero and monster.
URL:https://brightonculturalarts.org/event/frankenstein-by-platte-valley-players-6/
LOCATION:Armory Performing Arts Center\, 300 Strong Street\, Brighton\, CO\, 80601\, United States
CATEGORIES:Theatre Events
END:VEVENT
BEGIN:VEVENT
DTSTART;TZID=America/Denver:20251018T193000
DTEND;TZID=America/Denver:20251018T210000
DTSTAMP:20260420T094553
CREATED:20250221T231954Z
LAST-MODIFIED:20250221T231954Z
UID:10000353-1760815800-1760821200@brightonculturalarts.org
SUMMARY:Frankenstein by Platte Valley Players
DESCRIPTION:Nick Dear’s adaptation of Frankenstein delves into the dark complexities of creation\, ambition\, and humanity. Told through the eyes of the Creature\, the story explores what it means to be human in a world that often fears the unfamiliar. Through its gripping narrative\, the play examines themes of isolation\, the consequences of unchecked ambition\, and the longing for connection\, offering a haunting reflection on our own capacity for empathy and cruelty.\n​\nWhat sets this adaptation apart is its raw emotional depth\, visceral storytelling\, and bold staging. Audiences are drawn into the Creature’s journey in an intense\, thought-provoking way that challenges traditional notions of hero and monster.
URL:https://brightonculturalarts.org/event/frankenstein-by-platte-valley-players-7/
LOCATION:Armory Performing Arts Center\, 300 Strong Street\, Brighton\, CO\, 80601\, United States
CATEGORIES:Theatre Events
END:VEVENT
BEGIN:VEVENT
DTSTART;TZID=America/Denver:20251019T140000
DTEND;TZID=America/Denver:20251019T163000
DTSTAMP:20260420T094553
CREATED:20250221T232302Z
LAST-MODIFIED:20250221T232302Z
UID:10000354-1760882400-1760891400@brightonculturalarts.org
SUMMARY:Frankenstein by Platte Valley Players
DESCRIPTION:Nick Dear’s adaptation of Frankenstein delves into the dark complexities of creation\, ambition\, and humanity. Told through the eyes of the Creature\, the story explores what it means to be human in a world that often fears the unfamiliar. Through its gripping narrative\, the play examines themes of isolation\, the consequences of unchecked ambition\, and the longing for connection\, offering a haunting reflection on our own capacity for empathy and cruelty.\n​\nWhat sets this adaptation apart is its raw emotional depth\, visceral storytelling\, and bold staging. Audiences are drawn into the Creature’s journey in an intense\, thought-provoking way that challenges traditional notions of hero and monster.
URL:https://brightonculturalarts.org/event/frankenstein-by-platte-valley-players-8/
LOCATION:Armory Performing Arts Center\, 300 Strong Street\, Brighton\, CO\, 80601\, United States
CATEGORIES:Theatre Events
END:VEVENT
BEGIN:VEVENT
DTSTART;TZID=America/Denver:20251101T100000
DTEND;TZID=America/Denver:20251101T110000
DTSTAMP:20260420T094553
CREATED:20251022T162121Z
LAST-MODIFIED:20251022T162217Z
UID:10000610-1761991200-1761994800@brightonculturalarts.org
SUMMARY:The Lion\, The Witch and The Wardrobe
DESCRIPTION:FREE SHOW FOR ALL AGES! Tickets are free but must be reserved in advance. \nAn entertaining and innovative treatment of the classic C.S. Lewis story. The heroic tale of love\, faith\, courage and giving; the life and death struggle for control of Narnia and the grandeur of the triumph of good over evil has enthralled audiences of all ages. This unique and excellent two-actor adaptation was toured by Lincoln Center. \nThis production is generously sponsored by the Brighton Cultural Arts Commission and the City of Brighton Lodging Tax Grant. \nProduced by special arrangement with THE DRAMATIC PUBLISHING COMPANY of Woodstock\, Illinois.
URL:https://brightonculturalarts.org/event/the-lion-the-witch-and-the-wardrobe/
LOCATION:Armory Performing Arts Center\, 300 Strong Street\, Brighton\, CO\, 80601\, United States
CATEGORIES:Kids,Theatre Events
END:VEVENT
BEGIN:VEVENT
DTSTART;TZID=America/Denver:20251101T113000
DTEND;TZID=America/Denver:20251101T123000
DTSTAMP:20260420T094553
CREATED:20251022T162355Z
LAST-MODIFIED:20251022T162355Z
UID:10000611-1761996600-1762000200@brightonculturalarts.org
SUMMARY:The Lion\, The Witch and The Wardrobe
DESCRIPTION:FREE SHOW FOR ALL AGES! Tickets are free but must be reserved in advance. \nAn entertaining and innovative treatment of the classic C.S. Lewis story. The heroic tale of love\, faith\, courage and giving; the life and death struggle for control of Narnia and the grandeur of the triumph of good over evil has enthralled audiences of all ages. This unique and excellent two-actor adaptation was toured by Lincoln Center. \nThis production is generously sponsored by the Brighton Cultural Arts Commission and the City of Brighton Lodging Tax Grant. \nProduced by special arrangement with THE DRAMATIC PUBLISHING COMPANY of Woodstock\, Illinois.
URL:https://brightonculturalarts.org/event/the-lion-the-witch-and-the-wardrobe-2/
LOCATION:Armory Performing Arts Center\, 300 Strong Street\, Brighton\, CO\, 80601\, United States
CATEGORIES:Kids,Theatre Events
END:VEVENT
BEGIN:VEVENT
DTSTART;TZID=America/Denver:20251103T100000
DTEND;TZID=America/Denver:20251103T110000
DTSTAMP:20260420T094553
CREATED:20251022T163421Z
LAST-MODIFIED:20251022T163421Z
UID:10000612-1762164000-1762167600@brightonculturalarts.org
SUMMARY:The Lion\, The Witch and The Wardrobe
DESCRIPTION:FREE SHOW FOR ALL AGES! Tickets are free but must be reserved in advance. \nAn entertaining and innovative treatment of the classic C.S. Lewis story. The heroic tale of love\, faith\, courage and giving; the life and death struggle for control of Narnia and the grandeur of the triumph of good over evil has enthralled audiences of all ages. This unique and excellent two-actor adaptation was toured by Lincoln Center. \nThis production is generously sponsored by the Brighton Cultural Arts Commission and the City of Brighton Lodging Tax Grant. \nProduced by special arrangement with THE DRAMATIC PUBLISHING COMPANY of Woodstock\, Illinois.
URL:https://brightonculturalarts.org/event/the-lion-the-witch-and-the-wardrobe-3/
LOCATION:Armory Performing Arts Center\, 300 Strong Street\, Brighton\, CO\, 80601\, United States
CATEGORIES:Kids,Theatre Events
END:VEVENT
BEGIN:VEVENT
DTSTART;TZID=America/Denver:20251103T113000
DTEND;TZID=America/Denver:20251103T123000
DTSTAMP:20260420T094553
CREATED:20251022T163540Z
LAST-MODIFIED:20251022T163540Z
UID:10000613-1762169400-1762173000@brightonculturalarts.org
SUMMARY:The Lion\, The Witch and The Wardrobe
DESCRIPTION:FREE SHOW FOR ALL AGES! Tickets are free but must be reserved in advance. \nAn entertaining and innovative treatment of the classic C.S. Lewis story. The heroic tale of love\, faith\, courage and giving; the life and death struggle for control of Narnia and the grandeur of the triumph of good over evil has enthralled audiences of all ages. This unique and excellent two-actor adaptation was toured by Lincoln Center. \nThis production is generously sponsored by the Brighton Cultural Arts Commission and the City of Brighton Lodging Tax Grant. \nProduced by special arrangement with THE DRAMATIC PUBLISHING COMPANY of Woodstock\, Illinois.
URL:https://brightonculturalarts.org/event/the-lion-the-witch-and-the-wardrobe-4/
LOCATION:Armory Performing Arts Center\, 300 Strong Street\, Brighton\, CO\, 80601\, United States
CATEGORIES:Kids,Theatre Events
END:VEVENT
BEGIN:VEVENT
DTSTART;TZID=America/Denver:20251115T090000
DTEND;TZID=America/Denver:20251115T153000
DTSTAMP:20260420T094553
CREATED:20251022T163908Z
LAST-MODIFIED:20251022T163908Z
UID:10000614-1763197200-1763220600@brightonculturalarts.org
SUMMARY:Platte Valley Youth Theatre - Seasonal Musical Theatre Mini Workshop - Session 2
DESCRIPTION:Winter-themed songs \n    2nd-5th grade – 9:00-11:30 a.m.\n    5th-8th grade – 12:30-3:30 p.m. \nCOST: $25 per youth per session. Scholarships are available\, contact pvyt@plattevalleytheatrearts.org for more information. \nLOCATION: Trail Winds Rec Center (13495 Holly St\, Thornton\, CO 80602) \nCome join us for a seasonal musical theater workshop. Learn an entire musical theatre number in a few hours and perform it for your family at the end of the class! These sessions will increase your skills of learning musical theater quickly\, and increase your confidence performing through hard work\, dedication and lots of fun!
URL:https://brightonculturalarts.org/event/platte-valley-youth-theatre-seasonal-musical-theatre-mini-workshop-session-2/
LOCATION:Trail Winds Rec Center\, 13495 Holly Street\, Thornton\, CO\, 80602\, United States
CATEGORIES:Kids,Theatre Events
END:VEVENT
BEGIN:VEVENT
DTSTART;TZID=America/Denver:20260131T140000
DTEND;TZID=America/Denver:20260131T160000
DTSTAMP:20260420T094553
CREATED:20251229T205548Z
LAST-MODIFIED:20251229T205548Z
UID:10000649-1769868000-1769875200@brightonculturalarts.org
SUMMARY:Hold These Truths
DESCRIPTION:Hold These Truths is a powerful and inspiring drama based on the true story of Gordon Hirabayashi\, a Japanese American who courageously challenged the injustice of Japanese American internment during World War II. The play follows Hirabayashi’s journey from a young student to a principled activist\, as he faces impossible choices\, legal battles\, and the weight of standing up for what is right in the face of widespread prejudice.​ \nThrough compelling performances and carefully crafted storytelling\, the play explores themes of courage\, identity\, justice\, and the cost of moral conviction. Audiences can expect an emotionally resonant experience that challenges them to reflect on history\, the resilience of the human spirit\, and the ongoing importance of standing up for truth and equality.
URL:https://brightonculturalarts.org/event/hold-these-truths-2/
LOCATION:Armory Performing Arts Center\, 300 Strong Street\, Brighton\, CO\, 80601\, United States
CATEGORIES:Theatre Events
END:VEVENT
BEGIN:VEVENT
DTSTART;TZID=America/Denver:20260131T193000
DTEND;TZID=America/Denver:20260131T210000
DTSTAMP:20260420T094553
CREATED:20251229T205707Z
LAST-MODIFIED:20251229T205707Z
UID:10000650-1769887800-1769893200@brightonculturalarts.org
SUMMARY:Hold These Truths
DESCRIPTION:Hold These Truths is a powerful and inspiring drama based on the true story of Gordon Hirabayashi\, a Japanese American who courageously challenged the injustice of Japanese American internment during World War II. The play follows Hirabayashi’s journey from a young student to a principled activist\, as he faces impossible choices\, legal battles\, and the weight of standing up for what is right in the face of widespread prejudice.​ \nThrough compelling performances and carefully crafted storytelling\, the play explores themes of courage\, identity\, justice\, and the cost of moral conviction. Audiences can expect an emotionally resonant experience that challenges them to reflect on history\, the resilience of the human spirit\, and the ongoing importance of standing up for truth and equality.
URL:https://brightonculturalarts.org/event/hold-these-truths-3/
LOCATION:Armory Performing Arts Center\, 300 Strong Street\, Brighton\, CO\, 80601\, United States
CATEGORIES:Theatre Events
END:VEVENT
BEGIN:VEVENT
DTSTART;TZID=America/Denver:20260206T190000
DTEND;TZID=America/Denver:20260206T210000
DTSTAMP:20260420T094553
CREATED:20251229T205839Z
LAST-MODIFIED:20251229T205839Z
UID:10000651-1770404400-1770411600@brightonculturalarts.org
SUMMARY:Hold these Truths
DESCRIPTION:Hold These Truths is a powerful and inspiring drama based on the true story of Gordon Hirabayashi\, a Japanese American who courageously challenged the injustice of Japanese American internment during World War II. The play follows Hirabayashi’s journey from a young student to a principled activist\, as he faces impossible choices\, legal battles\, and the weight of standing up for what is right in the face of widespread prejudice. \nThrough compelling performances and carefully crafted storytelling\, the play explores themes of courage\, identity\, justice\, and the cost of moral conviction. Audiences can expect an emotionally resonant experience that challenges them to reflect on history\, the resilience of the human spirit\, and the ongoing importance of standing up for truth and equality.
URL:https://brightonculturalarts.org/event/hold-these-truths-4/
LOCATION:Armory Performing Arts Center\, 300 Strong Street\, Brighton\, CO\, 80601\, United States
CATEGORIES:Theatre Events
END:VEVENT
BEGIN:VEVENT
DTSTART;TZID=America/Denver:20260207T140000
DTEND;TZID=America/Denver:20260207T160000
DTSTAMP:20260420T094553
CREATED:20251229T205942Z
LAST-MODIFIED:20251229T205942Z
UID:10000652-1770472800-1770480000@brightonculturalarts.org
SUMMARY:Hold These Truths
DESCRIPTION:Hold These Truths is a powerful and inspiring drama based on the true story of Gordon Hirabayashi\, a Japanese American who courageously challenged the injustice of Japanese American internment during World War II. The play follows Hirabayashi’s journey from a young student to a principled activist\, as he faces impossible choices\, legal battles\, and the weight of standing up for what is right in the face of widespread prejudice. \nThrough compelling performances and carefully crafted storytelling\, the play explores themes of courage\, identity\, justice\, and the cost of moral conviction. Audiences can expect an emotionally resonant experience that challenges them to reflect on history\, the resilience of the human spirit\, and the ongoing importance of standing up for truth and equality.
URL:https://brightonculturalarts.org/event/hold-these-truths-5/
LOCATION:Armory Performing Arts Center\, 300 Strong Street\, Brighton\, CO\, 80601\, United States
CATEGORIES:Theatre Events
END:VEVENT
BEGIN:VEVENT
DTSTART;TZID=America/Denver:20260207T193000
DTEND;TZID=America/Denver:20260207T210000
DTSTAMP:20260420T094553
CREATED:20251229T210056Z
LAST-MODIFIED:20251229T210056Z
UID:10000653-1770492600-1770498000@brightonculturalarts.org
SUMMARY:Hold These Truths
DESCRIPTION:Hold These Truths is a powerful and inspiring drama based on the true story of Gordon Hirabayashi\, a Japanese American who courageously challenged the injustice of Japanese American internment during World War II. The play follows Hirabayashi’s journey from a young student to a principled activist\, as he faces impossible choices\, legal battles\, and the weight of standing up for what is right in the face of widespread prejudice. \nThrough compelling performances and carefully crafted storytelling\, the play explores themes of courage\, identity\, justice\, and the cost of moral conviction. Audiences can expect an emotionally resonant experience that challenges them to reflect on history\, the resilience of the human spirit\, and the ongoing importance of standing up for truth and equality.
URL:https://brightonculturalarts.org/event/hold-these-truths-6/
LOCATION:Armory Performing Arts Center\, 300 Strong Street\, Brighton\, CO\, 80601\, United States
CATEGORIES:Theatre Events
END:VEVENT
BEGIN:VEVENT
DTSTART;TZID=America/Denver:20260323T090000
DTEND;TZID=America/Denver:20260327T130000
DTSTAMP:20260420T094553
CREATED:20260106T191432Z
LAST-MODIFIED:20260106T191432Z
UID:10000895-1774256400-1774616400@brightonculturalarts.org
SUMMARY:5280 Theater Camp - Mystery Camp
DESCRIPTION:5280 Theater Camp – Mystery Camp Lights\, curtain…shhh it’s a surprise!\, Young performers will discover the magic of the stage while learning the fundamentals of theater. Through fun games\, creative exercises\, and hands-on workshops\, campers will explore acting\, voice\, movement\, and storytelling. They’ll build confidence\, imagination\, and teamwork as they bring characters to life and create a performance for family and friends at the end of the week!
URL:https://brightonculturalarts.org/event/5280-theater-camp-mystery-camp/
LOCATION:Brighton Recreation Center\, 555 N 11th Avenue\, Brighton\, CO\, 80601\, United States
CATEGORIES:Kids,Theatre Events
END:VEVENT
END:VCALENDAR