BEGIN:VCALENDAR
VERSION:2.0
PRODID:-//Brighton Cultural Arts Connection - ECPv6.15.20//NONSGML v1.0//EN
CALSCALE:GREGORIAN
METHOD:PUBLISH
X-WR-CALNAME:Brighton Cultural Arts Connection
X-ORIGINAL-URL:https://brightonculturalarts.org
X-WR-CALDESC:Events for Brighton Cultural Arts Connection
REFRESH-INTERVAL;VALUE=DURATION:PT1H
X-Robots-Tag:noindex
X-PUBLISHED-TTL:PT1H
BEGIN:VTIMEZONE
TZID:America/Denver
BEGIN:DAYLIGHT
TZOFFSETFROM:-0700
TZOFFSETTO:-0600
TZNAME:MDT
DTSTART:20220313T090000
END:DAYLIGHT
BEGIN:STANDARD
TZOFFSETFROM:-0600
TZOFFSETTO:-0700
TZNAME:MST
DTSTART:20221106T080000
END:STANDARD
BEGIN:DAYLIGHT
TZOFFSETFROM:-0700
TZOFFSETTO:-0600
TZNAME:MDT
DTSTART:20230312T090000
END:DAYLIGHT
BEGIN:STANDARD
TZOFFSETFROM:-0600
TZOFFSETTO:-0700
TZNAME:MST
DTSTART:20231105T080000
END:STANDARD
BEGIN:DAYLIGHT
TZOFFSETFROM:-0700
TZOFFSETTO:-0600
TZNAME:MDT
DTSTART:20240310T090000
END:DAYLIGHT
BEGIN:STANDARD
TZOFFSETFROM:-0600
TZOFFSETTO:-0700
TZNAME:MST
DTSTART:20241103T080000
END:STANDARD
END:VTIMEZONE
BEGIN:VEVENT
DTSTART;TZID=America/Denver:20231204T040000
DTEND;TZID=America/Denver:20231204T060000
DTSTAMP:20260420T011112
CREATED:20231013T222022Z
LAST-MODIFIED:20231120T234843Z
UID:10000001-1701662400-1701669600@brightonculturalarts.org
SUMMARY:BCAC Monthly Meeting
DESCRIPTION:
URL:https://brightonculturalarts.org/event/bcac-monthly-meeting/
LOCATION:Brighton School District 27J Building\, 18551 E. 160th Avenue\, Brighton\, CO\, 80601\, United States
CATEGORIES:BCAC Events,Monthly Meetings
END:VEVENT
BEGIN:VEVENT
DTSTART;TZID=America/Denver:20231129T090000
DTEND;TZID=America/Denver:20231129T130000
DTSTAMP:20260420T011112
CREATED:20231121T110740Z
LAST-MODIFIED:20231121T110740Z
UID:10000003-1701248400-1701262800@brightonculturalarts.org
SUMMARY:Artisan Holiday Bazaar
DESCRIPTION:An evening of holiday shopping! Local Artists selling Fine Arts and Crafts. Unique One of a Kind Gifts! \nLight refreshments will be served!
URL:https://brightonculturalarts.org/event/artisan-holiday-bazaar/
LOCATION:Armory Performing Arts Center\, 300 Strong Street\, Brighton\, CO\, 80601\, United States
CATEGORIES:BCAC Events
END:VEVENT
BEGIN:VEVENT
DTSTART;TZID=America/Denver:20231127T040000
DTEND;TZID=America/Denver:20231127T060000
DTSTAMP:20260420T011112
CREATED:20231013T222128Z
LAST-MODIFIED:20231120T234817Z
UID:10000002-1701057600-1701064800@brightonculturalarts.org
SUMMARY:Brighton Public Art Monthly Meeting
DESCRIPTION:
URL:https://brightonculturalarts.org/event/brighton-public-art-monthly-meeting/
LOCATION:Brighton School District 27J Building\, 18551 E. 160th Avenue\, Brighton\, CO\, 80601\, United States
CATEGORIES:BCAC Events,Monthly Meetings
END:VEVENT
END:VCALENDAR