BEGIN:VCALENDAR
VERSION:2.0
PRODID:-//Brighton Cultural Arts Connection - ECPv6.15.20//NONSGML v1.0//EN
CALSCALE:GREGORIAN
METHOD:PUBLISH
X-WR-CALNAME:Brighton Cultural Arts Connection
X-ORIGINAL-URL:https://brightonculturalarts.org
X-WR-CALDESC:Events for Brighton Cultural Arts Connection
REFRESH-INTERVAL;VALUE=DURATION:PT1H
X-Robots-Tag:noindex
X-PUBLISHED-TTL:PT1H
BEGIN:VTIMEZONE
TZID:America/Denver
BEGIN:DAYLIGHT
TZOFFSETFROM:-0700
TZOFFSETTO:-0600
TZNAME:MDT
DTSTART:20250309T090000
END:DAYLIGHT
BEGIN:STANDARD
TZOFFSETFROM:-0600
TZOFFSETTO:-0700
TZNAME:MST
DTSTART:20251102T080000
END:STANDARD
BEGIN:DAYLIGHT
TZOFFSETFROM:-0700
TZOFFSETTO:-0600
TZNAME:MDT
DTSTART:20260308T090000
END:DAYLIGHT
BEGIN:STANDARD
TZOFFSETFROM:-0600
TZOFFSETTO:-0700
TZNAME:MST
DTSTART:20261101T080000
END:STANDARD
BEGIN:DAYLIGHT
TZOFFSETFROM:-0700
TZOFFSETTO:-0600
TZNAME:MDT
DTSTART:20270314T090000
END:DAYLIGHT
BEGIN:STANDARD
TZOFFSETFROM:-0600
TZOFFSETTO:-0700
TZNAME:MST
DTSTART:20271107T080000
END:STANDARD
END:VTIMEZONE
BEGIN:VEVENT
DTSTART;TZID=America/Denver:20260108T173000
DTEND;TZID=America/Denver:20260108T193000
DTSTAMP:20260420T095307
CREATED:20260106T192132Z
LAST-MODIFIED:20260407T223645Z
UID:10001008-1767893400-1767900600@brightonculturalarts.org
SUMMARY:Soul Collage - January
DESCRIPTION:Through Mindfulness Meditation techniques\, we will tap into the creative sweet spot where you are the architect of your reality. Exploring the purest forms of your imagination requires letting go of thoughts that limit the possibilities of creation. Our thoughts can trigger negative emotions that leave us with the feeling of being casualties of our circumstances\, instead of exploring the wonders of our imagination. By not relying solely on seeking validation from people\, places and things; which we have no control over\, we can create our own validation through our art that comes from a place of compassion and love for ourselves. Mindfulness Meditation is a great tool in practicing to redirect our attention to our inner gifts and talents. Creating art is a way to channel those unique gifts and talents into your physical reality.
URL:https://brightonculturalarts.org/event/soul-collage-january/2026-01-08/
LOCATION:Brighton Recreation Center\, 555 N 11th Avenue\, Brighton\, CO\, 80601\, United States
CATEGORIES:Art Events,Kids
END:VEVENT
BEGIN:VEVENT
DTSTART;TZID=America/Denver:20260110T113000
DTEND;TZID=America/Denver:20260110T123000
DTSTAMP:20260420T095307
CREATED:20260106T190033Z
LAST-MODIFIED:20260106T190033Z
UID:10000838-1768044600-1768048200@brightonculturalarts.org
SUMMARY:Art Classes for Kids (ages 10+) with Gina De Gorna
DESCRIPTION:
URL:https://brightonculturalarts.org/event/art-classes-for-kids-ages-10-with-gina-de-gorna/2026-01-10/
LOCATION:Main Street Gallery\, 36 S. Main Street\, Brighton\, CO\, 80601\, United States
CATEGORIES:Art Events,Kids
END:VEVENT
BEGIN:VEVENT
DTSTART;TZID=America/Denver:20260115T173000
DTEND;TZID=America/Denver:20260115T193000
DTSTAMP:20260420T095307
CREATED:20260106T192132Z
LAST-MODIFIED:20260407T223645Z
UID:10001009-1768498200-1768505400@brightonculturalarts.org
SUMMARY:Soul Collage - January
DESCRIPTION:Through Mindfulness Meditation techniques\, we will tap into the creative sweet spot where you are the architect of your reality. Exploring the purest forms of your imagination requires letting go of thoughts that limit the possibilities of creation. Our thoughts can trigger negative emotions that leave us with the feeling of being casualties of our circumstances\, instead of exploring the wonders of our imagination. By not relying solely on seeking validation from people\, places and things; which we have no control over\, we can create our own validation through our art that comes from a place of compassion and love for ourselves. Mindfulness Meditation is a great tool in practicing to redirect our attention to our inner gifts and talents. Creating art is a way to channel those unique gifts and talents into your physical reality.
URL:https://brightonculturalarts.org/event/soul-collage-january/2026-01-15/
LOCATION:Brighton Recreation Center\, 555 N 11th Avenue\, Brighton\, CO\, 80601\, United States
CATEGORIES:Art Events,Kids
END:VEVENT
BEGIN:VEVENT
DTSTART;TZID=America/Denver:20260117T113000
DTEND;TZID=America/Denver:20260117T123000
DTSTAMP:20260420T095307
CREATED:20260106T190033Z
LAST-MODIFIED:20260106T190033Z
UID:10000839-1768649400-1768653000@brightonculturalarts.org
SUMMARY:Art Classes for Kids (ages 10+) with Gina De Gorna
DESCRIPTION:
URL:https://brightonculturalarts.org/event/art-classes-for-kids-ages-10-with-gina-de-gorna/2026-01-17/
LOCATION:Main Street Gallery\, 36 S. Main Street\, Brighton\, CO\, 80601\, United States
CATEGORIES:Art Events,Kids
END:VEVENT
BEGIN:VEVENT
DTSTART;TZID=America/Denver:20260119T100000
DTEND;TZID=America/Denver:20260119T120000
DTSTAMP:20260420T095307
CREATED:20260106T190950Z
LAST-MODIFIED:20260106T190950Z
UID:10000892-1768816800-1768824000@brightonculturalarts.org
SUMMARY:January Kids N Canvas
DESCRIPTION:Your kids love to paint and create\, but the thought of getting out the craft supplies and cleaning up after makes you twitch…Kids ‘n Canvas to the rescue! In just 2 hours\, a Gallery Guide will instruct a fun and fabulous piece of art while painters follow along creating their own MYsterpiece! \nIt’s guaranteed to bring out creativity\, fun and laughter. But don’t worry\, no art-smarts are needed. Painters will follow simple step-by-step instructions. It’s not a painting class…..it’s a painting pARTy! Artwork is pre-selected\, but creativity is encouraged! Class includes all supplies\, snacks and fun!
URL:https://brightonculturalarts.org/event/january-kids-n-canvas/
LOCATION:Brighton Recreation Center\, 555 N 11th Avenue\, Brighton\, CO\, 80601\, United States
CATEGORIES:Art Events,Kids
END:VEVENT
BEGIN:VEVENT
DTSTART;TZID=America/Denver:20260122T173000
DTEND;TZID=America/Denver:20260122T193000
DTSTAMP:20260420T095307
CREATED:20260106T192132Z
LAST-MODIFIED:20260407T223645Z
UID:10001010-1769103000-1769110200@brightonculturalarts.org
SUMMARY:Soul Collage - January
DESCRIPTION:Through Mindfulness Meditation techniques\, we will tap into the creative sweet spot where you are the architect of your reality. Exploring the purest forms of your imagination requires letting go of thoughts that limit the possibilities of creation. Our thoughts can trigger negative emotions that leave us with the feeling of being casualties of our circumstances\, instead of exploring the wonders of our imagination. By not relying solely on seeking validation from people\, places and things; which we have no control over\, we can create our own validation through our art that comes from a place of compassion and love for ourselves. Mindfulness Meditation is a great tool in practicing to redirect our attention to our inner gifts and talents. Creating art is a way to channel those unique gifts and talents into your physical reality.
URL:https://brightonculturalarts.org/event/soul-collage-january/2026-01-22/
LOCATION:Brighton Recreation Center\, 555 N 11th Avenue\, Brighton\, CO\, 80601\, United States
CATEGORIES:Art Events,Kids
END:VEVENT
BEGIN:VEVENT
DTSTART;TZID=America/Denver:20260124T113000
DTEND;TZID=America/Denver:20260124T123000
DTSTAMP:20260420T095307
CREATED:20260106T190033Z
LAST-MODIFIED:20260106T190033Z
UID:10000840-1769254200-1769257800@brightonculturalarts.org
SUMMARY:Art Classes for Kids (ages 10+) with Gina De Gorna
DESCRIPTION:
URL:https://brightonculturalarts.org/event/art-classes-for-kids-ages-10-with-gina-de-gorna/2026-01-24/
LOCATION:Main Street Gallery\, 36 S. Main Street\, Brighton\, CO\, 80601\, United States
CATEGORIES:Art Events,Kids
END:VEVENT
BEGIN:VEVENT
DTSTART;TZID=America/Denver:20260129T173000
DTEND;TZID=America/Denver:20260129T193000
DTSTAMP:20260420T095307
CREATED:20260106T192132Z
LAST-MODIFIED:20260407T223645Z
UID:10001011-1769707800-1769715000@brightonculturalarts.org
SUMMARY:Soul Collage - January
DESCRIPTION:Through Mindfulness Meditation techniques\, we will tap into the creative sweet spot where you are the architect of your reality. Exploring the purest forms of your imagination requires letting go of thoughts that limit the possibilities of creation. Our thoughts can trigger negative emotions that leave us with the feeling of being casualties of our circumstances\, instead of exploring the wonders of our imagination. By not relying solely on seeking validation from people\, places and things; which we have no control over\, we can create our own validation through our art that comes from a place of compassion and love for ourselves. Mindfulness Meditation is a great tool in practicing to redirect our attention to our inner gifts and talents. Creating art is a way to channel those unique gifts and talents into your physical reality.
URL:https://brightonculturalarts.org/event/soul-collage-january/2026-01-29/
LOCATION:Brighton Recreation Center\, 555 N 11th Avenue\, Brighton\, CO\, 80601\, United States
CATEGORIES:Art Events,Kids
END:VEVENT
BEGIN:VEVENT
DTSTART;TZID=America/Denver:20260131T113000
DTEND;TZID=America/Denver:20260131T123000
DTSTAMP:20260420T095307
CREATED:20260106T190033Z
LAST-MODIFIED:20260106T190033Z
UID:10000841-1769859000-1769862600@brightonculturalarts.org
SUMMARY:Art Classes for Kids (ages 10+) with Gina De Gorna
DESCRIPTION:
URL:https://brightonculturalarts.org/event/art-classes-for-kids-ages-10-with-gina-de-gorna/2026-01-31/
LOCATION:Main Street Gallery\, 36 S. Main Street\, Brighton\, CO\, 80601\, United States
CATEGORIES:Art Events,Kids
END:VEVENT
END:VCALENDAR