BEGIN:VCALENDAR
VERSION:2.0
PRODID:-//Brighton Cultural Arts Connection - ECPv6.15.20//NONSGML v1.0//EN
CALSCALE:GREGORIAN
METHOD:PUBLISH
X-WR-CALNAME:Brighton Cultural Arts Connection
X-ORIGINAL-URL:https://brightonculturalarts.org
X-WR-CALDESC:Events for Brighton Cultural Arts Connection
REFRESH-INTERVAL;VALUE=DURATION:PT1H
X-Robots-Tag:noindex
X-PUBLISHED-TTL:PT1H
BEGIN:VTIMEZONE
TZID:America/Denver
BEGIN:DAYLIGHT
TZOFFSETFROM:-0700
TZOFFSETTO:-0600
TZNAME:MDT
DTSTART:20230312T090000
END:DAYLIGHT
BEGIN:STANDARD
TZOFFSETFROM:-0600
TZOFFSETTO:-0700
TZNAME:MST
DTSTART:20231105T080000
END:STANDARD
BEGIN:DAYLIGHT
TZOFFSETFROM:-0700
TZOFFSETTO:-0600
TZNAME:MDT
DTSTART:20240310T090000
END:DAYLIGHT
BEGIN:STANDARD
TZOFFSETFROM:-0600
TZOFFSETTO:-0700
TZNAME:MST
DTSTART:20241103T080000
END:STANDARD
BEGIN:DAYLIGHT
TZOFFSETFROM:-0700
TZOFFSETTO:-0600
TZNAME:MDT
DTSTART:20250309T090000
END:DAYLIGHT
BEGIN:STANDARD
TZOFFSETFROM:-0600
TZOFFSETTO:-0700
TZNAME:MST
DTSTART:20251102T080000
END:STANDARD
END:VTIMEZONE
BEGIN:VEVENT
DTSTART;TZID=America/Denver:20240907T090000
DTEND;TZID=America/Denver:20240907T160000
DTSTAMP:20260419T171336
CREATED:20240413T215047Z
LAST-MODIFIED:20240413T215047Z
UID:10000059-1725699600-1725724800@brightonculturalarts.org
SUMMARY:Art in the Park 2024
DESCRIPTION:The annual City of Brighton Art in the Park festival will be held on Saturday\, Sept. 7\, 2024.  \nThis one-day festival gives attendees the opportunity to meet with local\, regional\, and international artists showcasing their best work\, enjoy live musical performances\, artist demonstrations and entertain children with interactive art activities. \nRegistration is now open. Click here to register today.  \nFor more information\, contact Arts and Culture Coordinator David Gallegos at 303-655-2176 or dgallegos@brightonco.gov.
URL:https://brightonculturalarts.org/event/art-in-the-park-2024-2/
LOCATION:Carmichael Park\, 650 Southern Street\, Brighton\, CO\, 80601\, United States
CATEGORIES:Art Events
END:VEVENT
END:VCALENDAR