BEGIN:VCALENDAR
VERSION:2.0
PRODID:-//Brighton Cultural Arts Connection - ECPv6.15.20//NONSGML v1.0//EN
CALSCALE:GREGORIAN
METHOD:PUBLISH
X-WR-CALNAME:Brighton Cultural Arts Connection
X-ORIGINAL-URL:https://brightonculturalarts.org
X-WR-CALDESC:Events for Brighton Cultural Arts Connection
REFRESH-INTERVAL;VALUE=DURATION:PT1H
X-Robots-Tag:noindex
X-PUBLISHED-TTL:PT1H
BEGIN:VTIMEZONE
TZID:America/Denver
BEGIN:DAYLIGHT
TZOFFSETFROM:-0700
TZOFFSETTO:-0600
TZNAME:MDT
DTSTART:20230312T090000
END:DAYLIGHT
BEGIN:STANDARD
TZOFFSETFROM:-0600
TZOFFSETTO:-0700
TZNAME:MST
DTSTART:20231105T080000
END:STANDARD
BEGIN:DAYLIGHT
TZOFFSETFROM:-0700
TZOFFSETTO:-0600
TZNAME:MDT
DTSTART:20240310T090000
END:DAYLIGHT
BEGIN:STANDARD
TZOFFSETFROM:-0600
TZOFFSETTO:-0700
TZNAME:MST
DTSTART:20241103T080000
END:STANDARD
BEGIN:DAYLIGHT
TZOFFSETFROM:-0700
TZOFFSETTO:-0600
TZNAME:MDT
DTSTART:20250309T090000
END:DAYLIGHT
BEGIN:STANDARD
TZOFFSETFROM:-0600
TZOFFSETTO:-0700
TZNAME:MST
DTSTART:20251102T080000
END:STANDARD
END:VTIMEZONE
BEGIN:VEVENT
DTSTART;TZID=America/Denver:20240604T130000
DTEND;TZID=America/Denver:20240604T160000
DTSTAMP:20260420T153738
CREATED:20240507T201226Z
LAST-MODIFIED:20240507T201603Z
UID:10000067-1717506000-1717516800@brightonculturalarts.org
SUMMARY:Art Fest: The Colors of Colorado
DESCRIPTION:Art Fest: The Colors of Colorado\nOpen Theme (Family Friendly) \nQuestions? Contact Sandie at 303.653.5440
URL:https://brightonculturalarts.org/event/art-fest-the-colors-of-colorado-3/
LOCATION:Armory Performing Arts Center\, 300 Strong Street\, Brighton\, CO\, 80601\, United States
CATEGORIES:Art Events
END:VEVENT
BEGIN:VEVENT
DTSTART;TZID=America/Denver:20240605T130000
DTEND;TZID=America/Denver:20240605T160000
DTSTAMP:20260420T153738
CREATED:20240507T201641Z
LAST-MODIFIED:20240507T201641Z
UID:10000072-1717592400-1717603200@brightonculturalarts.org
SUMMARY:Art Fest: The Colors of Colorado
DESCRIPTION:Art Fest: The Colors of Colorado\nOpen Theme (Family Friendly) \nQuestions? Contact Sandie at 303.653.5440
URL:https://brightonculturalarts.org/event/art-fest-the-colors-of-colorado-8/
LOCATION:Armory Performing Arts Center\, 300 Strong Street\, Brighton\, CO\, 80601\, United States
CATEGORIES:Art Events
END:VEVENT
BEGIN:VEVENT
DTSTART;TZID=America/Denver:20240606T130000
DTEND;TZID=America/Denver:20240606T160000
DTSTAMP:20260420T153738
CREATED:20240507T201716Z
LAST-MODIFIED:20240507T201716Z
UID:10000073-1717678800-1717689600@brightonculturalarts.org
SUMMARY:Art Fest: The Colors of Colorado
DESCRIPTION:Art Fest: The Colors of Colorado\nOpen Theme (Family Friendly) \nQuestions? Contact Sandie at 303.653.5440
URL:https://brightonculturalarts.org/event/art-fest-the-colors-of-colorado-9/
LOCATION:Armory Performing Arts Center\, 300 Strong Street\, Brighton\, CO\, 80601\, United States
CATEGORIES:Art Events
END:VEVENT
BEGIN:VEVENT
DTSTART;TZID=America/Denver:20240607T130000
DTEND;TZID=America/Denver:20240607T160000
DTSTAMP:20260420T153738
CREATED:20240507T201804Z
LAST-MODIFIED:20240507T201804Z
UID:10000074-1717765200-1717776000@brightonculturalarts.org
SUMMARY:Art Fest: The Colors of Colorado
DESCRIPTION:Art Fest: The Colors of Colorado\nOpen Theme (Family Friendly) \nQuestions? Contact Sandie at 303.653.5440
URL:https://brightonculturalarts.org/event/art-fest-the-colors-of-colorado-10/
LOCATION:Armory Performing Arts Center\, 300 Strong Street\, Brighton\, CO\, 80601\, United States
CATEGORIES:Art Events
END:VEVENT
BEGIN:VEVENT
DTSTART;TZID=America/Denver:20240611T130000
DTEND;TZID=America/Denver:20240611T160000
DTSTAMP:20260420T153738
CREATED:20240507T201854Z
LAST-MODIFIED:20240609T172050Z
UID:10000075-1718110800-1718121600@brightonculturalarts.org
SUMMARY:Art Fest: The Colors of Colorado
DESCRIPTION:Art Fest: The Colors of Colorado\nOpen Theme (Family Friendly) \nQuestions? Contact Sandie at 303.653.5440
URL:https://brightonculturalarts.org/event/art-fest-the-colors-of-colorado-11/
LOCATION:Armory Performing Arts Center\, 300 Strong Street\, Brighton\, CO\, 80601\, United States
CATEGORIES:Art Events
END:VEVENT
BEGIN:VEVENT
DTSTART;TZID=America/Denver:20240612T130000
DTEND;TZID=America/Denver:20240612T160000
DTSTAMP:20260420T153738
CREATED:20240507T201935Z
LAST-MODIFIED:20240507T201935Z
UID:10000076-1718197200-1718208000@brightonculturalarts.org
SUMMARY:Art Fest: The Colors of Colorado
DESCRIPTION:Art Fest: The Colors of Colorado\nOpen Theme (Family Friendly) \nQuestions? Contact Sandie at 303.653.5440
URL:https://brightonculturalarts.org/event/art-fest-the-colors-of-colorado-12/
LOCATION:Armory Performing Arts Center\, 300 Strong Street\, Brighton\, CO\, 80601\, United States
CATEGORIES:Art Events
END:VEVENT
BEGIN:VEVENT
DTSTART;TZID=America/Denver:20240613T130000
DTEND;TZID=America/Denver:20240613T160000
DTSTAMP:20260420T153738
CREATED:20240507T202010Z
LAST-MODIFIED:20240507T202010Z
UID:10000077-1718283600-1718294400@brightonculturalarts.org
SUMMARY:Art Fest: The Colors of Colorado
DESCRIPTION:Art Fest: The Colors of Colorado\nOpen Theme (Family Friendly) \nQuestions? Contact Sandie at 303.653.5440
URL:https://brightonculturalarts.org/event/art-fest-the-colors-of-colorado-13/
LOCATION:Armory Performing Arts Center\, 300 Strong Street\, Brighton\, CO\, 80601\, United States
CATEGORIES:Art Events
END:VEVENT
BEGIN:VEVENT
DTSTART;TZID=America/Denver:20240614T130000
DTEND;TZID=America/Denver:20240614T160000
DTSTAMP:20260420T153738
CREATED:20240507T202050Z
LAST-MODIFIED:20240507T202050Z
UID:10000078-1718370000-1718380800@brightonculturalarts.org
SUMMARY:Art Fest: The Colors of Colorado
DESCRIPTION:Art Fest: The Colors of Colorado\nOpen Theme (Family Friendly) \nQuestions? Contact Sandie at 303.653.5440
URL:https://brightonculturalarts.org/event/art-fest-the-colors-of-colorado-14/
LOCATION:Armory Performing Arts Center\, 300 Strong Street\, Brighton\, CO\, 80601\, United States
CATEGORIES:Art Events
END:VEVENT
BEGIN:VEVENT
DTSTART;TZID=America/Denver:20240618T130000
DTEND;TZID=America/Denver:20240618T160000
DTSTAMP:20260420T153738
CREATED:20240507T202745Z
LAST-MODIFIED:20240507T202745Z
UID:10000079-1718715600-1718726400@brightonculturalarts.org
SUMMARY:Art Fest: The Colors of Colorado
DESCRIPTION:Art Fest: The Colors of Colorado\nOpen Theme (Family Friendly) \nQuestions? Contact Sandie at 303.653.5440
URL:https://brightonculturalarts.org/event/art-fest-the-colors-of-colorado-15/
LOCATION:Armory Performing Arts Center\, 300 Strong Street\, Brighton\, CO\, 80601\, United States
CATEGORIES:Art Events
END:VEVENT
BEGIN:VEVENT
DTSTART;TZID=America/Denver:20240619T130000
DTEND;TZID=America/Denver:20240619T160000
DTSTAMP:20260420T153738
CREATED:20240507T202819Z
LAST-MODIFIED:20240507T202819Z
UID:10000080-1718802000-1718812800@brightonculturalarts.org
SUMMARY:Art Fest: The Colors of Colorado
DESCRIPTION:Art Fest: The Colors of Colorado\nOpen Theme (Family Friendly) \nQuestions? Contact Sandie at 303.653.5440
URL:https://brightonculturalarts.org/event/art-fest-the-colors-of-colorado-16/
LOCATION:Armory Performing Arts Center\, 300 Strong Street\, Brighton\, CO\, 80601\, United States
CATEGORIES:Art Events
END:VEVENT
BEGIN:VEVENT
DTSTART;TZID=America/Denver:20240620T130000
DTEND;TZID=America/Denver:20240620T160000
DTSTAMP:20260420T153738
CREATED:20240507T202909Z
LAST-MODIFIED:20240507T202909Z
UID:10000081-1718888400-1718899200@brightonculturalarts.org
SUMMARY:Art Fest: The Colors of Colorado
DESCRIPTION:Art Fest: The Colors of Colorado\nOpen Theme (Family Friendly) \nQuestions? Contact Sandie at 303.653.5440
URL:https://brightonculturalarts.org/event/art-fest-the-colors-of-colorado-17/
LOCATION:Armory Performing Arts Center\, 300 Strong Street\, Brighton\, CO\, 80601\, United States
CATEGORIES:Art Events
END:VEVENT
BEGIN:VEVENT
DTSTART;TZID=America/Denver:20240621T130000
DTEND;TZID=America/Denver:20240621T160000
DTSTAMP:20260420T153738
CREATED:20240507T202958Z
LAST-MODIFIED:20240507T202958Z
UID:10000082-1718974800-1718985600@brightonculturalarts.org
SUMMARY:Art Fest: The Colors of Colorado
DESCRIPTION:Art Fest: The Colors of Colorado\nOpen Theme (Family Friendly) \nQuestions? Contact Sandie at 303.653.5440
URL:https://brightonculturalarts.org/event/art-fest-the-colors-of-colorado-18/
LOCATION:Armory Performing Arts Center\, 300 Strong Street\, Brighton\, CO\, 80601\, United States
CATEGORIES:Art Events
END:VEVENT
BEGIN:VEVENT
DTSTART;TZID=America/Denver:20240625T130000
DTEND;TZID=America/Denver:20240625T160000
DTSTAMP:20260420T153738
CREATED:20240507T211302Z
LAST-MODIFIED:20240507T211302Z
UID:10000083-1719320400-1719331200@brightonculturalarts.org
SUMMARY:Art Fest: The Colors of Colorado
DESCRIPTION:Art Fest: The Colors of Colorado\nOpen Theme (Family Friendly) \nQuestions? Contact Sandie at 303.653.5440
URL:https://brightonculturalarts.org/event/art-fest-the-colors-of-colorado-19/
LOCATION:Armory Performing Arts Center\, 300 Strong Street\, Brighton\, CO\, 80601\, United States
CATEGORIES:Art Events
END:VEVENT
BEGIN:VEVENT
DTSTART;TZID=America/Denver:20240626T130000
DTEND;TZID=America/Denver:20240626T160000
DTSTAMP:20260420T153738
CREATED:20240507T211344Z
LAST-MODIFIED:20240507T211344Z
UID:10000084-1719406800-1719417600@brightonculturalarts.org
SUMMARY:Art Fest: The Colors of Colorado
DESCRIPTION:Art Fest: The Colors of Colorado\nOpen Theme (Family Friendly) \nQuestions? Contact Sandie at 303.653.5440
URL:https://brightonculturalarts.org/event/art-fest-the-colors-of-colorado-20/
LOCATION:Armory Performing Arts Center\, 300 Strong Street\, Brighton\, CO\, 80601\, United States
CATEGORIES:Art Events
END:VEVENT
BEGIN:VEVENT
DTSTART;TZID=America/Denver:20240627T130000
DTEND;TZID=America/Denver:20240627T160000
DTSTAMP:20260420T153738
CREATED:20240507T211421Z
LAST-MODIFIED:20240507T211421Z
UID:10000085-1719493200-1719504000@brightonculturalarts.org
SUMMARY:Art Fest: The Colors of Colorado
DESCRIPTION:Art Fest: The Colors of Colorado\nOpen Theme (Family Friendly) \nQuestions? Contact Sandie at 303.653.5440
URL:https://brightonculturalarts.org/event/art-fest-the-colors-of-colorado-21/
LOCATION:Armory Performing Arts Center\, 300 Strong Street\, Brighton\, CO\, 80601\, United States
CATEGORIES:Art Events
END:VEVENT
BEGIN:VEVENT
DTSTART;TZID=America/Denver:20240628T130000
DTEND;TZID=America/Denver:20240628T160000
DTSTAMP:20260420T153738
CREATED:20240507T211504Z
LAST-MODIFIED:20240507T211504Z
UID:10000086-1719579600-1719590400@brightonculturalarts.org
SUMMARY:Art Fest: The Colors of Colorado
DESCRIPTION:Art Fest: The Colors of Colorado\nOpen Theme (Family Friendly) \nQuestions? Contact Sandie at 303.653.5440
URL:https://brightonculturalarts.org/event/art-fest-the-colors-of-colorado-22/
LOCATION:Armory Performing Arts Center\, 300 Strong Street\, Brighton\, CO\, 80601\, United States
CATEGORIES:Art Events
END:VEVENT
END:VCALENDAR