BEGIN:VCALENDAR
VERSION:2.0
PRODID:-//Brighton Cultural Arts Connection - ECPv6.15.20//NONSGML v1.0//EN
CALSCALE:GREGORIAN
METHOD:PUBLISH
X-ORIGINAL-URL:https://brightonculturalarts.org
X-WR-CALDESC:Events for Brighton Cultural Arts Connection
REFRESH-INTERVAL;VALUE=DURATION:PT1H
X-Robots-Tag:noindex
X-PUBLISHED-TTL:PT1H
BEGIN:VTIMEZONE
TZID:America/Denver
BEGIN:DAYLIGHT
TZOFFSETFROM:-0700
TZOFFSETTO:-0600
TZNAME:MDT
DTSTART:20230312T090000
END:DAYLIGHT
BEGIN:STANDARD
TZOFFSETFROM:-0600
TZOFFSETTO:-0700
TZNAME:MST
DTSTART:20231105T080000
END:STANDARD
BEGIN:DAYLIGHT
TZOFFSETFROM:-0700
TZOFFSETTO:-0600
TZNAME:MDT
DTSTART:20240310T090000
END:DAYLIGHT
BEGIN:STANDARD
TZOFFSETFROM:-0600
TZOFFSETTO:-0700
TZNAME:MST
DTSTART:20241103T080000
END:STANDARD
BEGIN:DAYLIGHT
TZOFFSETFROM:-0700
TZOFFSETTO:-0600
TZNAME:MDT
DTSTART:20250309T090000
END:DAYLIGHT
BEGIN:STANDARD
TZOFFSETFROM:-0600
TZOFFSETTO:-0700
TZNAME:MST
DTSTART:20251102T080000
END:STANDARD
END:VTIMEZONE
BEGIN:VEVENT
DTSTART;TZID=America/Denver:20240702T130000
DTEND;TZID=America/Denver:20240702T160000
DTSTAMP:20260420T134042
CREATED:20240507T211715Z
LAST-MODIFIED:20240507T211715Z
UID:10000087-1719925200-1719936000@brightonculturalarts.org
SUMMARY:Art Fest: The Colors of Colorado
DESCRIPTION:Art Fest: The Colors of Colorado\nOpen Theme (Family Friendly) \nQuestions? Contact Sandie at 303.653.5440
URL:https://brightonculturalarts.org/event/art-fest-the-colors-of-colorado-23/
LOCATION:Armory Performing Arts Center\, 300 Strong Street\, Brighton\, CO\, 80601\, United States
CATEGORIES:Art Events
END:VEVENT
BEGIN:VEVENT
DTSTART;TZID=America/Denver:20240703T130000
DTEND;TZID=America/Denver:20240703T160000
DTSTAMP:20260420T134042
CREATED:20240507T211755Z
LAST-MODIFIED:20240507T211755Z
UID:10000088-1720011600-1720022400@brightonculturalarts.org
SUMMARY:Art Fest: The Colors of Colorado
DESCRIPTION:Art Fest: The Colors of Colorado\nOpen Theme (Family Friendly) \nQuestions? Contact Sandie at 303.653.5440
URL:https://brightonculturalarts.org/event/art-fest-the-colors-of-colorado-24/
LOCATION:Armory Performing Arts Center\, 300 Strong Street\, Brighton\, CO\, 80601\, United States
CATEGORIES:Art Events
END:VEVENT
BEGIN:VEVENT
DTSTART;TZID=America/Denver:20240705T130000
DTEND;TZID=America/Denver:20240705T160000
DTSTAMP:20260420T134042
CREATED:20240507T211832Z
LAST-MODIFIED:20240507T211832Z
UID:10000089-1720184400-1720195200@brightonculturalarts.org
SUMMARY:Art Fest: The Colors of Colorado
DESCRIPTION:Art Fest: The Colors of Colorado\nOpen Theme (Family Friendly) \nQuestions? Contact Sandie at 303.653.5440
URL:https://brightonculturalarts.org/event/art-fest-the-colors-of-colorado-25/
LOCATION:Armory Performing Arts Center\, 300 Strong Street\, Brighton\, CO\, 80601\, United States
CATEGORIES:Art Events
END:VEVENT
BEGIN:VEVENT
DTSTART;TZID=America/Denver:20240709T130000
DTEND;TZID=America/Denver:20240709T160000
DTSTAMP:20260420T134042
CREATED:20240507T211916Z
LAST-MODIFIED:20240603T134134Z
UID:10000090-1720530000-1720540800@brightonculturalarts.org
SUMMARY:Art at the Armory Presents: The Colors of Colorado
DESCRIPTION:Art Fest: The Colors of Colorado\nOpen Theme (Family Friendly) \nQuestions? Contact Sandie at 303.653.5440
URL:https://brightonculturalarts.org/event/art-at-the-armory-presents-the-colors-of-colorado-8/
LOCATION:Armory Performing Arts Center\, 300 Strong Street\, Brighton\, CO\, 80601\, United States
CATEGORIES:Art Events
END:VEVENT
BEGIN:VEVENT
DTSTART;TZID=America/Denver:20240710T130000
DTEND;TZID=America/Denver:20240710T160000
DTSTAMP:20260420T134042
CREATED:20240507T212019Z
LAST-MODIFIED:20240603T134106Z
UID:10000091-1720616400-1720627200@brightonculturalarts.org
SUMMARY:Art at the Armory Presents: The Colors of Colorado
DESCRIPTION:Art Fest: The Colors of Colorado\nOpen Theme (Family Friendly) \nQuestions? Contact Sandie at 303.653.5440
URL:https://brightonculturalarts.org/event/art-at-the-armory-presents-the-colors-of-colorado-7/
LOCATION:Armory Performing Arts Center\, 300 Strong Street\, Brighton\, CO\, 80601\, United States
CATEGORIES:Art Events
END:VEVENT
BEGIN:VEVENT
DTSTART;TZID=America/Denver:20240711T130000
DTEND;TZID=America/Denver:20240711T160000
DTSTAMP:20260420T134042
CREATED:20240507T212058Z
LAST-MODIFIED:20240603T134036Z
UID:10000092-1720702800-1720713600@brightonculturalarts.org
SUMMARY:Art at the Armory Presents: The Colors of Colorado
DESCRIPTION:Art Fest: The Colors of Colorado\nOpen Theme (Family Friendly) \nQuestions? Contact Sandie at 303.653.5440
URL:https://brightonculturalarts.org/event/art-at-the-armory-presents-the-colors-of-colorado-6/
LOCATION:Armory Performing Arts Center\, 300 Strong Street\, Brighton\, CO\, 80601\, United States
CATEGORIES:Art Events
END:VEVENT
BEGIN:VEVENT
DTSTART;TZID=America/Denver:20240712T130000
DTEND;TZID=America/Denver:20240712T160000
DTSTAMP:20260420T134042
CREATED:20240507T212135Z
LAST-MODIFIED:20240603T134002Z
UID:10000093-1720789200-1720800000@brightonculturalarts.org
SUMMARY:Art at the Armory Presents: The Colors of Colorado
DESCRIPTION:Art Fest: The Colors of Colorado\nOpen Theme (Family Friendly) \nQuestions? Contact Sandie at 303.653.5440
URL:https://brightonculturalarts.org/event/art-at-the-armory-presents-the-colors-of-colorado-5/
LOCATION:Armory Performing Arts Center\, 300 Strong Street\, Brighton\, CO\, 80601\, United States
CATEGORIES:Art Events
END:VEVENT
BEGIN:VEVENT
DTSTART;TZID=America/Denver:20240712T130000
DTEND;TZID=America/Denver:20240712T160000
DTSTAMP:20260420T134042
CREATED:20240507T212209Z
LAST-MODIFIED:20240603T133931Z
UID:10000094-1720789200-1720800000@brightonculturalarts.org
SUMMARY:Art at the Armory Presents: The Colors of Colorado
DESCRIPTION:Art Fest: The Colors of Colorado\nOpen Theme (Family Friendly) \nQuestions? Contact Sandie at 303.653.5440
URL:https://brightonculturalarts.org/event/art-at-the-armory-presents-the-colors-of-colorado-4/
LOCATION:Armory Performing Arts Center\, 300 Strong Street\, Brighton\, CO\, 80601\, United States
CATEGORIES:Art Events
END:VEVENT
BEGIN:VEVENT
DTSTART;TZID=America/Denver:20240716T130000
DTEND;TZID=America/Denver:20240716T160000
DTSTAMP:20260420T134042
CREATED:20240507T212248Z
LAST-MODIFIED:20240603T133858Z
UID:10000095-1721134800-1721145600@brightonculturalarts.org
SUMMARY:Art at the Armory Presents: The Colors of Colorado
DESCRIPTION:Art Fest: The Colors of Colorado\nOpen Theme (Family Friendly) \nQuestions? Contact Sandie at 303.653.5440
URL:https://brightonculturalarts.org/event/art-at-the-armory-presents-the-colors-of-colorado-3/
LOCATION:Armory Performing Arts Center\, 300 Strong Street\, Brighton\, CO\, 80601\, United States
CATEGORIES:Art Events
END:VEVENT
END:VCALENDAR