BEGIN:VCALENDAR
VERSION:2.0
PRODID:-//Brighton Cultural Arts Connection - ECPv6.15.20//NONSGML v1.0//EN
CALSCALE:GREGORIAN
METHOD:PUBLISH
X-WR-CALNAME:Brighton Cultural Arts Connection
X-ORIGINAL-URL:https://brightonculturalarts.org
X-WR-CALDESC:Events for Brighton Cultural Arts Connection
REFRESH-INTERVAL;VALUE=DURATION:PT1H
X-Robots-Tag:noindex
X-PUBLISHED-TTL:PT1H
BEGIN:VTIMEZONE
TZID:America/Denver
BEGIN:DAYLIGHT
TZOFFSETFROM:-0700
TZOFFSETTO:-0600
TZNAME:MDT
DTSTART:20240310T090000
END:DAYLIGHT
BEGIN:STANDARD
TZOFFSETFROM:-0600
TZOFFSETTO:-0700
TZNAME:MST
DTSTART:20241103T080000
END:STANDARD
BEGIN:DAYLIGHT
TZOFFSETFROM:-0700
TZOFFSETTO:-0600
TZNAME:MDT
DTSTART:20250309T090000
END:DAYLIGHT
BEGIN:STANDARD
TZOFFSETFROM:-0600
TZOFFSETTO:-0700
TZNAME:MST
DTSTART:20251102T080000
END:STANDARD
BEGIN:DAYLIGHT
TZOFFSETFROM:-0700
TZOFFSETTO:-0600
TZNAME:MDT
DTSTART:20260308T090000
END:DAYLIGHT
BEGIN:STANDARD
TZOFFSETFROM:-0600
TZOFFSETTO:-0700
TZNAME:MST
DTSTART:20261101T080000
END:STANDARD
END:VTIMEZONE
BEGIN:VEVENT
DTSTART;TZID=America/Denver:20250311T100000
DTEND;TZID=America/Denver:20250311T110000
DTSTAMP:20260419T171724
CREATED:20250220T181121Z
LAST-MODIFIED:20250220T181121Z
UID:10000192-1741687200-1741690800@brightonculturalarts.org
SUMMARY:Painted Suncatchers
DESCRIPTION:Learn how suncatchers create dazzling displays of colors then create your own suncatcher with glass paint. All skill levels welcome. \n\n\n\n\n\n\nAppropriate for ages 18 and older. Space is limited; registration required.
URL:https://brightonculturalarts.org/event/painted-suncatchers/
LOCATION:Anythink Library\, 327 E. Bridge Street\, Brighton\, 80601\, United States
CATEGORIES:Art Events
END:VEVENT
BEGIN:VEVENT
DTSTART;TZID=America/Denver:20250311T110000
DTEND;TZID=America/Denver:20250311T150000
DTSTAMP:20260419T171724
CREATED:20250219T215246Z
LAST-MODIFIED:20250219T215246Z
UID:10000161-1741690800-1741705200@brightonculturalarts.org
SUMMARY:Featured Guest Artist Marilyn Fingerlin Exhibit
DESCRIPTION:
URL:https://brightonculturalarts.org/event/featured-guest-artist-marilyn-fingerlin-exhibit-15/
LOCATION:Main Street Gallery\, 36 S. Main Street\, Brighton\, CO\, 80601\, United States
CATEGORIES:Art Events
END:VEVENT
BEGIN:VEVENT
DTSTART;TZID=America/Denver:20250311T180000
DTEND;TZID=America/Denver:20250311T200000
DTSTAMP:20260419T171724
CREATED:20250220T195838Z
LAST-MODIFIED:20250220T200008Z
UID:10000226-1741716000-1741723200@brightonculturalarts.org
SUMMARY:Paint & Sip at Something Brewery
DESCRIPTION:Paint & Sip Workshop – St Patty Highland \nJoin us for a creative and fun-filled evening at our event! Get ready to unleash your artistic side and create a beautiful piece of art. \nDate: Tue\, Mar 11\, 2025\nTime: 6:00 PM\nLocation: Something Brewery \nWe will be painting on a 16×20 canvas with acrylic paints. Guided step by step instruction will be provided by local artist! Highland will be pre-traced to make the painting experience enjoyable for all skill levels. *Blank canvases will be available for those who might want them \nGrab your friends\, family\, or come solo and meet new creative souls. It’s a fantastic opportunity to relax\, have fun\, and create lasting memories. All painting supplies will be provided\, so you just need to bring your enthusiasm and willingness to explore your artistic side. \nDon’t miss out on this exciting event! Reserve your spot!\n**drinks sold separately
URL:https://brightonculturalarts.org/event/paint-sip-at-something-brewery/
LOCATION:Something Brewery\, 117 N Main St\, Unit A\, Brighton\, CO\, 80601\, United States
CATEGORIES:Art Events
END:VEVENT
END:VCALENDAR