BEGIN:VCALENDAR
VERSION:2.0
PRODID:-//Brighton Cultural Arts Connection - ECPv6.15.20//NONSGML v1.0//EN
CALSCALE:GREGORIAN
METHOD:PUBLISH
X-WR-CALNAME:Brighton Cultural Arts Connection
X-ORIGINAL-URL:https://brightonculturalarts.org
X-WR-CALDESC:Events for Brighton Cultural Arts Connection
REFRESH-INTERVAL;VALUE=DURATION:PT1H
X-Robots-Tag:noindex
X-PUBLISHED-TTL:PT1H
BEGIN:VTIMEZONE
TZID:America/Denver
BEGIN:DAYLIGHT
TZOFFSETFROM:-0700
TZOFFSETTO:-0600
TZNAME:MDT
DTSTART:20240310T090000
END:DAYLIGHT
BEGIN:STANDARD
TZOFFSETFROM:-0600
TZOFFSETTO:-0700
TZNAME:MST
DTSTART:20241103T080000
END:STANDARD
BEGIN:DAYLIGHT
TZOFFSETFROM:-0700
TZOFFSETTO:-0600
TZNAME:MDT
DTSTART:20250309T090000
END:DAYLIGHT
BEGIN:STANDARD
TZOFFSETFROM:-0600
TZOFFSETTO:-0700
TZNAME:MST
DTSTART:20251102T080000
END:STANDARD
BEGIN:DAYLIGHT
TZOFFSETFROM:-0700
TZOFFSETTO:-0600
TZNAME:MDT
DTSTART:20260308T090000
END:DAYLIGHT
BEGIN:STANDARD
TZOFFSETFROM:-0600
TZOFFSETTO:-0700
TZNAME:MST
DTSTART:20261101T080000
END:STANDARD
END:VTIMEZONE
BEGIN:VEVENT
DTSTART;TZID=America/Denver:20250313T110000
DTEND;TZID=America/Denver:20250313T150000
DTSTAMP:20260419T171720
CREATED:20250219T215455Z
LAST-MODIFIED:20250219T215455Z
UID:10000163-1741863600-1741878000@brightonculturalarts.org
SUMMARY:Featured Guest Artist Marilyn Fingerlin Exhibit
DESCRIPTION:
URL:https://brightonculturalarts.org/event/featured-guest-artist-marilyn-fingerlin-exhibit-17/
LOCATION:Main Street Gallery\, 36 S. Main Street\, Brighton\, CO\, 80601\, United States
CATEGORIES:Art Events
END:VEVENT
BEGIN:VEVENT
DTSTART;TZID=America/Denver:20250313T110000
DTEND;TZID=America/Denver:20250313T150000
DTSTAMP:20260419T171720
CREATED:20250220T200845Z
LAST-MODIFIED:20250220T200845Z
UID:10000235-1741863600-1741878000@brightonculturalarts.org
SUMMARY:Drop-in Painting at Main Street Gallery
DESCRIPTION:
URL:https://brightonculturalarts.org/event/drop-in-painting-at-main-street-gallery-4/
LOCATION:Main Street Gallery\, 36 S. Main Street\, Brighton\, CO\, 80601\, United States
CATEGORIES:Art Events
END:VEVENT
BEGIN:VEVENT
DTSTART;TZID=America/Denver:20250313T190000
DTEND;TZID=America/Denver:20250313T210000
DTSTAMP:20260419T171720
CREATED:20250215T180010Z
LAST-MODIFIED:20250215T180010Z
UID:10000129-1741892400-1741899600@brightonculturalarts.org
SUMMARY:Finding Nemo Kids & Seussical Jr.
DESCRIPTION:Platte Valley Players Presents “Finding Nemo Kids & Seussical Jr.”\nTwo great shows for the price of one!
URL:https://brightonculturalarts.org/event/finding-nemo-kids-seussical-jr-4/
LOCATION:Armory Performing Arts Center\, 300 Strong Street\, Brighton\, CO\, 80601\, United States
CATEGORIES:Theatre Events
END:VEVENT
END:VCALENDAR