BEGIN:VCALENDAR
VERSION:2.0
PRODID:-//Brighton Cultural Arts Connection - ECPv6.15.20//NONSGML v1.0//EN
CALSCALE:GREGORIAN
METHOD:PUBLISH
X-WR-CALNAME:Brighton Cultural Arts Connection
X-ORIGINAL-URL:https://brightonculturalarts.org
X-WR-CALDESC:Events for Brighton Cultural Arts Connection
REFRESH-INTERVAL;VALUE=DURATION:PT1H
X-Robots-Tag:noindex
X-PUBLISHED-TTL:PT1H
BEGIN:VTIMEZONE
TZID:America/Denver
BEGIN:DAYLIGHT
TZOFFSETFROM:-0700
TZOFFSETTO:-0600
TZNAME:MDT
DTSTART:20230312T090000
END:DAYLIGHT
BEGIN:STANDARD
TZOFFSETFROM:-0600
TZOFFSETTO:-0700
TZNAME:MST
DTSTART:20231105T080000
END:STANDARD
BEGIN:DAYLIGHT
TZOFFSETFROM:-0700
TZOFFSETTO:-0600
TZNAME:MDT
DTSTART:20240310T090000
END:DAYLIGHT
BEGIN:STANDARD
TZOFFSETFROM:-0600
TZOFFSETTO:-0700
TZNAME:MST
DTSTART:20241103T080000
END:STANDARD
BEGIN:DAYLIGHT
TZOFFSETFROM:-0700
TZOFFSETTO:-0600
TZNAME:MDT
DTSTART:20250309T090000
END:DAYLIGHT
BEGIN:STANDARD
TZOFFSETFROM:-0600
TZOFFSETTO:-0700
TZNAME:MST
DTSTART:20251102T080000
END:STANDARD
END:VTIMEZONE
BEGIN:VEVENT
DTSTART;TZID=America/Denver:20240906T090000
DTEND;TZID=America/Denver:20240906T170000
DTSTAMP:20260419T151526
CREATED:20240213T223928Z
LAST-MODIFIED:20240812T145335Z
UID:10000020-1725613200-1725642000@brightonculturalarts.org
SUMMARY:7th Annual Brighton Fiber Arts Show
DESCRIPTION:Join us for the 7th Annual Brighton Fiber Arts Show – A Celebration of Needle and Thread! \nShowcasing Quilts\, Crochet\, Knitting\, Needlework and Weaving. \nPeople’s Choice Awards will be given in each category. FREE admission! \nClick here to download the entry form!
URL:https://brightonculturalarts.org/event/fiber-arts-show-at-the-armory/
LOCATION:Armory Performing Arts Center\, 300 Strong Street\, Brighton\, CO\, 80601\, United States
CATEGORIES:BCAC Events
END:VEVENT
END:VCALENDAR