BEGIN:VCALENDAR
VERSION:2.0
PRODID:-//Brighton Cultural Arts Connection - ECPv6.15.20//NONSGML v1.0//EN
CALSCALE:GREGORIAN
METHOD:PUBLISH
X-ORIGINAL-URL:https://brightonculturalarts.org
X-WR-CALDESC:Events for Brighton Cultural Arts Connection
REFRESH-INTERVAL;VALUE=DURATION:PT1H
X-Robots-Tag:noindex
X-PUBLISHED-TTL:PT1H
BEGIN:VTIMEZONE
TZID:America/Denver
BEGIN:DAYLIGHT
TZOFFSETFROM:-0700
TZOFFSETTO:-0600
TZNAME:MDT
DTSTART:20230312T090000
END:DAYLIGHT
BEGIN:STANDARD
TZOFFSETFROM:-0600
TZOFFSETTO:-0700
TZNAME:MST
DTSTART:20231105T080000
END:STANDARD
BEGIN:DAYLIGHT
TZOFFSETFROM:-0700
TZOFFSETTO:-0600
TZNAME:MDT
DTSTART:20240310T090000
END:DAYLIGHT
BEGIN:STANDARD
TZOFFSETFROM:-0600
TZOFFSETTO:-0700
TZNAME:MST
DTSTART:20241103T080000
END:STANDARD
BEGIN:DAYLIGHT
TZOFFSETFROM:-0700
TZOFFSETTO:-0600
TZNAME:MDT
DTSTART:20250309T090000
END:DAYLIGHT
BEGIN:STANDARD
TZOFFSETFROM:-0600
TZOFFSETTO:-0700
TZNAME:MST
DTSTART:20251102T080000
END:STANDARD
END:VTIMEZONE
BEGIN:VEVENT
DTSTART;TZID=America/Denver:20240816T180000
DTEND;TZID=America/Denver:20240816T220000
DTSTAMP:20260419T060958
CREATED:20240222T014332Z
LAST-MODIFIED:20240723T222014Z
UID:10000035-1723831200-1723845600@brightonculturalarts.org
SUMMARY:Brighton on Broadway
DESCRIPTION:Support Local Arts by Attending PVP’s Annual Fundraiser \nAttendees will enjoy Dinner\, a Cash Bar\, Silent Auction and a show with PVP’s best performers–live musicians\, a hilarious emcee and your favorite Broadway showtunes. \nDoors open at 6:00 pm\nDinner served at 6:45 pm\nShow starts at 7:45 pm
URL:https://brightonculturalarts.org/event/brighton-on-broadway/
LOCATION:Armory Performing Arts Center\, 300 Strong Street\, Brighton\, CO\, 80601\, United States
CATEGORIES:Theatre Events
END:VEVENT
END:VCALENDAR