BEGIN:VCALENDAR
VERSION:2.0
PRODID:-//Brighton Cultural Arts Connection - ECPv6.15.20//NONSGML v1.0//EN
CALSCALE:GREGORIAN
METHOD:PUBLISH
X-ORIGINAL-URL:https://brightonculturalarts.org
X-WR-CALDESC:Events for Brighton Cultural Arts Connection
REFRESH-INTERVAL;VALUE=DURATION:PT1H
X-Robots-Tag:noindex
X-PUBLISHED-TTL:PT1H
BEGIN:VTIMEZONE
TZID:America/Denver
BEGIN:DAYLIGHT
TZOFFSETFROM:-0700
TZOFFSETTO:-0600
TZNAME:MDT
DTSTART:20240310T090000
END:DAYLIGHT
BEGIN:STANDARD
TZOFFSETFROM:-0600
TZOFFSETTO:-0700
TZNAME:MST
DTSTART:20241103T080000
END:STANDARD
BEGIN:DAYLIGHT
TZOFFSETFROM:-0700
TZOFFSETTO:-0600
TZNAME:MDT
DTSTART:20250309T090000
END:DAYLIGHT
BEGIN:STANDARD
TZOFFSETFROM:-0600
TZOFFSETTO:-0700
TZNAME:MST
DTSTART:20251102T080000
END:STANDARD
BEGIN:DAYLIGHT
TZOFFSETFROM:-0700
TZOFFSETTO:-0600
TZNAME:MDT
DTSTART:20260308T090000
END:DAYLIGHT
BEGIN:STANDARD
TZOFFSETFROM:-0600
TZOFFSETTO:-0700
TZNAME:MST
DTSTART:20261101T080000
END:STANDARD
END:VTIMEZONE
BEGIN:VEVENT
DTSTART;TZID=America/Denver:20250620T190000
DTEND;TZID=America/Denver:20250620T210000
DTSTAMP:20260419T131735
CREATED:20250423T232354Z
LAST-MODIFIED:20250428T194747Z
UID:10000415-1750446000-1750453200@brightonculturalarts.org
SUMMARY:Flix & Kicks - Concert with Chicano Heat
DESCRIPTION:Concert starts at 7 p.m. featuring Chicano Heat \nPlease note: All events are free to the public and are subject to cancellation at any time.
URL:https://brightonculturalarts.org/event/flix-kicks-concert-with-chicano-heat/
LOCATION:Founders Plaza\, Brighton\, CO\, 80601\, United States
END:VEVENT
END:VCALENDAR