BEGIN:VCALENDAR
VERSION:2.0
PRODID:-//Brighton Cultural Arts Connection - ECPv6.15.20//NONSGML v1.0//EN
CALSCALE:GREGORIAN
METHOD:PUBLISH
X-ORIGINAL-URL:https://brightonculturalarts.org
X-WR-CALDESC:Events for Brighton Cultural Arts Connection
REFRESH-INTERVAL;VALUE=DURATION:PT1H
X-Robots-Tag:noindex
X-PUBLISHED-TTL:PT1H
BEGIN:VTIMEZONE
TZID:America/Denver
BEGIN:DAYLIGHT
TZOFFSETFROM:-0700
TZOFFSETTO:-0600
TZNAME:MDT
DTSTART:20250309T090000
END:DAYLIGHT
BEGIN:STANDARD
TZOFFSETFROM:-0600
TZOFFSETTO:-0700
TZNAME:MST
DTSTART:20251102T080000
END:STANDARD
BEGIN:DAYLIGHT
TZOFFSETFROM:-0700
TZOFFSETTO:-0600
TZNAME:MDT
DTSTART:20260308T090000
END:DAYLIGHT
BEGIN:STANDARD
TZOFFSETFROM:-0600
TZOFFSETTO:-0700
TZNAME:MST
DTSTART:20261101T080000
END:STANDARD
BEGIN:DAYLIGHT
TZOFFSETFROM:-0700
TZOFFSETTO:-0600
TZNAME:MDT
DTSTART:20270314T090000
END:DAYLIGHT
BEGIN:STANDARD
TZOFFSETFROM:-0600
TZOFFSETTO:-0700
TZNAME:MST
DTSTART:20271107T080000
END:STANDARD
END:VTIMEZONE
BEGIN:VEVENT
DTSTART;TZID=America/Denver:20260108T164500
DTEND;TZID=America/Denver:20260108T181500
DTSTAMP:20260420T093626
CREATED:20260106T190325Z
LAST-MODIFIED:20260106T190325Z
UID:10000889-1767890700-1767896100@brightonculturalarts.org
SUMMARY:Clay Sculpting - January Penguin
DESCRIPTION:Jenny Sorensen\, a local artist specializing in polymer clay sculpting. With over 30 years of experience in polymer clay and teaching clay classes since 2015\, she’s eager to share her passion. Jenny’s teaching style is easy to follow\, hands-on\, and informative. Join Jenny for an afternoon of fun learning about and sculpting with polymer clay. All materials are included.
URL:https://brightonculturalarts.org/event/clay-sculpting-january-penguin/
LOCATION:Brighton Recreation Center\, 555 N 11th Avenue\, Brighton\, CO\, 80601\, United States
CATEGORIES:Kids
END:VEVENT
END:VCALENDAR