BEGIN:VCALENDAR
VERSION:2.0
PRODID:-//Brighton Cultural Arts Connection - ECPv6.15.20//NONSGML v1.0//EN
CALSCALE:GREGORIAN
METHOD:PUBLISH
X-ORIGINAL-URL:https://brightonculturalarts.org
X-WR-CALDESC:Events for Brighton Cultural Arts Connection
REFRESH-INTERVAL;VALUE=DURATION:PT1H
X-Robots-Tag:noindex
X-PUBLISHED-TTL:PT1H
BEGIN:VTIMEZONE
TZID:America/Denver
BEGIN:DAYLIGHT
TZOFFSETFROM:-0700
TZOFFSETTO:-0600
TZNAME:MDT
DTSTART:20240310T090000
END:DAYLIGHT
BEGIN:STANDARD
TZOFFSETFROM:-0600
TZOFFSETTO:-0700
TZNAME:MST
DTSTART:20241103T080000
END:STANDARD
BEGIN:DAYLIGHT
TZOFFSETFROM:-0700
TZOFFSETTO:-0600
TZNAME:MDT
DTSTART:20250309T090000
END:DAYLIGHT
BEGIN:STANDARD
TZOFFSETFROM:-0600
TZOFFSETTO:-0700
TZNAME:MST
DTSTART:20251102T080000
END:STANDARD
BEGIN:DAYLIGHT
TZOFFSETFROM:-0700
TZOFFSETTO:-0600
TZNAME:MDT
DTSTART:20260308T090000
END:DAYLIGHT
BEGIN:STANDARD
TZOFFSETFROM:-0600
TZOFFSETTO:-0700
TZNAME:MST
DTSTART:20261101T080000
END:STANDARD
END:VTIMEZONE
BEGIN:VEVENT
DTSTART;TZID=America/Denver:20250725T193000
DTEND;TZID=America/Denver:20250725T210000
DTSTAMP:20260419T133154
CREATED:20250221T022902Z
LAST-MODIFIED:20250221T023849Z
UID:10000262-1753471800-1753477200@brightonculturalarts.org
SUMMARY:The Bridges of Madison County by Platte Valley Players
DESCRIPTION:Based on the best-selling novel\, The Bridges of Madison County is a sweeping romantic musical with a breathtaking score by Tony Award winner Jason Robert Brown (The Last Five Years\, Parade) and a poignant book by Pulitzer Prize winner Marsha Norman. Winner of the 2014 Tony Award for Best Score and Orchestrations\, this story captures the beauty of America’s heartland and the timeless question\, “What if…?”
URL:https://brightonculturalarts.org/event/the-bridges-of-madison-county-by-platte-valley-players/
LOCATION:Armory Performing Arts Center\, 300 Strong Street\, Brighton\, CO\, 80601\, United States
CATEGORIES:Theatre Events
END:VEVENT
BEGIN:VEVENT
DTSTART;TZID=America/Denver:20250726T140000
DTEND;TZID=America/Denver:20250726T160000
DTSTAMP:20260419T133154
CREATED:20250221T023336Z
LAST-MODIFIED:20250221T023336Z
UID:10000263-1753538400-1753545600@brightonculturalarts.org
SUMMARY:The Bridges of Madison County by Platte Valley Players
DESCRIPTION:Based on the best-selling novel\, The Bridges of Madison County is a sweeping romantic musical with a breathtaking score by Tony Award winner Jason Robert Brown (The Last Five Years\, Parade) and a poignant book by Pulitzer Prize winner Marsha Norman. Winner of the 2014 Tony Award for Best Score and Orchestrations\, this story captures the beauty of America’s heartland and the timeless question\, “What if…?”
URL:https://brightonculturalarts.org/event/the-bridges-of-madison-county-by-platte-valley-players-2/
LOCATION:Armory Performing Arts Center\, 300 Strong Street\, Brighton\, CO\, 80601\, United States
CATEGORIES:Theatre Events
END:VEVENT
BEGIN:VEVENT
DTSTART;TZID=America/Denver:20250726T193000
DTEND;TZID=America/Denver:20250726T210000
DTSTAMP:20260419T133154
CREATED:20250221T023625Z
LAST-MODIFIED:20250221T023625Z
UID:10000264-1753558200-1753563600@brightonculturalarts.org
SUMMARY:The Bridges of Madison County by Platte Valley Players
DESCRIPTION:Based on the best-selling novel\, The Bridges of Madison County is a sweeping romantic musical with a breathtaking score by Tony Award winner Jason Robert Brown (The Last Five Years\, Parade) and a poignant book by Pulitzer Prize winner Marsha Norman. Winner of the 2014 Tony Award for Best Score and Orchestrations\, this story captures the beauty of America’s heartland and the timeless question\, “What if…?”
URL:https://brightonculturalarts.org/event/the-bridges-of-madison-county-by-platte-valley-players-3/
LOCATION:Armory Performing Arts Center\, 300 Strong Street\, Brighton\, CO\, 80601\, United States
CATEGORIES:Theatre Events
END:VEVENT
BEGIN:VEVENT
DTSTART;TZID=America/Denver:20250731T193000
DTEND;TZID=America/Denver:20250731T210000
DTSTAMP:20260419T133154
CREATED:20250221T023930Z
LAST-MODIFIED:20250221T023930Z
UID:10000265-1753990200-1753995600@brightonculturalarts.org
SUMMARY:The Bridges of Madison County by Platte Valley Players
DESCRIPTION:Based on the best-selling novel\, The Bridges of Madison County is a sweeping romantic musical with a breathtaking score by Tony Award winner Jason Robert Brown (The Last Five Years\, Parade) and a poignant book by Pulitzer Prize winner Marsha Norman. Winner of the 2014 Tony Award for Best Score and Orchestrations\, this story captures the beauty of America’s heartland and the timeless question\, “What if…?”
URL:https://brightonculturalarts.org/event/the-bridges-of-madison-county-by-platte-valley-players-4/
LOCATION:Armory Performing Arts Center\, 300 Strong Street\, Brighton\, CO\, 80601\, United States
CATEGORIES:Theatre Events
END:VEVENT
END:VCALENDAR