BEGIN:VCALENDAR
VERSION:2.0
PRODID:-//Brighton Cultural Arts Connection - ECPv6.15.20//NONSGML v1.0//EN
CALSCALE:GREGORIAN
METHOD:PUBLISH
X-WR-CALNAME:Brighton Cultural Arts Connection
X-ORIGINAL-URL:https://brightonculturalarts.org
X-WR-CALDESC:Events for Brighton Cultural Arts Connection
REFRESH-INTERVAL;VALUE=DURATION:PT1H
X-Robots-Tag:noindex
X-PUBLISHED-TTL:PT1H
BEGIN:VTIMEZONE
TZID:America/Denver
BEGIN:DAYLIGHT
TZOFFSETFROM:-0700
TZOFFSETTO:-0600
TZNAME:MDT
DTSTART:20230312T090000
END:DAYLIGHT
BEGIN:STANDARD
TZOFFSETFROM:-0600
TZOFFSETTO:-0700
TZNAME:MST
DTSTART:20231105T080000
END:STANDARD
BEGIN:DAYLIGHT
TZOFFSETFROM:-0700
TZOFFSETTO:-0600
TZNAME:MDT
DTSTART:20240310T090000
END:DAYLIGHT
BEGIN:STANDARD
TZOFFSETFROM:-0600
TZOFFSETTO:-0700
TZNAME:MST
DTSTART:20241103T080000
END:STANDARD
BEGIN:DAYLIGHT
TZOFFSETFROM:-0700
TZOFFSETTO:-0600
TZNAME:MDT
DTSTART:20250309T090000
END:DAYLIGHT
BEGIN:STANDARD
TZOFFSETFROM:-0600
TZOFFSETTO:-0700
TZNAME:MST
DTSTART:20251102T080000
END:STANDARD
END:VTIMEZONE
BEGIN:VEVENT
DTSTART;TZID=America/Denver:20240511T140000
DTEND;TZID=America/Denver:20240511T170000
DTSTAMP:20260420T201115
CREATED:20240222T013735Z
LAST-MODIFIED:20240507T000225Z
UID:10000033-1715436000-1715446800@brightonculturalarts.org
SUMMARY:Platte Valley Players - A Midsummer Night’s Dream
DESCRIPTION:Click here for more information and to purchase tickets!
URL:https://brightonculturalarts.org/event/platte-valley-players-a-midsummer-nights-dream-5/
LOCATION:Armory Performing Arts Center\, 300 Strong Street\, Brighton\, CO\, 80601\, United States
CATEGORIES:Theatre Events
END:VEVENT
BEGIN:VEVENT
DTSTART;TZID=America/Denver:20240511T193000
DTEND;TZID=America/Denver:20240511T213000
DTSTAMP:20260420T201115
CREATED:20240222T013929Z
LAST-MODIFIED:20240507T000250Z
UID:10000034-1715455800-1715463000@brightonculturalarts.org
SUMMARY:Platte Valley Players - A Midsummer Night’s Dream
DESCRIPTION:Click here for more information and to purchase tickets!
URL:https://brightonculturalarts.org/event/platte-valley-players-a-midsummer-nights-dream-6/
LOCATION:Armory Performing Arts Center\, 300 Strong Street\, Brighton\, CO\, 80601\, United States
CATEGORIES:Theatre Events
END:VEVENT
END:VCALENDAR