BEGIN:VCALENDAR
VERSION:2.0
PRODID:-//Brighton Cultural Arts Connection - ECPv6.15.20//NONSGML v1.0//EN
CALSCALE:GREGORIAN
METHOD:PUBLISH
X-WR-CALNAME:Brighton Cultural Arts Connection
X-ORIGINAL-URL:https://brightonculturalarts.org
X-WR-CALDESC:Events for Brighton Cultural Arts Connection
REFRESH-INTERVAL;VALUE=DURATION:PT1H
X-Robots-Tag:noindex
X-PUBLISHED-TTL:PT1H
BEGIN:VTIMEZONE
TZID:America/Denver
BEGIN:DAYLIGHT
TZOFFSETFROM:-0700
TZOFFSETTO:-0600
TZNAME:MDT
DTSTART:20240310T090000
END:DAYLIGHT
BEGIN:STANDARD
TZOFFSETFROM:-0600
TZOFFSETTO:-0700
TZNAME:MST
DTSTART:20241103T080000
END:STANDARD
BEGIN:DAYLIGHT
TZOFFSETFROM:-0700
TZOFFSETTO:-0600
TZNAME:MDT
DTSTART:20250309T090000
END:DAYLIGHT
BEGIN:STANDARD
TZOFFSETFROM:-0600
TZOFFSETTO:-0700
TZNAME:MST
DTSTART:20251102T080000
END:STANDARD
BEGIN:DAYLIGHT
TZOFFSETFROM:-0700
TZOFFSETTO:-0600
TZNAME:MDT
DTSTART:20260308T090000
END:DAYLIGHT
BEGIN:STANDARD
TZOFFSETFROM:-0600
TZOFFSETTO:-0700
TZNAME:MST
DTSTART:20261101T080000
END:STANDARD
END:VTIMEZONE
BEGIN:VEVENT
DTSTART;TZID=America/Denver:20250913T110000
DTEND;TZID=America/Denver:20250913T150000
DTSTAMP:20260420T142756
CREATED:20250725T021505Z
LAST-MODIFIED:20250725T021505Z
UID:10000570-1757761200-1757775600@brightonculturalarts.org
SUMMARY:Main Street Art Gallery Guest Artist Andy Pelster
DESCRIPTION:
URL:https://brightonculturalarts.org/event/main-street-art-gallery-guest-artist-andy-pelster-40/
LOCATION:Main Street Gallery\, 36 S. Main Street\, Brighton\, CO\, 80601\, United States
CATEGORIES:Art Events
END:VEVENT
BEGIN:VEVENT
DTSTART;TZID=America/Denver:20250912T110000
DTEND;TZID=America/Denver:20250912T150000
DTSTAMP:20260420T142756
CREATED:20250725T021423Z
LAST-MODIFIED:20250725T021423Z
UID:10000569-1757674800-1757689200@brightonculturalarts.org
SUMMARY:Main Street Art Gallery Guest Artist Andy Pelster
DESCRIPTION:
URL:https://brightonculturalarts.org/event/main-street-art-gallery-guest-artist-andy-pelster-39/
LOCATION:Main Street Gallery\, 36 S. Main Street\, Brighton\, CO\, 80601\, United States
CATEGORIES:Art Events
END:VEVENT
BEGIN:VEVENT
DTSTART;TZID=America/Denver:20250911T110000
DTEND;TZID=America/Denver:20250911T150000
DTSTAMP:20260420T142756
CREATED:20250725T021341Z
LAST-MODIFIED:20250725T021341Z
UID:10000568-1757588400-1757602800@brightonculturalarts.org
SUMMARY:Main Street Art Gallery Guest Artist Andy Pelster
DESCRIPTION:
URL:https://brightonculturalarts.org/event/main-street-art-gallery-guest-artist-andy-pelster-38/
LOCATION:Main Street Gallery\, 36 S. Main Street\, Brighton\, CO\, 80601\, United States
CATEGORIES:Art Events
END:VEVENT
BEGIN:VEVENT
DTSTART;TZID=America/Denver:20250911T110000
DTEND;TZID=America/Denver:20250911T150000
DTSTAMP:20260420T142756
CREATED:20250222T002054Z
LAST-MODIFIED:20250222T002054Z
UID:10000380-1757588400-1757602800@brightonculturalarts.org
SUMMARY:Drop-in Painting at Main Street Gallery
DESCRIPTION:
URL:https://brightonculturalarts.org/event/drop-in-painting-at-main-street-gallery-32/
LOCATION:Main Street Gallery\, 36 S. Main Street\, Brighton\, CO\, 80601\, United States
CATEGORIES:Art Events
END:VEVENT
BEGIN:VEVENT
DTSTART;TZID=America/Denver:20250910T130000
DTEND;TZID=America/Denver:20250910T150000
DTSTAMP:20260420T142756
CREATED:20250221T182227Z
LAST-MODIFIED:20250221T182227Z
UID:10000297-1757509200-1757516400@brightonculturalarts.org
SUMMARY:Acrylic Painting with Gina De Gorna
DESCRIPTION:
URL:https://brightonculturalarts.org/event/acrylic-painting-with-gina-de-gorna-30/
LOCATION:Main Street Gallery\, 36 S. Main Street\, Brighton\, CO\, 80601\, United States
CATEGORIES:Art Events
END:VEVENT
BEGIN:VEVENT
DTSTART;TZID=America/Denver:20250910T110000
DTEND;TZID=America/Denver:20250910T150000
DTSTAMP:20260420T142756
CREATED:20250725T021300Z
LAST-MODIFIED:20250725T021300Z
UID:10000567-1757502000-1757516400@brightonculturalarts.org
SUMMARY:Main Street Art Gallery Guest Artist Andy Pelster
DESCRIPTION:
URL:https://brightonculturalarts.org/event/main-street-art-gallery-guest-artist-andy-pelster-37/
LOCATION:Main Street Gallery\, 36 S. Main Street\, Brighton\, CO\, 80601\, United States
CATEGORIES:Art Events
END:VEVENT
BEGIN:VEVENT
DTSTART;TZID=America/Denver:20250909T110000
DTEND;TZID=America/Denver:20250909T150000
DTSTAMP:20260420T142756
CREATED:20250725T021218Z
LAST-MODIFIED:20250725T021218Z
UID:10000566-1757415600-1757430000@brightonculturalarts.org
SUMMARY:Main Street Art Gallery Guest Artist Andy Pelster
DESCRIPTION:
URL:https://brightonculturalarts.org/event/main-street-art-gallery-guest-artist-andy-pelster-36/
LOCATION:Main Street Gallery\, 36 S. Main Street\, Brighton\, CO\, 80601\, United States
CATEGORIES:Art Events
END:VEVENT
BEGIN:VEVENT
DTSTART;TZID=America/Denver:20250906T110000
DTEND;TZID=America/Denver:20250906T150000
DTSTAMP:20260420T142756
CREATED:20250725T021138Z
LAST-MODIFIED:20250725T021138Z
UID:10000565-1757156400-1757170800@brightonculturalarts.org
SUMMARY:Main Street Art Gallery Guest Artist Andy Pelster
DESCRIPTION:
URL:https://brightonculturalarts.org/event/main-street-art-gallery-guest-artist-andy-pelster-35/
LOCATION:Main Street Gallery\, 36 S. Main Street\, Brighton\, CO\, 80601\, United States
CATEGORIES:Art Events
END:VEVENT
BEGIN:VEVENT
DTSTART;TZID=America/Denver:20250905T110000
DTEND;TZID=America/Denver:20250905T150000
DTSTAMP:20260420T142756
CREATED:20250725T021055Z
LAST-MODIFIED:20250725T021055Z
UID:10000564-1757070000-1757084400@brightonculturalarts.org
SUMMARY:Main Street Art Gallery Guest Artist Andy Pelster
DESCRIPTION:
URL:https://brightonculturalarts.org/event/main-street-art-gallery-guest-artist-andy-pelster-34/
LOCATION:Main Street Gallery\, 36 S. Main Street\, Brighton\, CO\, 80601\, United States
CATEGORIES:Art Events
END:VEVENT
BEGIN:VEVENT
DTSTART;TZID=America/Denver:20250904T110000
DTEND;TZID=America/Denver:20250904T150000
DTSTAMP:20260420T142756
CREATED:20250725T021014Z
LAST-MODIFIED:20250725T021014Z
UID:10000563-1756983600-1756998000@brightonculturalarts.org
SUMMARY:Main Street Art Gallery Guest Artist Andy Pelster
DESCRIPTION:
URL:https://brightonculturalarts.org/event/main-street-art-gallery-guest-artist-andy-pelster-33/
LOCATION:Main Street Gallery\, 36 S. Main Street\, Brighton\, CO\, 80601\, United States
CATEGORIES:Art Events
END:VEVENT
BEGIN:VEVENT
DTSTART;TZID=America/Denver:20250904T110000
DTEND;TZID=America/Denver:20250904T150000
DTSTAMP:20260420T142756
CREATED:20250222T001548Z
LAST-MODIFIED:20250222T001548Z
UID:10000379-1756983600-1756998000@brightonculturalarts.org
SUMMARY:Drop-in Painting at Main Street Gallery
DESCRIPTION:
URL:https://brightonculturalarts.org/event/drop-in-painting-at-main-street-gallery-31/
LOCATION:Main Street Gallery\, 36 S. Main Street\, Brighton\, CO\, 80601\, United States
CATEGORIES:Art Events
END:VEVENT
BEGIN:VEVENT
DTSTART;TZID=America/Denver:20250903T130000
DTEND;TZID=America/Denver:20250903T150000
DTSTAMP:20260420T142756
CREATED:20250221T181953Z
LAST-MODIFIED:20250221T181953Z
UID:10000296-1756904400-1756911600@brightonculturalarts.org
SUMMARY:Acrylic Painting with Gina De Gorna
DESCRIPTION:
URL:https://brightonculturalarts.org/event/acrylic-painting-with-gina-de-gorna-29/
LOCATION:Main Street Gallery\, 36 S. Main Street\, Brighton\, CO\, 80601\, United States
CATEGORIES:Art Events
END:VEVENT
BEGIN:VEVENT
DTSTART;TZID=America/Denver:20250903T110000
DTEND;TZID=America/Denver:20250903T150000
DTSTAMP:20260420T142756
CREATED:20250725T020926Z
LAST-MODIFIED:20250725T020926Z
UID:10000562-1756897200-1756911600@brightonculturalarts.org
SUMMARY:Main Street Art Gallery Guest Artist Andy Pelster
DESCRIPTION:
URL:https://brightonculturalarts.org/event/main-street-art-gallery-guest-artist-andy-pelster-32/
LOCATION:Main Street Gallery\, 36 S. Main Street\, Brighton\, CO\, 80601\, United States
CATEGORIES:Art Events
END:VEVENT
BEGIN:VEVENT
DTSTART;TZID=America/Denver:20250902T110000
DTEND;TZID=America/Denver:20250902T150000
DTSTAMP:20260420T142756
CREATED:20250724T235959Z
LAST-MODIFIED:20250724T235959Z
UID:10000561-1756810800-1756825200@brightonculturalarts.org
SUMMARY:Main Street Art Gallery Guest Artist Andy Pelster
DESCRIPTION:
URL:https://brightonculturalarts.org/event/main-street-art-gallery-guest-artist-andy-pelster-31/
LOCATION:Main Street Gallery\, 36 S. Main Street\, Brighton\, CO\, 80601\, United States
CATEGORIES:Art Events
END:VEVENT
BEGIN:VEVENT
DTSTART;TZID=America/Denver:20250830T110000
DTEND;TZID=America/Denver:20250830T150000
DTSTAMP:20260420T142756
CREATED:20250724T235750Z
LAST-MODIFIED:20250724T235750Z
UID:10000560-1756551600-1756566000@brightonculturalarts.org
SUMMARY:Main Street Art Gallery Guest Artist Andy Pelster
DESCRIPTION:
URL:https://brightonculturalarts.org/event/main-street-art-gallery-guest-artist-andy-pelster-30/
LOCATION:Main Street Gallery\, 36 S. Main Street\, Brighton\, CO\, 80601\, United States
CATEGORIES:Art Events
END:VEVENT
BEGIN:VEVENT
DTSTART;TZID=America/Denver:20250829T110000
DTEND;TZID=America/Denver:20250829T150000
DTSTAMP:20260420T142756
CREATED:20250724T235703Z
LAST-MODIFIED:20250724T235703Z
UID:10000559-1756465200-1756479600@brightonculturalarts.org
SUMMARY:Main Street Art Gallery Guest Artist Andy Pelster
DESCRIPTION:
URL:https://brightonculturalarts.org/event/main-street-art-gallery-guest-artist-andy-pelster-29/
LOCATION:Main Street Gallery\, 36 S. Main Street\, Brighton\, CO\, 80601\, United States
CATEGORIES:Art Events
END:VEVENT
BEGIN:VEVENT
DTSTART;TZID=America/Denver:20250828T110000
DTEND;TZID=America/Denver:20250828T150000
DTSTAMP:20260420T142756
CREATED:20250724T235622Z
LAST-MODIFIED:20250724T235622Z
UID:10000558-1756378800-1756393200@brightonculturalarts.org
SUMMARY:Main Street Art Gallery Guest Artist Andy Pelster
DESCRIPTION:
URL:https://brightonculturalarts.org/event/main-street-art-gallery-guest-artist-andy-pelster-28/
LOCATION:Main Street Gallery\, 36 S. Main Street\, Brighton\, CO\, 80601\, United States
CATEGORIES:Art Events
END:VEVENT
BEGIN:VEVENT
DTSTART;TZID=America/Denver:20250828T110000
DTEND;TZID=America/Denver:20250828T150000
DTSTAMP:20260420T142756
CREATED:20250222T001413Z
LAST-MODIFIED:20250222T001611Z
UID:10000378-1756378800-1756393200@brightonculturalarts.org
SUMMARY:Drop-in Painting at Main Street Gallery
DESCRIPTION:
URL:https://brightonculturalarts.org/event/drop-in-painting-at-main-street-gallery-30/
LOCATION:Main Street Gallery\, 36 S. Main Street\, Brighton\, CO\, 80601\, United States
CATEGORIES:Art Events
END:VEVENT
BEGIN:VEVENT
DTSTART;TZID=America/Denver:20250827T130000
DTEND;TZID=America/Denver:20250827T150000
DTSTAMP:20260420T142756
CREATED:20250221T181913Z
LAST-MODIFIED:20250221T181913Z
UID:10000295-1756299600-1756306800@brightonculturalarts.org
SUMMARY:Acrylic Painting with Gina De Gorna
DESCRIPTION:
URL:https://brightonculturalarts.org/event/acrylic-painting-with-gina-de-gorna-28/
LOCATION:Main Street Gallery\, 36 S. Main Street\, Brighton\, CO\, 80601\, United States
CATEGORIES:Art Events
END:VEVENT
BEGIN:VEVENT
DTSTART;TZID=America/Denver:20250827T110000
DTEND;TZID=America/Denver:20250827T150000
DTSTAMP:20260420T142756
CREATED:20250724T235539Z
LAST-MODIFIED:20250724T235539Z
UID:10000557-1756292400-1756306800@brightonculturalarts.org
SUMMARY:Main Street Art Gallery Guest Artist Andy Pelster
DESCRIPTION:
URL:https://brightonculturalarts.org/event/main-street-art-gallery-guest-artist-andy-pelster-27/
LOCATION:Main Street Gallery\, 36 S. Main Street\, Brighton\, CO\, 80601\, United States
CATEGORIES:Art Events
END:VEVENT
BEGIN:VEVENT
DTSTART;TZID=America/Denver:20250826T110000
DTEND;TZID=America/Denver:20250826T150000
DTSTAMP:20260420T142756
CREATED:20250724T235449Z
LAST-MODIFIED:20250724T235449Z
UID:10000556-1756206000-1756220400@brightonculturalarts.org
SUMMARY:Main Street Art Gallery Guest Artist Andy Pelster
DESCRIPTION:
URL:https://brightonculturalarts.org/event/main-street-art-gallery-guest-artist-andy-pelster-26/
LOCATION:Main Street Gallery\, 36 S. Main Street\, Brighton\, CO\, 80601\, United States
CATEGORIES:Art Events
END:VEVENT
BEGIN:VEVENT
DTSTART;TZID=America/Denver:20250823T110000
DTEND;TZID=America/Denver:20250823T150000
DTSTAMP:20260420T142756
CREATED:20250724T235400Z
LAST-MODIFIED:20250724T235400Z
UID:10000555-1755946800-1755961200@brightonculturalarts.org
SUMMARY:Main Street Art Gallery Guest Artist Andy Pelster
DESCRIPTION:
URL:https://brightonculturalarts.org/event/main-street-art-gallery-guest-artist-andy-pelster-25/
LOCATION:Main Street Gallery\, 36 S. Main Street\, Brighton\, CO\, 80601\, United States
CATEGORIES:Art Events
END:VEVENT
BEGIN:VEVENT
DTSTART;TZID=America/Denver:20250822T110000
DTEND;TZID=America/Denver:20250822T150000
DTSTAMP:20260420T142756
CREATED:20250724T235317Z
LAST-MODIFIED:20250724T235317Z
UID:10000554-1755860400-1755874800@brightonculturalarts.org
SUMMARY:Main Street Art Gallery Guest Artist Andy Pelster
DESCRIPTION:
URL:https://brightonculturalarts.org/event/main-street-art-gallery-guest-artist-andy-pelster-24/
LOCATION:Main Street Gallery\, 36 S. Main Street\, Brighton\, CO\, 80601\, United States
CATEGORIES:Art Events
END:VEVENT
BEGIN:VEVENT
DTSTART;TZID=America/Denver:20250821T110000
DTEND;TZID=America/Denver:20250821T150000
DTSTAMP:20260420T142756
CREATED:20250724T235230Z
LAST-MODIFIED:20250724T235230Z
UID:10000553-1755774000-1755788400@brightonculturalarts.org
SUMMARY:Main Street Art Gallery Guest Artist Andy Pelster
DESCRIPTION:
URL:https://brightonculturalarts.org/event/main-street-art-gallery-guest-artist-andy-pelster-23/
LOCATION:Main Street Gallery\, 36 S. Main Street\, Brighton\, CO\, 80601\, United States
CATEGORIES:Art Events
END:VEVENT
BEGIN:VEVENT
DTSTART;TZID=America/Denver:20250821T110000
DTEND;TZID=America/Denver:20250821T150000
DTSTAMP:20260420T142756
CREATED:20250222T001115Z
LAST-MODIFIED:20250222T001115Z
UID:10000377-1755774000-1755788400@brightonculturalarts.org
SUMMARY:Drop-in Painting at Main Street Gallery
DESCRIPTION:
URL:https://brightonculturalarts.org/event/drop-in-painting-at-main-street-gallery-29/
LOCATION:Main Street Gallery\, 36 S. Main Street\, Brighton\, CO\, 80601\, United States
CATEGORIES:Art Events
END:VEVENT
BEGIN:VEVENT
DTSTART;TZID=America/Denver:20250820T130000
DTEND;TZID=America/Denver:20250820T150000
DTSTAMP:20260420T142756
CREATED:20250221T181836Z
LAST-MODIFIED:20250221T181836Z
UID:10000294-1755694800-1755702000@brightonculturalarts.org
SUMMARY:Acrylic Painting with Gina De Gorna
DESCRIPTION:
URL:https://brightonculturalarts.org/event/acrylic-painting-with-gina-de-gorna-27/
LOCATION:Main Street Gallery\, 36 S. Main Street\, Brighton\, CO\, 80601\, United States
CATEGORIES:Art Events
END:VEVENT
BEGIN:VEVENT
DTSTART;TZID=America/Denver:20250820T110000
DTEND;TZID=America/Denver:20250820T150000
DTSTAMP:20260420T142756
CREATED:20250724T235147Z
LAST-MODIFIED:20250724T235147Z
UID:10000552-1755687600-1755702000@brightonculturalarts.org
SUMMARY:Main Street Art Gallery Guest Artist Andy Pelster
DESCRIPTION:
URL:https://brightonculturalarts.org/event/main-street-art-gallery-guest-artist-andy-pelster-22/
LOCATION:Main Street Gallery\, 36 S. Main Street\, Brighton\, CO\, 80601\, United States
CATEGORIES:Art Events
END:VEVENT
BEGIN:VEVENT
DTSTART;TZID=America/Denver:20250819T110000
DTEND;TZID=America/Denver:20250819T150000
DTSTAMP:20260420T142756
CREATED:20250724T235106Z
LAST-MODIFIED:20250724T235106Z
UID:10000551-1755601200-1755615600@brightonculturalarts.org
SUMMARY:Main Street Art Gallery Guest Artist Andy Pelster
DESCRIPTION:
URL:https://brightonculturalarts.org/event/main-street-art-gallery-guest-artist-andy-pelster-21/
LOCATION:Main Street Gallery\, 36 S. Main Street\, Brighton\, CO\, 80601\, United States
CATEGORIES:Art Events
END:VEVENT
BEGIN:VEVENT
DTSTART;TZID=America/Denver:20250816T110000
DTEND;TZID=America/Denver:20250816T150000
DTSTAMP:20260420T142756
CREATED:20250724T235013Z
LAST-MODIFIED:20250724T235013Z
UID:10000550-1755342000-1755356400@brightonculturalarts.org
SUMMARY:Main Street Art Gallery Guest Artist Andy Pelster
DESCRIPTION:
URL:https://brightonculturalarts.org/event/main-street-art-gallery-guest-artist-andy-pelster-20/
LOCATION:Main Street Gallery\, 36 S. Main Street\, Brighton\, CO\, 80601\, United States
CATEGORIES:Art Events
END:VEVENT
BEGIN:VEVENT
DTSTART;TZID=America/Denver:20250815T110000
DTEND;TZID=America/Denver:20250815T150000
DTSTAMP:20260420T142756
CREATED:20250724T234925Z
LAST-MODIFIED:20250724T234925Z
UID:10000549-1755255600-1755270000@brightonculturalarts.org
SUMMARY:Main Street Art Gallery Guest Artist Andy Pelster
DESCRIPTION:
URL:https://brightonculturalarts.org/event/main-street-art-gallery-guest-artist-andy-pelster-19/
LOCATION:Main Street Gallery\, 36 S. Main Street\, Brighton\, CO\, 80601\, United States
CATEGORIES:Art Events
END:VEVENT
END:VCALENDAR