BEGIN:VCALENDAR
VERSION:2.0
PRODID:-//Brighton Cultural Arts Connection - ECPv6.15.20//NONSGML v1.0//EN
CALSCALE:GREGORIAN
METHOD:PUBLISH
X-WR-CALNAME:Brighton Cultural Arts Connection
X-ORIGINAL-URL:https://brightonculturalarts.org
X-WR-CALDESC:Events for Brighton Cultural Arts Connection
REFRESH-INTERVAL;VALUE=DURATION:PT1H
X-Robots-Tag:noindex
X-PUBLISHED-TTL:PT1H
BEGIN:VTIMEZONE
TZID:America/Denver
BEGIN:DAYLIGHT
TZOFFSETFROM:-0700
TZOFFSETTO:-0600
TZNAME:MDT
DTSTART:20240310T090000
END:DAYLIGHT
BEGIN:STANDARD
TZOFFSETFROM:-0600
TZOFFSETTO:-0700
TZNAME:MST
DTSTART:20241103T080000
END:STANDARD
BEGIN:DAYLIGHT
TZOFFSETFROM:-0700
TZOFFSETTO:-0600
TZNAME:MDT
DTSTART:20250309T090000
END:DAYLIGHT
BEGIN:STANDARD
TZOFFSETFROM:-0600
TZOFFSETTO:-0700
TZNAME:MST
DTSTART:20251102T080000
END:STANDARD
BEGIN:DAYLIGHT
TZOFFSETFROM:-0700
TZOFFSETTO:-0600
TZNAME:MDT
DTSTART:20260308T090000
END:DAYLIGHT
BEGIN:STANDARD
TZOFFSETFROM:-0600
TZOFFSETTO:-0700
TZNAME:MST
DTSTART:20261101T080000
END:STANDARD
END:VTIMEZONE
BEGIN:VEVENT
DTSTART;TZID=America/Denver:20250729T080000
DTEND;TZID=America/Denver:20250729T170000
DTSTAMP:20260420T221054
CREATED:20250724T220705Z
LAST-MODIFIED:20250724T220705Z
UID:10000528-1753776000-1753808400@brightonculturalarts.org
SUMMARY:Main Street Art Gallery Guest Artist Andy Pelster
DESCRIPTION:
URL:https://brightonculturalarts.org/event/main-street-art-gallery-guest-artist-andy-pelster-5/
LOCATION:Main Street Gallery\, 36 S. Main Street\, Brighton\, CO\, 80601\, United States
CATEGORIES:Art Events
END:VEVENT
BEGIN:VEVENT
DTSTART;TZID=America/Denver:20250727T110000
DTEND;TZID=America/Denver:20250727T150000
DTSTAMP:20260420T221054
CREATED:20250724T220621Z
LAST-MODIFIED:20250724T220621Z
UID:10000527-1753614000-1753628400@brightonculturalarts.org
SUMMARY:Main Street Art Gallery Guest Artist Andy Pelster
DESCRIPTION:
URL:https://brightonculturalarts.org/event/main-street-art-gallery-guest-artist-andy-pelster-4/
LOCATION:Main Street Gallery\, 36 S. Main Street\, Brighton\, CO\, 80601\, United States
CATEGORIES:Art Events
END:VEVENT
BEGIN:VEVENT
DTSTART;TZID=America/Denver:20250725T110000
DTEND;TZID=America/Denver:20250725T150000
DTSTAMP:20260420T221054
CREATED:20250724T220529Z
LAST-MODIFIED:20250724T220529Z
UID:10000526-1753441200-1753455600@brightonculturalarts.org
SUMMARY:Main Street Art Gallery Guest Artist Andy Pelster
DESCRIPTION:
URL:https://brightonculturalarts.org/event/main-street-art-gallery-guest-artist-andy-pelster-3/
LOCATION:Main Street Gallery\, 36 S. Main Street\, Brighton\, CO\, 80601\, United States
CATEGORIES:Art Events
END:VEVENT
BEGIN:VEVENT
DTSTART;TZID=America/Denver:20250724T110000
DTEND;TZID=America/Denver:20250724T150000
DTSTAMP:20260420T221054
CREATED:20250724T220443Z
LAST-MODIFIED:20250724T220443Z
UID:10000525-1753354800-1753369200@brightonculturalarts.org
SUMMARY:Main Street Art Gallery Guest Artist Andy Pelster
DESCRIPTION:
URL:https://brightonculturalarts.org/event/main-street-art-gallery-guest-artist-andy-pelster-2/
LOCATION:Main Street Gallery\, 36 S. Main Street\, Brighton\, CO\, 80601\, United States
CATEGORIES:Art Events
END:VEVENT
BEGIN:VEVENT
DTSTART;TZID=America/Denver:20250724T110000
DTEND;TZID=America/Denver:20250724T150000
DTSTAMP:20260420T221054
CREATED:20250222T000138Z
LAST-MODIFIED:20250222T000138Z
UID:10000373-1753354800-1753369200@brightonculturalarts.org
SUMMARY:Drop-in Painting at Main Street Gallery
DESCRIPTION:
URL:https://brightonculturalarts.org/event/drop-in-painting-at-main-street-gallery-25/
LOCATION:Main Street Gallery\, 36 S. Main Street\, Brighton\, CO\, 80601\, United States
CATEGORIES:Art Events
END:VEVENT
BEGIN:VEVENT
DTSTART;TZID=America/Denver:20250723T130000
DTEND;TZID=America/Denver:20250723T150000
DTSTAMP:20260420T221054
CREATED:20250221T181605Z
LAST-MODIFIED:20250221T181605Z
UID:10000290-1753275600-1753282800@brightonculturalarts.org
SUMMARY:Acrylic Painting with Gina De Gorna
DESCRIPTION:
URL:https://brightonculturalarts.org/event/acrylic-painting-with-gina-de-gorna-23/
LOCATION:Main Street Gallery\, 36 S. Main Street\, Brighton\, CO\, 80601\, United States
CATEGORIES:Art Events
END:VEVENT
BEGIN:VEVENT
DTSTART;TZID=America/Denver:20250717T110000
DTEND;TZID=America/Denver:20250717T150000
DTSTAMP:20260420T221054
CREATED:20250222T000041Z
LAST-MODIFIED:20250222T000041Z
UID:10000372-1752750000-1752764400@brightonculturalarts.org
SUMMARY:Drop-in Painting at Main Street Gallery
DESCRIPTION:
URL:https://brightonculturalarts.org/event/drop-in-painting-at-main-street-gallery-24/
LOCATION:Main Street Gallery\, 36 S. Main Street\, Brighton\, CO\, 80601\, United States
CATEGORIES:Art Events
END:VEVENT
BEGIN:VEVENT
DTSTART;TZID=America/Denver:20250716T130000
DTEND;TZID=America/Denver:20250716T150000
DTSTAMP:20260420T221054
CREATED:20250221T181523Z
LAST-MODIFIED:20250221T181523Z
UID:10000289-1752670800-1752678000@brightonculturalarts.org
SUMMARY:Acrylic Painting with Gina De Gorna
DESCRIPTION:
URL:https://brightonculturalarts.org/event/acrylic-painting-with-gina-de-gorna-22/
LOCATION:Main Street Gallery\, 36 S. Main Street\, Brighton\, CO\, 80601\, United States
CATEGORIES:Art Events
END:VEVENT
BEGIN:VEVENT
DTSTART;TZID=America/Denver:20250710T110000
DTEND;TZID=America/Denver:20250710T150000
DTSTAMP:20260420T221054
CREATED:20250221T235939Z
LAST-MODIFIED:20250221T235939Z
UID:10000371-1752145200-1752159600@brightonculturalarts.org
SUMMARY:Drop-in Painting at Main Street Gallery
DESCRIPTION:
URL:https://brightonculturalarts.org/event/drop-in-painting-at-main-street-gallery-23/
LOCATION:Main Street Gallery\, 36 S. Main Street\, Brighton\, CO\, 80601\, United States
CATEGORIES:Art Events
END:VEVENT
BEGIN:VEVENT
DTSTART;TZID=America/Denver:20250709T130000
DTEND;TZID=America/Denver:20250709T150000
DTSTAMP:20260420T221054
CREATED:20250221T181442Z
LAST-MODIFIED:20250221T181442Z
UID:10000288-1752066000-1752073200@brightonculturalarts.org
SUMMARY:Acrylic Painting with Gina De Gorna
DESCRIPTION:
URL:https://brightonculturalarts.org/event/acrylic-painting-with-gina-de-gorna-21/
LOCATION:Main Street Gallery\, 36 S. Main Street\, Brighton\, CO\, 80601\, United States
CATEGORIES:Art Events
END:VEVENT
BEGIN:VEVENT
DTSTART;TZID=America/Denver:20250708T110000
DTEND;TZID=America/Denver:20250708T150000
DTSTAMP:20260420T221054
CREATED:20250707T214003Z
LAST-MODIFIED:20250708T150715Z
UID:10000522-1751972400-1751986800@brightonculturalarts.org
SUMMARY:Main Street Art Gallery Guest Artist Andy Pelster
DESCRIPTION:
URL:https://brightonculturalarts.org/event/main-street-art-gallery-guest-artist-andy-pelster/
LOCATION:Main Street Gallery\, 36 S. Main Street\, Brighton\, CO\, 80601\, United States
CATEGORIES:Art Events
END:VEVENT
BEGIN:VEVENT
DTSTART;TZID=America/Denver:20250705T130000
DTEND;TZID=America/Denver:20250705T160000
DTSTAMP:20260420T221054
CREATED:20250619T175924Z
LAST-MODIFIED:20250619T175924Z
UID:10000516-1751720400-1751731200@brightonculturalarts.org
SUMMARY:Meditation & Mandala Art Workshop
DESCRIPTION:
URL:https://brightonculturalarts.org/event/meditation-mandala-art-workshop/
LOCATION:Main Street Gallery\, 36 S. Main Street\, Brighton\, CO\, 80601\, United States
CATEGORIES:Art Events
END:VEVENT
BEGIN:VEVENT
DTSTART;TZID=America/Denver:20250703T110000
DTEND;TZID=America/Denver:20250703T150000
DTSTAMP:20260420T221054
CREATED:20250221T235834Z
LAST-MODIFIED:20250221T235834Z
UID:10000370-1751540400-1751554800@brightonculturalarts.org
SUMMARY:Drop-in Painting at Main Street Gallery
DESCRIPTION:
URL:https://brightonculturalarts.org/event/drop-in-painting-at-main-street-gallery-22/
LOCATION:Main Street Gallery\, 36 S. Main Street\, Brighton\, CO\, 80601\, United States
CATEGORIES:Art Events
END:VEVENT
BEGIN:VEVENT
DTSTART;TZID=America/Denver:20250702T130000
DTEND;TZID=America/Denver:20250702T150000
DTSTAMP:20260420T221054
CREATED:20250221T181405Z
LAST-MODIFIED:20250221T181405Z
UID:10000287-1751461200-1751468400@brightonculturalarts.org
SUMMARY:Acrylic Painting with Gina De Gorna
DESCRIPTION:
URL:https://brightonculturalarts.org/event/acrylic-painting-with-gina-de-gorna-20/
LOCATION:Main Street Gallery\, 36 S. Main Street\, Brighton\, CO\, 80601\, United States
CATEGORIES:Art Events
END:VEVENT
BEGIN:VEVENT
DTSTART;TZID=America/Denver:20250628T110000
DTEND;TZID=America/Denver:20250628T150000
DTSTAMP:20260420T221054
CREATED:20250428T190103Z
LAST-MODIFIED:20250428T190103Z
UID:10000465-1751108400-1751122800@brightonculturalarts.org
SUMMARY:Featured Guest Artist Brody Olson Exhibit
DESCRIPTION:
URL:https://brightonculturalarts.org/event/featured-guest-artist-brody-olson-exhibit-45/
LOCATION:Main Street Gallery\, 36 S. Main Street\, Brighton\, CO\, 80601\, United States
CATEGORIES:Art Events
END:VEVENT
BEGIN:VEVENT
DTSTART;TZID=America/Denver:20250627T130000
DTEND;TZID=America/Denver:20250627T153000
DTSTAMP:20260420T221054
CREATED:20250619T180100Z
LAST-MODIFIED:20250619T180100Z
UID:10000517-1751029200-1751038200@brightonculturalarts.org
SUMMARY:Steampunk Dragonfly
DESCRIPTION:
URL:https://brightonculturalarts.org/event/steampunk-dragonfly/
LOCATION:Main Street Gallery\, 36 S. Main Street\, Brighton\, CO\, 80601\, United States
CATEGORIES:Art Events
END:VEVENT
BEGIN:VEVENT
DTSTART;TZID=America/Denver:20250627T110000
DTEND;TZID=America/Denver:20250627T150000
DTSTAMP:20260420T221054
CREATED:20250428T190031Z
LAST-MODIFIED:20250428T190031Z
UID:10000464-1751022000-1751036400@brightonculturalarts.org
SUMMARY:Featured Guest Artist Brody Olson Exhibit
DESCRIPTION:
URL:https://brightonculturalarts.org/event/featured-guest-artist-brody-olson-exhibit-44/
LOCATION:Main Street Gallery\, 36 S. Main Street\, Brighton\, CO\, 80601\, United States
CATEGORIES:Art Events
END:VEVENT
BEGIN:VEVENT
DTSTART;TZID=America/Denver:20250626T110000
DTEND;TZID=America/Denver:20250626T150000
DTSTAMP:20260420T221054
CREATED:20250428T185954Z
LAST-MODIFIED:20250428T185954Z
UID:10000463-1750935600-1750950000@brightonculturalarts.org
SUMMARY:Featured Guest Artist Brody Olson Exhibit
DESCRIPTION:
URL:https://brightonculturalarts.org/event/featured-guest-artist-brody-olson-exhibit-43/
LOCATION:Main Street Gallery\, 36 S. Main Street\, Brighton\, CO\, 80601\, United States
CATEGORIES:Art Events
END:VEVENT
BEGIN:VEVENT
DTSTART;TZID=America/Denver:20250626T110000
DTEND;TZID=America/Denver:20250626T150000
DTSTAMP:20260420T221054
CREATED:20250221T235645Z
LAST-MODIFIED:20250221T235645Z
UID:10000369-1750935600-1750950000@brightonculturalarts.org
SUMMARY:Drop-in Painting at Main Street Gallery
DESCRIPTION:
URL:https://brightonculturalarts.org/event/drop-in-painting-at-main-street-gallery-21/
LOCATION:Main Street Gallery\, 36 S. Main Street\, Brighton\, CO\, 80601\, United States
CATEGORIES:Art Events
END:VEVENT
BEGIN:VEVENT
DTSTART;TZID=America/Denver:20250625T130000
DTEND;TZID=America/Denver:20250625T150000
DTSTAMP:20260420T221054
CREATED:20250619T175732Z
LAST-MODIFIED:20250619T175732Z
UID:10000515-1750856400-1750863600@brightonculturalarts.org
SUMMARY:Finding Your Inner Balance Zen-Tastic Art Class
DESCRIPTION:
URL:https://brightonculturalarts.org/event/finding-your-inner-balance-zen-tastic-art-class/
LOCATION:Main Street Gallery\, 36 S. Main Street\, Brighton\, CO\, 80601\, United States
CATEGORIES:Art Events
END:VEVENT
BEGIN:VEVENT
DTSTART;TZID=America/Denver:20250625T130000
DTEND;TZID=America/Denver:20250625T150000
DTSTAMP:20260420T221054
CREATED:20250221T181227Z
LAST-MODIFIED:20250221T181227Z
UID:10000286-1750856400-1750863600@brightonculturalarts.org
SUMMARY:Acrylic Painting with Gina De Gorna
DESCRIPTION:
URL:https://brightonculturalarts.org/event/acrylic-painting-with-gina-de-gorna-19/
LOCATION:Main Street Gallery\, 36 S. Main Street\, Brighton\, CO\, 80601\, United States
CATEGORIES:Art Events
END:VEVENT
BEGIN:VEVENT
DTSTART;TZID=America/Denver:20250625T110000
DTEND;TZID=America/Denver:20250625T150000
DTSTAMP:20260420T221054
CREATED:20250428T185918Z
LAST-MODIFIED:20250428T185918Z
UID:10000462-1750849200-1750863600@brightonculturalarts.org
SUMMARY:Featured Guest Artist Brody Olson Exhibit
DESCRIPTION:
URL:https://brightonculturalarts.org/event/featured-guest-artist-brody-olson-exhibit-42/
LOCATION:Main Street Gallery\, 36 S. Main Street\, Brighton\, CO\, 80601\, United States
CATEGORIES:Art Events
END:VEVENT
BEGIN:VEVENT
DTSTART;TZID=America/Denver:20250624T110000
DTEND;TZID=America/Denver:20250624T150000
DTSTAMP:20260420T221054
CREATED:20250428T185840Z
LAST-MODIFIED:20250428T185840Z
UID:10000461-1750762800-1750777200@brightonculturalarts.org
SUMMARY:Featured Guest Artist Brody Olson Exhibit
DESCRIPTION:
URL:https://brightonculturalarts.org/event/featured-guest-artist-brody-olson-exhibit-41/
LOCATION:Main Street Gallery\, 36 S. Main Street\, Brighton\, CO\, 80601\, United States
CATEGORIES:Art Events
END:VEVENT
BEGIN:VEVENT
DTSTART;TZID=America/Denver:20250623T130000
DTEND;TZID=America/Denver:20250623T150000
DTSTAMP:20260420T221054
CREATED:20250619T175424Z
LAST-MODIFIED:20250619T175431Z
UID:10000514-1750683600-1750690800@brightonculturalarts.org
SUMMARY:Finding Your Inner Balance Zen-Tastic Art Class
DESCRIPTION:
URL:https://brightonculturalarts.org/event/finding-your-innter-balance-zen-tastic-art-class/
LOCATION:Main Street Gallery\, 36 S. Main Street\, Brighton\, CO\, 80601\, United States
CATEGORIES:Art Events
END:VEVENT
BEGIN:VEVENT
DTSTART;TZID=America/Denver:20250621T110000
DTEND;TZID=America/Denver:20250621T150000
DTSTAMP:20260420T221054
CREATED:20250428T185757Z
LAST-MODIFIED:20250428T185757Z
UID:10000460-1750503600-1750518000@brightonculturalarts.org
SUMMARY:Featured Guest Artist Brody Olson Exhibit
DESCRIPTION:
URL:https://brightonculturalarts.org/event/featured-guest-artist-brody-olson-exhibit-40/
LOCATION:Main Street Gallery\, 36 S. Main Street\, Brighton\, CO\, 80601\, United States
CATEGORIES:Art Events
END:VEVENT
BEGIN:VEVENT
DTSTART;TZID=America/Denver:20250620T180000
DTEND;TZID=America/Denver:20250620T200000
DTSTAMP:20260420T221054
CREATED:20250319T165205Z
LAST-MODIFIED:20250319T165205Z
UID:10000403-1750442400-1750449600@brightonculturalarts.org
SUMMARY:Pottery Date Night with Anastasia Bliss Pottery
DESCRIPTION:(Beginner) One-time class of 2 hours. You and a friend/partner will make 2-3 small pieces on the wheel. $55/person \nFor details contact Anastasia at:\nEmail: anastasiabliss@yahoo.com\nText: 970-391-6816
URL:https://brightonculturalarts.org/event/pottery-date-night-with-anastasia-bliss-pottery-2/
LOCATION:Main Street Gallery\, 36 S. Main Street\, Brighton\, CO\, 80601\, United States
CATEGORIES:Art Events
END:VEVENT
BEGIN:VEVENT
DTSTART;TZID=America/Denver:20250620T110000
DTEND;TZID=America/Denver:20250620T150000
DTSTAMP:20260420T221054
CREATED:20250428T185713Z
LAST-MODIFIED:20250428T185713Z
UID:10000459-1750417200-1750431600@brightonculturalarts.org
SUMMARY:Featured Guest Artist Brody Olson Exhibit
DESCRIPTION:
URL:https://brightonculturalarts.org/event/featured-guest-artist-brody-olson-exhibit-39/
LOCATION:Main Street Gallery\, 36 S. Main Street\, Brighton\, CO\, 80601\, United States
CATEGORIES:Art Events
END:VEVENT
BEGIN:VEVENT
DTSTART;TZID=America/Denver:20250619T110000
DTEND;TZID=America/Denver:20250619T150000
DTSTAMP:20260420T221054
CREATED:20250428T185634Z
LAST-MODIFIED:20250428T185634Z
UID:10000458-1750330800-1750345200@brightonculturalarts.org
SUMMARY:Featured Guest Artist Brody Olson Exhibit
DESCRIPTION:
URL:https://brightonculturalarts.org/event/featured-guest-artist-brody-olson-exhibit-38/
LOCATION:Main Street Gallery\, 36 S. Main Street\, Brighton\, CO\, 80601\, United States
CATEGORIES:Art Events
END:VEVENT
BEGIN:VEVENT
DTSTART;TZID=America/Denver:20250619T110000
DTEND;TZID=America/Denver:20250619T150000
DTSTAMP:20260420T221055
CREATED:20250221T235455Z
LAST-MODIFIED:20250221T235455Z
UID:10000368-1750330800-1750345200@brightonculturalarts.org
SUMMARY:Drop-in Painting at Main Street Gallery
DESCRIPTION:
URL:https://brightonculturalarts.org/event/drop-in-painting-at-main-street-gallery-20/
LOCATION:Main Street Gallery\, 36 S. Main Street\, Brighton\, CO\, 80601\, United States
CATEGORIES:Art Events
END:VEVENT
BEGIN:VEVENT
DTSTART;TZID=America/Denver:20250618T130000
DTEND;TZID=America/Denver:20250618T150000
DTSTAMP:20260420T221055
CREATED:20250221T181148Z
LAST-MODIFIED:20250221T181148Z
UID:10000285-1750251600-1750258800@brightonculturalarts.org
SUMMARY:Acrylic Painting with Gina De Gorna
DESCRIPTION:
URL:https://brightonculturalarts.org/event/acrylic-painting-with-gina-de-gorna-18/
LOCATION:Main Street Gallery\, 36 S. Main Street\, Brighton\, CO\, 80601\, United States
CATEGORIES:Art Events
END:VEVENT
END:VCALENDAR