BEGIN:VCALENDAR
VERSION:2.0
PRODID:-//Brighton Cultural Arts Connection - ECPv6.15.20//NONSGML v1.0//EN
CALSCALE:GREGORIAN
METHOD:PUBLISH
X-WR-CALNAME:Brighton Cultural Arts Connection
X-ORIGINAL-URL:https://brightonculturalarts.org
X-WR-CALDESC:Events for Brighton Cultural Arts Connection
REFRESH-INTERVAL;VALUE=DURATION:PT1H
X-Robots-Tag:noindex
X-PUBLISHED-TTL:PT1H
BEGIN:VTIMEZONE
TZID:America/Denver
BEGIN:DAYLIGHT
TZOFFSETFROM:-0700
TZOFFSETTO:-0600
TZNAME:MDT
DTSTART:20240310T090000
END:DAYLIGHT
BEGIN:STANDARD
TZOFFSETFROM:-0600
TZOFFSETTO:-0700
TZNAME:MST
DTSTART:20241103T080000
END:STANDARD
BEGIN:DAYLIGHT
TZOFFSETFROM:-0700
TZOFFSETTO:-0600
TZNAME:MDT
DTSTART:20250309T090000
END:DAYLIGHT
BEGIN:STANDARD
TZOFFSETFROM:-0600
TZOFFSETTO:-0700
TZNAME:MST
DTSTART:20251102T080000
END:STANDARD
BEGIN:DAYLIGHT
TZOFFSETFROM:-0700
TZOFFSETTO:-0600
TZNAME:MDT
DTSTART:20260308T090000
END:DAYLIGHT
BEGIN:STANDARD
TZOFFSETFROM:-0600
TZOFFSETTO:-0700
TZNAME:MST
DTSTART:20261101T080000
END:STANDARD
END:VTIMEZONE
BEGIN:VEVENT
DTSTART;TZID=America/Denver:20250621T110000
DTEND;TZID=America/Denver:20250621T150000
DTSTAMP:20260421T020413
CREATED:20250428T185757Z
LAST-MODIFIED:20250428T185757Z
UID:10000460-1750503600-1750518000@brightonculturalarts.org
SUMMARY:Featured Guest Artist Brody Olson Exhibit
DESCRIPTION:
URL:https://brightonculturalarts.org/event/featured-guest-artist-brody-olson-exhibit-40/
LOCATION:Main Street Gallery\, 36 S. Main Street\, Brighton\, CO\, 80601\, United States
CATEGORIES:Art Events
END:VEVENT
BEGIN:VEVENT
DTSTART;TZID=America/Denver:20250620T180000
DTEND;TZID=America/Denver:20250620T200000
DTSTAMP:20260421T020413
CREATED:20250319T165205Z
LAST-MODIFIED:20250319T165205Z
UID:10000403-1750442400-1750449600@brightonculturalarts.org
SUMMARY:Pottery Date Night with Anastasia Bliss Pottery
DESCRIPTION:(Beginner) One-time class of 2 hours. You and a friend/partner will make 2-3 small pieces on the wheel. $55/person \nFor details contact Anastasia at:\nEmail: anastasiabliss@yahoo.com\nText: 970-391-6816
URL:https://brightonculturalarts.org/event/pottery-date-night-with-anastasia-bliss-pottery-2/
LOCATION:Main Street Gallery\, 36 S. Main Street\, Brighton\, CO\, 80601\, United States
CATEGORIES:Art Events
END:VEVENT
BEGIN:VEVENT
DTSTART;TZID=America/Denver:20250620T110000
DTEND;TZID=America/Denver:20250620T150000
DTSTAMP:20260421T020413
CREATED:20250428T185713Z
LAST-MODIFIED:20250428T185713Z
UID:10000459-1750417200-1750431600@brightonculturalarts.org
SUMMARY:Featured Guest Artist Brody Olson Exhibit
DESCRIPTION:
URL:https://brightonculturalarts.org/event/featured-guest-artist-brody-olson-exhibit-39/
LOCATION:Main Street Gallery\, 36 S. Main Street\, Brighton\, CO\, 80601\, United States
CATEGORIES:Art Events
END:VEVENT
BEGIN:VEVENT
DTSTART;TZID=America/Denver:20250619T110000
DTEND;TZID=America/Denver:20250619T150000
DTSTAMP:20260421T020413
CREATED:20250428T185634Z
LAST-MODIFIED:20250428T185634Z
UID:10000458-1750330800-1750345200@brightonculturalarts.org
SUMMARY:Featured Guest Artist Brody Olson Exhibit
DESCRIPTION:
URL:https://brightonculturalarts.org/event/featured-guest-artist-brody-olson-exhibit-38/
LOCATION:Main Street Gallery\, 36 S. Main Street\, Brighton\, CO\, 80601\, United States
CATEGORIES:Art Events
END:VEVENT
BEGIN:VEVENT
DTSTART;TZID=America/Denver:20250619T110000
DTEND;TZID=America/Denver:20250619T150000
DTSTAMP:20260421T020413
CREATED:20250221T235455Z
LAST-MODIFIED:20250221T235455Z
UID:10000368-1750330800-1750345200@brightonculturalarts.org
SUMMARY:Drop-in Painting at Main Street Gallery
DESCRIPTION:
URL:https://brightonculturalarts.org/event/drop-in-painting-at-main-street-gallery-20/
LOCATION:Main Street Gallery\, 36 S. Main Street\, Brighton\, CO\, 80601\, United States
CATEGORIES:Art Events
END:VEVENT
BEGIN:VEVENT
DTSTART;TZID=America/Denver:20250618T130000
DTEND;TZID=America/Denver:20250618T150000
DTSTAMP:20260421T020413
CREATED:20250221T181148Z
LAST-MODIFIED:20250221T181148Z
UID:10000285-1750251600-1750258800@brightonculturalarts.org
SUMMARY:Acrylic Painting with Gina De Gorna
DESCRIPTION:
URL:https://brightonculturalarts.org/event/acrylic-painting-with-gina-de-gorna-18/
LOCATION:Main Street Gallery\, 36 S. Main Street\, Brighton\, CO\, 80601\, United States
CATEGORIES:Art Events
END:VEVENT
BEGIN:VEVENT
DTSTART;TZID=America/Denver:20250618T110000
DTEND;TZID=America/Denver:20250618T150000
DTSTAMP:20260421T020413
CREATED:20250428T185557Z
LAST-MODIFIED:20250428T193409Z
UID:10000457-1750244400-1750258800@brightonculturalarts.org
SUMMARY:Featured Guest Artist Brody Olson Exhibit
DESCRIPTION:
URL:https://brightonculturalarts.org/event/featured-guest-artist-brody-olson-exhibit-37/
LOCATION:Main Street Gallery\, 36 S. Main Street\, Brighton\, CO\, 80601\, United States
CATEGORIES:Art Events
END:VEVENT
BEGIN:VEVENT
DTSTART;TZID=America/Denver:20250617T110000
DTEND;TZID=America/Denver:20250617T150000
DTSTAMP:20260421T020413
CREATED:20250428T185509Z
LAST-MODIFIED:20250428T185509Z
UID:10000456-1750158000-1750172400@brightonculturalarts.org
SUMMARY:Featured Guest Artist Brody Olson Exhibit
DESCRIPTION:
URL:https://brightonculturalarts.org/event/featured-guest-artist-brody-olson-exhibit-36/
LOCATION:Main Street Gallery\, 36 S. Main Street\, Brighton\, CO\, 80601\, United States
CATEGORIES:Art Events
END:VEVENT
BEGIN:VEVENT
DTSTART;TZID=America/Denver:20250614T143000
DTEND;TZID=America/Denver:20250614T173000
DTSTAMP:20260421T020413
CREATED:20250527T152104Z
LAST-MODIFIED:20250527T152104Z
UID:10000488-1749911400-1749922200@brightonculturalarts.org
SUMMARY:Acrylic Pour Class
DESCRIPTION:A New Class at Main Street Creatives!
URL:https://brightonculturalarts.org/event/acrylic-pour-class/
LOCATION:Main Street Gallery\, 36 S. Main Street\, Brighton\, CO\, 80601\, United States
CATEGORIES:Art Events
END:VEVENT
BEGIN:VEVENT
DTSTART;TZID=America/Denver:20250614T110000
DTEND;TZID=America/Denver:20250614T150000
DTSTAMP:20260421T020413
CREATED:20250428T185343Z
LAST-MODIFIED:20250428T185343Z
UID:10000454-1749898800-1749913200@brightonculturalarts.org
SUMMARY:Featured Guest Artist Brody Olson Exhibit
DESCRIPTION:
URL:https://brightonculturalarts.org/event/featured-guest-artist-brody-olson-exhibit-34/
LOCATION:Main Street Gallery\, 36 S. Main Street\, Brighton\, CO\, 80601\, United States
CATEGORIES:Art Events
END:VEVENT
BEGIN:VEVENT
DTSTART;TZID=America/Denver:20250613T110000
DTEND;TZID=America/Denver:20250613T150000
DTSTAMP:20260421T020413
CREATED:20250428T185302Z
LAST-MODIFIED:20250428T185302Z
UID:10000453-1749812400-1749826800@brightonculturalarts.org
SUMMARY:Featured Guest Artist Brody Olson Exhibit
DESCRIPTION:
URL:https://brightonculturalarts.org/event/featured-guest-artist-brody-olson-exhibit-33/
LOCATION:Main Street Gallery\, 36 S. Main Street\, Brighton\, CO\, 80601\, United States
CATEGORIES:Art Events
END:VEVENT
BEGIN:VEVENT
DTSTART;TZID=America/Denver:20250612T110000
DTEND;TZID=America/Denver:20250612T150000
DTSTAMP:20260421T020413
CREATED:20250428T185224Z
LAST-MODIFIED:20250428T185224Z
UID:10000452-1749726000-1749740400@brightonculturalarts.org
SUMMARY:Featured Guest Artist Brody Olson Exhibit
DESCRIPTION:
URL:https://brightonculturalarts.org/event/featured-guest-artist-brody-olson-exhibit-32/
LOCATION:Main Street Gallery\, 36 S. Main Street\, Brighton\, CO\, 80601\, United States
CATEGORIES:Art Events
END:VEVENT
BEGIN:VEVENT
DTSTART;TZID=America/Denver:20250612T110000
DTEND;TZID=America/Denver:20250612T150000
DTSTAMP:20260421T020413
CREATED:20250221T234717Z
LAST-MODIFIED:20250221T234717Z
UID:10000367-1749726000-1749740400@brightonculturalarts.org
SUMMARY:Drop-in Painting at Main Street Gallery
DESCRIPTION:
URL:https://brightonculturalarts.org/event/drop-in-painting-at-main-street-gallery-19/
LOCATION:Main Street Gallery\, 36 S. Main Street\, Brighton\, CO\, 80601\, United States
CATEGORIES:Art Events
END:VEVENT
BEGIN:VEVENT
DTSTART;TZID=America/Denver:20250611T130000
DTEND;TZID=America/Denver:20250611T150000
DTSTAMP:20260421T020413
CREATED:20250221T181056Z
LAST-MODIFIED:20250221T181056Z
UID:10000284-1749646800-1749654000@brightonculturalarts.org
SUMMARY:Acrylic Painting with Gina De Gorna
DESCRIPTION:
URL:https://brightonculturalarts.org/event/acrylic-painting-with-gina-de-gorna-17/
LOCATION:Main Street Gallery\, 36 S. Main Street\, Brighton\, CO\, 80601\, United States
CATEGORIES:Art Events
END:VEVENT
BEGIN:VEVENT
DTSTART;TZID=America/Denver:20250611T110000
DTEND;TZID=America/Denver:20250611T150000
DTSTAMP:20260421T020413
CREATED:20250428T185146Z
LAST-MODIFIED:20250428T193333Z
UID:10000451-1749639600-1749654000@brightonculturalarts.org
SUMMARY:Featured Guest Artist Brody Olson Exhibit
DESCRIPTION:
URL:https://brightonculturalarts.org/event/featured-guest-artist-brody-olson-exhibit-31/
LOCATION:Main Street Gallery\, 36 S. Main Street\, Brighton\, CO\, 80601\, United States
CATEGORIES:Art Events
END:VEVENT
BEGIN:VEVENT
DTSTART;TZID=America/Denver:20250610T110000
DTEND;TZID=America/Denver:20250610T150000
DTSTAMP:20260421T020413
CREATED:20250428T185102Z
LAST-MODIFIED:20250428T185102Z
UID:10000450-1749553200-1749567600@brightonculturalarts.org
SUMMARY:Featured Guest Artist Brody Olson Exhibit
DESCRIPTION:
URL:https://brightonculturalarts.org/event/featured-guest-artist-brody-olson-exhibit-30/
LOCATION:Main Street Gallery\, 36 S. Main Street\, Brighton\, CO\, 80601\, United States
CATEGORIES:Art Events
END:VEVENT
BEGIN:VEVENT
DTSTART;TZID=America/Denver:20250607T110000
DTEND;TZID=America/Denver:20250607T150000
DTSTAMP:20260421T020413
CREATED:20250428T185020Z
LAST-MODIFIED:20250428T185020Z
UID:10000449-1749294000-1749308400@brightonculturalarts.org
SUMMARY:Featured Guest Artist Brody Olson Exhibit
DESCRIPTION:
URL:https://brightonculturalarts.org/event/featured-guest-artist-brody-olson-exhibit-29/
LOCATION:Main Street Gallery\, 36 S. Main Street\, Brighton\, CO\, 80601\, United States
CATEGORIES:Art Events
END:VEVENT
BEGIN:VEVENT
DTSTART;TZID=America/Denver:20250606T110000
DTEND;TZID=America/Denver:20250606T150000
DTSTAMP:20260421T020413
CREATED:20250428T184932Z
LAST-MODIFIED:20250428T184932Z
UID:10000448-1749207600-1749222000@brightonculturalarts.org
SUMMARY:Featured Guest Artist Brody Olson Exhibit
DESCRIPTION:
URL:https://brightonculturalarts.org/event/featured-guest-artist-brody-olson-exhibit-28/
LOCATION:Main Street Gallery\, 36 S. Main Street\, Brighton\, CO\, 80601\, United States
CATEGORIES:Art Events
END:VEVENT
BEGIN:VEVENT
DTSTART;TZID=America/Denver:20250605T110000
DTEND;TZID=America/Denver:20250605T150000
DTSTAMP:20260421T020413
CREATED:20250428T184843Z
LAST-MODIFIED:20250428T184843Z
UID:10000447-1749121200-1749135600@brightonculturalarts.org
SUMMARY:Featured Guest Artist Brody Olson Exhibit
DESCRIPTION:
URL:https://brightonculturalarts.org/event/featured-guest-artist-brody-olson-exhibit-27/
LOCATION:Main Street Gallery\, 36 S. Main Street\, Brighton\, CO\, 80601\, United States
CATEGORIES:Art Events
END:VEVENT
BEGIN:VEVENT
DTSTART;TZID=America/Denver:20250605T110000
DTEND;TZID=America/Denver:20250605T150000
DTSTAMP:20260421T020414
CREATED:20250221T234522Z
LAST-MODIFIED:20250221T234522Z
UID:10000366-1749121200-1749135600@brightonculturalarts.org
SUMMARY:Drop-in Painting at Main Street Gallery
DESCRIPTION:
URL:https://brightonculturalarts.org/event/drop-in-painting-at-main-street-gallery-18/
LOCATION:Main Street Gallery\, 36 S. Main Street\, Brighton\, CO\, 80601\, United States
CATEGORIES:Art Events
END:VEVENT
BEGIN:VEVENT
DTSTART;TZID=America/Denver:20250604T130000
DTEND;TZID=America/Denver:20250604T150000
DTSTAMP:20260421T020414
CREATED:20250221T181020Z
LAST-MODIFIED:20250221T181020Z
UID:10000283-1749042000-1749049200@brightonculturalarts.org
SUMMARY:Acrylic Painting with Gina De Gorna
DESCRIPTION:
URL:https://brightonculturalarts.org/event/acrylic-painting-with-gina-de-gorna-16/
LOCATION:Main Street Gallery\, 36 S. Main Street\, Brighton\, CO\, 80601\, United States
CATEGORIES:Art Events
END:VEVENT
BEGIN:VEVENT
DTSTART;TZID=America/Denver:20250604T110000
DTEND;TZID=America/Denver:20250604T150000
DTSTAMP:20260421T020414
CREATED:20250428T184801Z
LAST-MODIFIED:20250428T184801Z
UID:10000446-1749034800-1749049200@brightonculturalarts.org
SUMMARY:Featured Guest Artist Brody Olson Exhibit
DESCRIPTION:
URL:https://brightonculturalarts.org/event/featured-guest-artist-brody-olson-exhibit-26/
LOCATION:Main Street Gallery\, 36 S. Main Street\, Brighton\, CO\, 80601\, United States
CATEGORIES:Art Events
END:VEVENT
BEGIN:VEVENT
DTSTART;TZID=America/Denver:20250603T110000
DTEND;TZID=America/Denver:20250603T150000
DTSTAMP:20260421T020414
CREATED:20250428T184720Z
LAST-MODIFIED:20250428T184720Z
UID:10000445-1748948400-1748962800@brightonculturalarts.org
SUMMARY:Featured Guest Artist Brody Olson Exhibit
DESCRIPTION:
URL:https://brightonculturalarts.org/event/featured-guest-artist-brody-olson-exhibit-25/
LOCATION:Main Street Gallery\, 36 S. Main Street\, Brighton\, CO\, 80601\, United States
CATEGORIES:Art Events
END:VEVENT
BEGIN:VEVENT
DTSTART;TZID=America/Denver:20250531T110000
DTEND;TZID=America/Denver:20250531T150000
DTSTAMP:20260421T020414
CREATED:20250428T193742Z
LAST-MODIFIED:20250428T193742Z
UID:10000466-1748689200-1748703600@brightonculturalarts.org
SUMMARY:Featured Guest Artist Brody Olson Exhibit
DESCRIPTION:
URL:https://brightonculturalarts.org/event/featured-guest-artist-brody-olson-exhibit-35/
LOCATION:Main Street Gallery\, 36 S. Main Street\, Brighton\, CO\, 80601\, United States
CATEGORIES:Art Events
END:VEVENT
BEGIN:VEVENT
DTSTART;TZID=America/Denver:20250530T110000
DTEND;TZID=America/Denver:20250530T150000
DTSTAMP:20260421T020414
CREATED:20250428T184635Z
LAST-MODIFIED:20250428T184635Z
UID:10000444-1748602800-1748617200@brightonculturalarts.org
SUMMARY:Featured Guest Artist Brody Olson Exhibit
DESCRIPTION:
URL:https://brightonculturalarts.org/event/featured-guest-artist-brody-olson-exhibit-24/
LOCATION:Main Street Gallery\, 36 S. Main Street\, Brighton\, CO\, 80601\, United States
CATEGORIES:Art Events
END:VEVENT
BEGIN:VEVENT
DTSTART;TZID=America/Denver:20250530T110000
DTEND;TZID=America/Denver:20250530T150000
DTSTAMP:20260421T020414
CREATED:20250220T193325Z
LAST-MODIFIED:20250220T193325Z
UID:10000221-1748602800-1748617200@brightonculturalarts.org
SUMMARY:Main Street Gallery 6x6 Community Art Show & Sale
DESCRIPTION:
URL:https://brightonculturalarts.org/event/main-street-gallery-6x6-community-art-show-sale-22/
LOCATION:Main Street Gallery\, 36 S. Main Street\, Brighton\, CO\, 80601\, United States
CATEGORIES:Art Events
END:VEVENT
BEGIN:VEVENT
DTSTART;TZID=America/Denver:20250529T110000
DTEND;TZID=America/Denver:20250529T150000
DTSTAMP:20260421T020414
CREATED:20250221T234405Z
LAST-MODIFIED:20250221T234405Z
UID:10000365-1748516400-1748530800@brightonculturalarts.org
SUMMARY:Drop-in Painting at Main Street Gallery
DESCRIPTION:
URL:https://brightonculturalarts.org/event/drop-in-painting-at-main-street-gallery-17/
LOCATION:Main Street Gallery\, 36 S. Main Street\, Brighton\, CO\, 80601\, United States
CATEGORIES:Art Events
END:VEVENT
BEGIN:VEVENT
DTSTART;TZID=America/Denver:20250529T110000
DTEND;TZID=America/Denver:20250529T150000
DTSTAMP:20260421T020414
CREATED:20250220T193244Z
LAST-MODIFIED:20250220T193244Z
UID:10000220-1748516400-1748530800@brightonculturalarts.org
SUMMARY:Main Street Gallery 6x6 Community Art Show & Sale
DESCRIPTION:
URL:https://brightonculturalarts.org/event/main-street-gallery-6x6-community-art-show-sale-21/
LOCATION:Main Street Gallery\, 36 S. Main Street\, Brighton\, CO\, 80601\, United States
CATEGORIES:Art Events
END:VEVENT
BEGIN:VEVENT
DTSTART;TZID=America/Denver:20250528T130000
DTEND;TZID=America/Denver:20250528T150000
DTSTAMP:20260421T020414
CREATED:20250221T180940Z
LAST-MODIFIED:20250221T180940Z
UID:10000282-1748437200-1748444400@brightonculturalarts.org
SUMMARY:Acrylic Painting with Gina De Gorna
DESCRIPTION:
URL:https://brightonculturalarts.org/event/acrylic-painting-with-gina-de-gorna-15/
LOCATION:Main Street Gallery\, 36 S. Main Street\, Brighton\, CO\, 80601\, United States
CATEGORIES:Art Events
END:VEVENT
BEGIN:VEVENT
DTSTART;TZID=America/Denver:20250528T110000
DTEND;TZID=America/Denver:20250528T150000
DTSTAMP:20260421T020414
CREATED:20250428T183441Z
LAST-MODIFIED:20250428T183441Z
UID:10000442-1748430000-1748444400@brightonculturalarts.org
SUMMARY:Featured Guest Artist Brody Olson Exhibit
DESCRIPTION:
URL:https://brightonculturalarts.org/event/featured-guest-artist-brody-olson-exhibit-22/
LOCATION:Main Street Gallery\, 36 S. Main Street\, Brighton\, CO\, 80601\, United States
CATEGORIES:Art Events
END:VEVENT
END:VCALENDAR