BEGIN:VCALENDAR
VERSION:2.0
PRODID:-//Brighton Cultural Arts Connection - ECPv6.15.20//NONSGML v1.0//EN
CALSCALE:GREGORIAN
METHOD:PUBLISH
X-WR-CALNAME:Brighton Cultural Arts Connection
X-ORIGINAL-URL:https://brightonculturalarts.org
X-WR-CALDESC:Events for Brighton Cultural Arts Connection
REFRESH-INTERVAL;VALUE=DURATION:PT1H
X-Robots-Tag:noindex
X-PUBLISHED-TTL:PT1H
BEGIN:VTIMEZONE
TZID:America/Denver
BEGIN:DAYLIGHT
TZOFFSETFROM:-0700
TZOFFSETTO:-0600
TZNAME:MDT
DTSTART:20240310T090000
END:DAYLIGHT
BEGIN:STANDARD
TZOFFSETFROM:-0600
TZOFFSETTO:-0700
TZNAME:MST
DTSTART:20241103T080000
END:STANDARD
BEGIN:DAYLIGHT
TZOFFSETFROM:-0700
TZOFFSETTO:-0600
TZNAME:MDT
DTSTART:20250309T090000
END:DAYLIGHT
BEGIN:STANDARD
TZOFFSETFROM:-0600
TZOFFSETTO:-0700
TZNAME:MST
DTSTART:20251102T080000
END:STANDARD
BEGIN:DAYLIGHT
TZOFFSETFROM:-0700
TZOFFSETTO:-0600
TZNAME:MDT
DTSTART:20260308T090000
END:DAYLIGHT
BEGIN:STANDARD
TZOFFSETFROM:-0600
TZOFFSETTO:-0700
TZNAME:MST
DTSTART:20261101T080000
END:STANDARD
END:VTIMEZONE
BEGIN:VEVENT
DTSTART;TZID=America/Denver:20251024T110000
DTEND;TZID=America/Denver:20251024T150000
DTSTAMP:20260420T084800
CREATED:20250220T210316Z
LAST-MODIFIED:20250220T210316Z
UID:10000252-1761303600-1761318000@brightonculturalarts.org
SUMMARY:Fine Art Show & Sale at Main Street Gallery
DESCRIPTION:
URL:https://brightonculturalarts.org/event/fine-art-show-sale-at-main-street-gallery-11/
LOCATION:Main Street Gallery\, 36 S. Main Street\, Brighton\, CO\, 80601\, United States
CATEGORIES:Art Events
END:VEVENT
BEGIN:VEVENT
DTSTART;TZID=America/Denver:20251023T110000
DTEND;TZID=America/Denver:20251023T150000
DTSTAMP:20260420T084800
CREATED:20250222T003655Z
LAST-MODIFIED:20250222T003655Z
UID:10000388-1761217200-1761231600@brightonculturalarts.org
SUMMARY:Drop-in Painting at Main Street Gallery
DESCRIPTION:
URL:https://brightonculturalarts.org/event/drop-in-painting-at-main-street-gallery-40/
LOCATION:Main Street Gallery\, 36 S. Main Street\, Brighton\, CO\, 80601\, United States
CATEGORIES:Art Events
END:VEVENT
BEGIN:VEVENT
DTSTART;TZID=America/Denver:20251023T110000
DTEND;TZID=America/Denver:20251023T150000
DTSTAMP:20260420T084800
CREATED:20250220T210031Z
LAST-MODIFIED:20250220T210031Z
UID:10000251-1761217200-1761231600@brightonculturalarts.org
SUMMARY:Fine Art Show & Sale at Main Street Gallery
DESCRIPTION:
URL:https://brightonculturalarts.org/event/fine-art-show-sale-at-main-street-gallery-10/
LOCATION:Main Street Gallery\, 36 S. Main Street\, Brighton\, CO\, 80601\, United States
CATEGORIES:Art Events
END:VEVENT
BEGIN:VEVENT
DTSTART;TZID=America/Denver:20251022T130000
DTEND;TZID=America/Denver:20251022T150000
DTSTAMP:20260420T084800
CREATED:20250221T182857Z
LAST-MODIFIED:20250221T182857Z
UID:10000303-1761138000-1761145200@brightonculturalarts.org
SUMMARY:Acrylic Painting with Gina De Gorna
DESCRIPTION:
URL:https://brightonculturalarts.org/event/acrylic-painting-with-gina-de-gorna-36/
LOCATION:Main Street Gallery\, 36 S. Main Street\, Brighton\, CO\, 80601\, United States
CATEGORIES:Art Events
END:VEVENT
BEGIN:VEVENT
DTSTART;TZID=America/Denver:20251022T110000
DTEND;TZID=America/Denver:20251022T150000
DTSTAMP:20260420T084800
CREATED:20250220T205934Z
LAST-MODIFIED:20250220T205934Z
UID:10000250-1761130800-1761145200@brightonculturalarts.org
SUMMARY:Fine Art Show & Sale at Main Street Gallery
DESCRIPTION:
URL:https://brightonculturalarts.org/event/fine-art-show-sale-at-main-street-gallery-9/
LOCATION:Main Street Gallery\, 36 S. Main Street\, Brighton\, CO\, 80601\, United States
CATEGORIES:Art Events
END:VEVENT
BEGIN:VEVENT
DTSTART;TZID=America/Denver:20251021T110000
DTEND;TZID=America/Denver:20251021T150000
DTSTAMP:20260420T084800
CREATED:20250220T205837Z
LAST-MODIFIED:20250220T205837Z
UID:10000249-1761044400-1761058800@brightonculturalarts.org
SUMMARY:Fine Art Show & Sale at Main Street Gallery
DESCRIPTION:
URL:https://brightonculturalarts.org/event/fine-art-show-sale-at-main-street-gallery-8/
LOCATION:Main Street Gallery\, 36 S. Main Street\, Brighton\, CO\, 80601\, United States
CATEGORIES:Art Events
END:VEVENT
BEGIN:VEVENT
DTSTART;TZID=America/Denver:20251018T110000
DTEND;TZID=America/Denver:20251018T150000
DTSTAMP:20260420T084800
CREATED:20250220T205707Z
LAST-MODIFIED:20250220T205707Z
UID:10000248-1760785200-1760799600@brightonculturalarts.org
SUMMARY:Fine Art Show & Sale at Main Street Gallery
DESCRIPTION:
URL:https://brightonculturalarts.org/event/fine-art-show-sale-at-main-street-gallery-7/
LOCATION:Main Street Gallery\, 36 S. Main Street\, Brighton\, CO\, 80601\, United States
CATEGORIES:Art Events
END:VEVENT
BEGIN:VEVENT
DTSTART;TZID=America/Denver:20251017T110000
DTEND;TZID=America/Denver:20251017T150000
DTSTAMP:20260420T084800
CREATED:20250220T205621Z
LAST-MODIFIED:20250220T205621Z
UID:10000247-1760698800-1760713200@brightonculturalarts.org
SUMMARY:Fine Art Show & Sale at Main Street Gallery
DESCRIPTION:
URL:https://brightonculturalarts.org/event/fine-art-show-sale-at-main-street-gallery-6/
LOCATION:Main Street Gallery\, 36 S. Main Street\, Brighton\, CO\, 80601\, United States
CATEGORIES:Art Events
END:VEVENT
BEGIN:VEVENT
DTSTART;TZID=America/Denver:20251016T110000
DTEND;TZID=America/Denver:20251016T150000
DTSTAMP:20260420T084800
CREATED:20250222T003327Z
LAST-MODIFIED:20250222T003327Z
UID:10000386-1760612400-1760626800@brightonculturalarts.org
SUMMARY:Drop-in Painting at Main Street Gallery
DESCRIPTION:
URL:https://brightonculturalarts.org/event/drop-in-painting-at-main-street-gallery-38/
LOCATION:Main Street Gallery\, 36 S. Main Street\, Brighton\, CO\, 80601\, United States
CATEGORIES:Art Events
END:VEVENT
BEGIN:VEVENT
DTSTART;TZID=America/Denver:20251016T110000
DTEND;TZID=America/Denver:20251016T150000
DTSTAMP:20260420T084800
CREATED:20250220T205453Z
LAST-MODIFIED:20250220T205453Z
UID:10000246-1760612400-1760626800@brightonculturalarts.org
SUMMARY:Fine Art Show & Sale at Main Street Gallery
DESCRIPTION:
URL:https://brightonculturalarts.org/event/fine-art-show-sale-at-main-street-gallery-5/
LOCATION:Main Street Gallery\, 36 S. Main Street\, Brighton\, CO\, 80601\, United States
CATEGORIES:Art Events
END:VEVENT
BEGIN:VEVENT
DTSTART;TZID=America/Denver:20251015T130000
DTEND;TZID=America/Denver:20251015T150000
DTSTAMP:20260420T084800
CREATED:20250221T182752Z
LAST-MODIFIED:20250221T182752Z
UID:10000302-1760533200-1760540400@brightonculturalarts.org
SUMMARY:Acrylic Painting with Gina De Gorna
DESCRIPTION:
URL:https://brightonculturalarts.org/event/acrylic-painting-with-gina-de-gorna-35/
LOCATION:Main Street Gallery\, 36 S. Main Street\, Brighton\, CO\, 80601\, United States
CATEGORIES:Art Events
END:VEVENT
BEGIN:VEVENT
DTSTART;TZID=America/Denver:20251015T110000
DTEND;TZID=America/Denver:20251015T150000
DTSTAMP:20260420T084800
CREATED:20250220T205353Z
LAST-MODIFIED:20250220T205353Z
UID:10000245-1760526000-1760540400@brightonculturalarts.org
SUMMARY:Fine Art Show & Sale at Main Street Gallery
DESCRIPTION:
URL:https://brightonculturalarts.org/event/fine-art-show-sale-at-main-street-gallery-4/
LOCATION:Main Street Gallery\, 36 S. Main Street\, Brighton\, CO\, 80601\, United States
CATEGORIES:Art Events
END:VEVENT
BEGIN:VEVENT
DTSTART;TZID=America/Denver:20251014T110000
DTEND;TZID=America/Denver:20251014T150000
DTSTAMP:20260420T084800
CREATED:20250220T205006Z
LAST-MODIFIED:20250220T205006Z
UID:10000244-1760439600-1760454000@brightonculturalarts.org
SUMMARY:Fine Art Show & Sale at Main Street Gallery
DESCRIPTION:
URL:https://brightonculturalarts.org/event/fine-art-show-sale-at-main-street-gallery-3/
LOCATION:Main Street Gallery\, 36 S. Main Street\, Brighton\, CO\, 80601\, United States
CATEGORIES:Art Events
END:VEVENT
BEGIN:VEVENT
DTSTART;TZID=America/Denver:20251012T110000
DTEND;TZID=America/Denver:20251012T150000
DTSTAMP:20260420T084800
CREATED:20250220T204828Z
LAST-MODIFIED:20250220T204828Z
UID:10000243-1760266800-1760281200@brightonculturalarts.org
SUMMARY:Fine Art Show & Sale at Main Street Gallery
DESCRIPTION:
URL:https://brightonculturalarts.org/event/fine-art-show-sale-at-main-street-gallery-2/
LOCATION:Main Street Gallery\, 36 S. Main Street\, Brighton\, CO\, 80601\, United States
CATEGORIES:Art Events
END:VEVENT
BEGIN:VEVENT
DTSTART;TZID=America/Denver:20251011T110000
DTEND;TZID=America/Denver:20251011T150000
DTSTAMP:20260420T084800
CREATED:20250220T204719Z
LAST-MODIFIED:20250220T204719Z
UID:10000242-1760180400-1760194800@brightonculturalarts.org
SUMMARY:Fine Art Show & Sale at Main Street Gallery
DESCRIPTION:
URL:https://brightonculturalarts.org/event/fine-art-show-sale-at-main-street-gallery/
LOCATION:Main Street Gallery\, 36 S. Main Street\, Brighton\, CO\, 80601\, United States
CATEGORIES:Art Events
END:VEVENT
BEGIN:VEVENT
DTSTART;TZID=America/Denver:20251010T110000
DTEND;TZID=America/Denver:20251010T150000
DTSTAMP:20260420T084800
CREATED:20250219T190114Z
LAST-MODIFIED:20250220T204616Z
UID:10000144-1760094000-1760108400@brightonculturalarts.org
SUMMARY:Fine Art Show & Sale at Main Street Gallery
DESCRIPTION:
URL:https://brightonculturalarts.org/event/fine-art-show-and-sale/
LOCATION:Main Street Gallery\, 36 S. Main Street\, Brighton\, CO\, 80601\, United States
CATEGORIES:Art Events
END:VEVENT
BEGIN:VEVENT
DTSTART;TZID=America/Denver:20251009T110000
DTEND;TZID=America/Denver:20251009T150000
DTSTAMP:20260420T084800
CREATED:20250222T002617Z
LAST-MODIFIED:20250222T003010Z
UID:10000385-1760007600-1760022000@brightonculturalarts.org
SUMMARY:Drop-in Painting at Main Street Gallery
DESCRIPTION:
URL:https://brightonculturalarts.org/event/drop-in-painting-at-main-street-gallery-37/
LOCATION:Main Street Gallery\, 36 S. Main Street\, Brighton\, CO\, 80601\, United States
CATEGORIES:Art Events
END:VEVENT
BEGIN:VEVENT
DTSTART;TZID=America/Denver:20251008T130000
DTEND;TZID=America/Denver:20251008T150000
DTSTAMP:20260420T084800
CREATED:20250221T182716Z
LAST-MODIFIED:20250221T182716Z
UID:10000301-1759928400-1759935600@brightonculturalarts.org
SUMMARY:Acrylic Painting with Gina De Gorna
DESCRIPTION:
URL:https://brightonculturalarts.org/event/acrylic-painting-with-gina-de-gorna-34/
LOCATION:Main Street Gallery\, 36 S. Main Street\, Brighton\, CO\, 80601\, United States
CATEGORIES:Art Events
END:VEVENT
BEGIN:VEVENT
DTSTART;TZID=America/Denver:20251002T110000
DTEND;TZID=America/Denver:20251002T150000
DTSTAMP:20260420T084800
CREATED:20250222T002506Z
LAST-MODIFIED:20250222T002506Z
UID:10000384-1759402800-1759417200@brightonculturalarts.org
SUMMARY:Drop-in Painting at Main Street Gallery
DESCRIPTION:
URL:https://brightonculturalarts.org/event/drop-in-painting-at-main-street-gallery-36/
LOCATION:Main Street Gallery\, 36 S. Main Street\, Brighton\, CO\, 80601\, United States
CATEGORIES:Art Events
END:VEVENT
BEGIN:VEVENT
DTSTART;TZID=America/Denver:20251001T130000
DTEND;TZID=America/Denver:20251001T150000
DTSTAMP:20260420T084800
CREATED:20250221T182637Z
LAST-MODIFIED:20250221T182637Z
UID:10000300-1759323600-1759330800@brightonculturalarts.org
SUMMARY:Acrylic Painting with Gina De Gorna
DESCRIPTION:
URL:https://brightonculturalarts.org/event/acrylic-painting-with-gina-de-gorna-33/
LOCATION:Main Street Gallery\, 36 S. Main Street\, Brighton\, CO\, 80601\, United States
CATEGORIES:Art Events
END:VEVENT
BEGIN:VEVENT
DTSTART;TZID=America/Denver:20250930T110000
DTEND;TZID=America/Denver:20250930T150000
DTSTAMP:20260420T084800
CREATED:20250725T022306Z
LAST-MODIFIED:20250725T022306Z
UID:10000581-1759230000-1759244400@brightonculturalarts.org
SUMMARY:Main Street Art Gallery Guest Artist Andy Pelster
DESCRIPTION:
URL:https://brightonculturalarts.org/event/main-street-art-gallery-guest-artist-andy-pelster-51/
LOCATION:Main Street Gallery\, 36 S. Main Street\, Brighton\, CO\, 80601\, United States
CATEGORIES:Art Events
END:VEVENT
BEGIN:VEVENT
DTSTART;TZID=America/Denver:20250927T110000
DTEND;TZID=America/Denver:20250927T150000
DTSTAMP:20260420T084800
CREATED:20250725T022227Z
LAST-MODIFIED:20250725T022227Z
UID:10000580-1758970800-1758985200@brightonculturalarts.org
SUMMARY:Main Street Art Gallery Guest Artist Andy Pelster
DESCRIPTION:
URL:https://brightonculturalarts.org/event/main-street-art-gallery-guest-artist-andy-pelster-50/
LOCATION:Main Street Gallery\, 36 S. Main Street\, Brighton\, CO\, 80601\, United States
CATEGORIES:Art Events
END:VEVENT
BEGIN:VEVENT
DTSTART;TZID=America/Denver:20250926T110000
DTEND;TZID=America/Denver:20250926T150000
DTSTAMP:20260420T084800
CREATED:20250725T022140Z
LAST-MODIFIED:20250725T022140Z
UID:10000579-1758884400-1758898800@brightonculturalarts.org
SUMMARY:Main Street Art Gallery Guest Artist Andy Pelster
DESCRIPTION:
URL:https://brightonculturalarts.org/event/main-street-art-gallery-guest-artist-andy-pelster-49/
LOCATION:Main Street Gallery\, 36 S. Main Street\, Brighton\, CO\, 80601\, United States
CATEGORIES:Art Events
END:VEVENT
BEGIN:VEVENT
DTSTART;TZID=America/Denver:20250925T110000
DTEND;TZID=America/Denver:20250925T150000
DTSTAMP:20260420T084800
CREATED:20250725T022052Z
LAST-MODIFIED:20250725T022052Z
UID:10000578-1758798000-1758812400@brightonculturalarts.org
SUMMARY:Main Street Art Gallery Guest Artist Andy Pelster
DESCRIPTION:
URL:https://brightonculturalarts.org/event/main-street-art-gallery-guest-artist-andy-pelster-48/
LOCATION:Main Street Gallery\, 36 S. Main Street\, Brighton\, CO\, 80601\, United States
CATEGORIES:Art Events
END:VEVENT
BEGIN:VEVENT
DTSTART;TZID=America/Denver:20250925T110000
DTEND;TZID=America/Denver:20250925T150000
DTSTAMP:20260420T084800
CREATED:20250222T002404Z
LAST-MODIFIED:20250222T002404Z
UID:10000383-1758798000-1758812400@brightonculturalarts.org
SUMMARY:Drop-in Painting at Main Street Gallery
DESCRIPTION:
URL:https://brightonculturalarts.org/event/drop-in-painting-at-main-street-gallery-35/
LOCATION:Main Street Gallery\, 36 S. Main Street\, Brighton\, CO\, 80601\, United States
CATEGORIES:Art Events
END:VEVENT
BEGIN:VEVENT
DTSTART;TZID=America/Denver:20250924T130000
DTEND;TZID=America/Denver:20250924T150000
DTSTAMP:20260420T084800
CREATED:20250221T182416Z
LAST-MODIFIED:20250221T182416Z
UID:10000299-1758718800-1758726000@brightonculturalarts.org
SUMMARY:Acrylic Painting with Gina De Gorna
DESCRIPTION:
URL:https://brightonculturalarts.org/event/acrylic-painting-with-gina-de-gorna-32/
LOCATION:Main Street Gallery\, 36 S. Main Street\, Brighton\, CO\, 80601\, United States
CATEGORIES:Art Events
END:VEVENT
BEGIN:VEVENT
DTSTART;TZID=America/Denver:20250924T110000
DTEND;TZID=America/Denver:20250924T150000
DTSTAMP:20260420T084800
CREATED:20250725T022012Z
LAST-MODIFIED:20250725T022012Z
UID:10000577-1758711600-1758726000@brightonculturalarts.org
SUMMARY:Main Street Art Gallery Guest Artist Andy Pelster
DESCRIPTION:
URL:https://brightonculturalarts.org/event/main-street-art-gallery-guest-artist-andy-pelster-47/
LOCATION:Main Street Gallery\, 36 S. Main Street\, Brighton\, CO\, 80601\, United States
CATEGORIES:Art Events
END:VEVENT
BEGIN:VEVENT
DTSTART;TZID=America/Denver:20250923T110000
DTEND;TZID=America/Denver:20250923T150000
DTSTAMP:20260420T084800
CREATED:20250725T021909Z
LAST-MODIFIED:20250725T021909Z
UID:10000576-1758625200-1758639600@brightonculturalarts.org
SUMMARY:Main Street Art Gallery Guest Artist Andy Pelster
DESCRIPTION:
URL:https://brightonculturalarts.org/event/main-street-art-gallery-guest-artist-andy-pelster-46/
LOCATION:Main Street Gallery\, 36 S. Main Street\, Brighton\, CO\, 80601\, United States
CATEGORIES:Art Events
END:VEVENT
BEGIN:VEVENT
DTSTART;TZID=America/Denver:20250920T110000
DTEND;TZID=America/Denver:20250920T150000
DTSTAMP:20260420T084800
CREATED:20250725T021828Z
LAST-MODIFIED:20250725T021828Z
UID:10000575-1758366000-1758380400@brightonculturalarts.org
SUMMARY:Main Street Art Gallery Guest Artist Andy Pelster
DESCRIPTION:
URL:https://brightonculturalarts.org/event/main-street-art-gallery-guest-artist-andy-pelster-45/
LOCATION:Main Street Gallery\, 36 S. Main Street\, Brighton\, CO\, 80601\, United States
CATEGORIES:Art Events
END:VEVENT
BEGIN:VEVENT
DTSTART;TZID=America/Denver:20250919T110000
DTEND;TZID=America/Denver:20250919T150000
DTSTAMP:20260420T084800
CREATED:20250725T021745Z
LAST-MODIFIED:20250725T021745Z
UID:10000574-1758279600-1758294000@brightonculturalarts.org
SUMMARY:Main Street Art Gallery Guest Artist Andy Pelster
DESCRIPTION:
URL:https://brightonculturalarts.org/event/main-street-art-gallery-guest-artist-andy-pelster-44/
LOCATION:Main Street Gallery\, 36 S. Main Street\, Brighton\, CO\, 80601\, United States
CATEGORIES:Art Events
END:VEVENT
END:VCALENDAR